BEGIN:VCALENDAR
VERSION:2.0
PRODID:-//»wirundjetzt« - ECPv6.15.17.1//NONSGML v1.0//EN
CALSCALE:GREGORIAN
METHOD:PUBLISH
X-ORIGINAL-URL:https://wirundjetzt.org
X-WR-CALDESC:Veranstaltungen für »wirundjetzt«
REFRESH-INTERVAL;VALUE=DURATION:PT1H
X-Robots-Tag:noindex
X-PUBLISHED-TTL:PT1H
BEGIN:VTIMEZONE
TZID:Europe/Berlin
BEGIN:DAYLIGHT
TZOFFSETFROM:+0100
TZOFFSETTO:+0200
TZNAME:CEST
DTSTART:20220327T010000
END:DAYLIGHT
BEGIN:STANDARD
TZOFFSETFROM:+0200
TZOFFSETTO:+0100
TZNAME:CET
DTSTART:20221030T010000
END:STANDARD
BEGIN:DAYLIGHT
TZOFFSETFROM:+0100
TZOFFSETTO:+0200
TZNAME:CEST
DTSTART:20230326T010000
END:DAYLIGHT
BEGIN:STANDARD
TZOFFSETFROM:+0200
TZOFFSETTO:+0100
TZNAME:CET
DTSTART:20231029T010000
END:STANDARD
BEGIN:DAYLIGHT
TZOFFSETFROM:+0100
TZOFFSETTO:+0200
TZNAME:CEST
DTSTART:20240331T010000
END:DAYLIGHT
BEGIN:STANDARD
TZOFFSETFROM:+0200
TZOFFSETTO:+0100
TZNAME:CET
DTSTART:20241027T010000
END:STANDARD
END:VTIMEZONE
BEGIN:VEVENT
DTSTART;TZID=Europe/Berlin:20230603T113000
DTEND;TZID=Europe/Berlin:20230604T130000
DTSTAMP:20260422T225455
CREATED:20230508T095706Z
LAST-MODIFIED:20230508T095706Z
UID:10000486-1685791800-1685883600@wirundjetzt.org
SUMMARY:Schule für Zuversicht oder: Wie kann das Neue in die Welt?
DESCRIPTION:Tagung 3./4. Juni 2023 in Achberg\, Humboldt-Haus/Internationsles Kulturzentrum Achberg \nVeranstaltung Verein Soziale Skulptur e. V. www.sozialeskulptur.com \nMit einem Vortrag von Hildegard Kurt sowie Gerhard Schuster- dazu Exkursionen und Workshops. \n„Wie kann das Neue in die Welt?“ \nVortrag von Dr. Hildegard Kurt\, anschließend Gespräch\nNeues meint hier nicht neue Spielarten des Kapitalismus\, nicht die digitale Revolution\, nicht neue ökologische Verwüstungen und nicht die Neue Rechte. Vielmehr erkundet dieser Vortrag\, wie einverlebendigendes\, sozial und ökologisch gerechtes Miteinander auf und mit der lebendigen Erde zu bewerkstelligen wäre. Grundlage hierfür ist nicht zuletzt das mit Beuys erweiterte Verständnis von Kunst. Die Idee der Sozialen Plastik verweist auf ein „kreatives Wir“\, das unverzichtbar für eine Zukunft mit Zukunft sein dürfte. Was genau hat es mit diesem „kreativen Wir“ – und seinem  Schatten\, dem regressiven Wir – auf sich? \n„… so etwas wie eine Schule für Zuversicht“ \nVortrag von Gerhard Schuster mit Jazz-Improvisationen des Musikers Thomas Lutz \nDie Zeit spricht neu und alles kommt in Bewegung und wird noch einmal ganz anders. Das ist die These. Doch ist nicht immer Entwicklung und Veränderung? Ohne Frage und im 20. Jahrhundert gab es Veränderung und Fortschritt in nie gekannter Weise. Aber sie führten uns an einen Punkt\, an dem es unmöglich ist\, so ins 21. Jahrhundert hinein weiterzugehen – auf denselben Bahnen und in dem Trott\, in den wir dabei auch geraten sind. Es drohten uns Zivilisation und Lebensgrundlagen verloren zu gehen. Doch gerade das ist es auch\, was jetzt alles in Bewegung setzen kann. Und es geschieht auch schon. Die Natur spricht\, aus dem Gleichgewicht gebracht\, immer deutlicher mit und oft wollen auch unsere Seelen nicht mehr mitmachen und es wird klarer: Wir brauchen einen neuen Ausblick und ein Denken\, Fühlen und Wollen\, das die Wirklichkeit trifft. Und die Verständigung darüber\, über die ganze Erde hin\, mit allen. In eine soziale Zukunft\, die das Leben trägt. \nAlles weitere hier
URL:https://wirundjetzt.org/event/schule-fuer-zuversicht-oder-wie-kann-das-neue-in-die-welt/
LOCATION:Internationales Kulturzentrum Achberg (INKA)\, Panoramastraße 30\, Achberg\, 88174\, Deutschland
CATEGORIES:Tagung
GEO:47.6117378;9.709511
X-APPLE-STRUCTURED-LOCATION;VALUE=URI;X-ADDRESS=Internationales Kulturzentrum Achberg (INKA) Panoramastraße 30 Achberg 88174 Deutschland;X-APPLE-RADIUS=500;X-TITLE=Panoramastraße 30:geo:9.709511,47.6117378
END:VEVENT
BEGIN:VEVENT
DTSTART;TZID=Europe/Berlin:20230607T160000
DTEND;TZID=Europe/Berlin:20230607T160000
DTSTAMP:20260422T225455
CREATED:20230313T200106Z
LAST-MODIFIED:20230313T200106Z
UID:10000499-1686153600-1686153600@wirundjetzt.org
SUMMARY:Einführung in die Nachhaltigkeit an der Hochschule Ravensburg-Weingarten - wöchentlich
DESCRIPTION:An der Hochschule Ravensbrug-Weingarten hält Prof. Wolfgang Ertel vom Institut für Künstliche Intelligenz wöchentlich ab dem 15.3.23\, immer Mittwochs frei für alle Bürger*innen eine Vorlesung „Einführung in die Nachhaltigkeit“. Die Teilnahme ist kostenfrei. \nBasierend auf wissenschaftlichen Fakten stellt Prof. Wolfgang Ertel Modelle für Nachhaltigkeit\, Klimaneutralität und erneuerbare Energievorsorgung in Wirtschaft und Gesellschaft vor. Begleitet wird die Vorlesung von der Climate Challenge\, bei der die Teilnehmer*innen versuchen\, Lebensqualität und Umweltschutz im Alltag zu verbessern. \nNähere Informationen auf hs-weingarten.de/~ertel
URL:https://wirundjetzt.org/event/einfuehrung-in-die-nachhaltigkeit-an-der-hochschule-ravensburg-weingarten-woechentlich/2023-06-07/
LOCATION:Hochschule\, Raum M107\, Lazarettstraße 5\, Ravensburg\, Deutschland
CATEGORIES:Vorlesung
END:VEVENT
BEGIN:VEVENT
DTSTART;TZID=Europe/Berlin:20230609T200000
DTEND;TZID=Europe/Berlin:20230609T230000
DTSTAMP:20260422T225455
CREATED:20230523T183819Z
LAST-MODIFIED:20230523T183819Z
UID:10000873-1686340800-1686351600@wirundjetzt.org
SUMMARY:Dance Again in Wilhelmsdorf
DESCRIPTION:Bis zum Sommer gibt es noch einmal DANCE AGAIN in der Kulturscheune Wilhelmsdorf. Von Juli bis September geht Dance Again in eine Sommerpause.\nWeiter geht es am 13. Oktober und dann jeweils jeden 2. Freitag im Monat. \nWer selbst gerne in den Newsletter aufgenommen werden möchte\, kann sich hier zum Newsletter anmelden.
URL:https://wirundjetzt.org/event/dance-again-in-wilhelmsdorf/2023-06-09/
LOCATION:Scheune Kulturzentrum Wilhelmsdorf\, Zußdorfer Straße 47\, Wilhelmsdorf\, Baden-Württemberg\, 88271
CATEGORIES:Tanzen
END:VEVENT
BEGIN:VEVENT
DTSTART;TZID=Europe/Berlin:20230610T150000
DTEND;TZID=Europe/Berlin:20230610T183000
DTSTAMP:20260422T225455
CREATED:20230531T092734Z
LAST-MODIFIED:20230531T092734Z
UID:10000878-1686409200-1686421800@wirundjetzt.org
SUMMARY:Kompost Workshop im Paradiesgarten
DESCRIPTION:Kompost Workshop im Paradiesgarten\n \nAlles wird kompostiert und trägt dazu bei\, einen lebendigen Boden zu haben. \nDie Kompostierung ist einer der schönsten Arbeiten im Garten! \nAn diesen Nachmittag lernen wir über der Boden als ein Lebendiges Ökosystem. Verschiedene Arten der Kompostierung die das Bodenleben fördern und damit zu einen fruchtbaren und gesunden Gartenboden beitragen. Wir schichten zusammen einen Heißkompost auf\, eine Erfahrung die eine Grundlage dafür schafft später selbst im eigenen Garten in der Lage zu sein\, einen guten Kompost herzustellen! \nDer Workshop wird geleitet von Roos Derks\, die einen wundervollen Permakutlturgarten im Deggenhausertal hat. \n \nTermin: 10.06.23 \nOrt: Paradiesgarten Lellwangen \nUhrzeit: 15.00 bis 18.30 Uhr \nKosten: Auf freiwilliger Spendenbasis – Richtwert 10-15 Euro pro Person \nAnmeldung bei Simon Neitzel \nMail: simon.neitzel@wirundjetzt.org \n \n 
URL:https://wirundjetzt.org/event/kompost-workshop-im-paradiesgarten/
LOCATION:Paradiesgarten Lellwangen\, Lellwangen\, Deutschland
CATEGORIES:Workshop,»wirundjetzt«-Veranstaltung
GEO:47.7984907;9.3665322
END:VEVENT
BEGIN:VEVENT
DTSTART;TZID=Europe/Berlin:20230614T160000
DTEND;TZID=Europe/Berlin:20230614T160000
DTSTAMP:20260422T225455
CREATED:20230313T200106Z
LAST-MODIFIED:20230313T200106Z
UID:10000500-1686758400-1686758400@wirundjetzt.org
SUMMARY:Einführung in die Nachhaltigkeit an der Hochschule Ravensburg-Weingarten - wöchentlich
DESCRIPTION:An der Hochschule Ravensbrug-Weingarten hält Prof. Wolfgang Ertel vom Institut für Künstliche Intelligenz wöchentlich ab dem 15.3.23\, immer Mittwochs frei für alle Bürger*innen eine Vorlesung „Einführung in die Nachhaltigkeit“. Die Teilnahme ist kostenfrei. \nBasierend auf wissenschaftlichen Fakten stellt Prof. Wolfgang Ertel Modelle für Nachhaltigkeit\, Klimaneutralität und erneuerbare Energievorsorgung in Wirtschaft und Gesellschaft vor. Begleitet wird die Vorlesung von der Climate Challenge\, bei der die Teilnehmer*innen versuchen\, Lebensqualität und Umweltschutz im Alltag zu verbessern. \nNähere Informationen auf hs-weingarten.de/~ertel
URL:https://wirundjetzt.org/event/einfuehrung-in-die-nachhaltigkeit-an-der-hochschule-ravensburg-weingarten-woechentlich/2023-06-14/
LOCATION:Hochschule\, Raum M107\, Lazarettstraße 5\, Ravensburg\, Deutschland
CATEGORIES:Vorlesung
END:VEVENT
BEGIN:VEVENT
DTSTART;TZID=Europe/Berlin:20230615T190000
DTEND;TZID=Europe/Berlin:20230615T203000
DTSTAMP:20260422T225455
CREATED:20211012T105707Z
LAST-MODIFIED:20241010T172512Z
UID:10001159-1686855600-1686861000@wirundjetzt.org
SUMMARY:Friedensfeuer - da wo du bist!
DESCRIPTION:Im Sommer waren wir mit Freunden am Bodensee und träumten über Orte der Begegnung und der Potentialentfaltung. \nDabei ist die Idee geboren\, immer am 15. eines jeden Monats ein Friedensfeuer zu entzünden – alleine\, mit Freunden\, mit der Familie\, mit dem Partner oder den Nachbarn… \nErster Termin war der 15.8.21  20.30 Uhr – für alle weiteren 15. eines Monats immer zum Zeitpunkt wenn es dunkel wird (die Sonnenuntergangszeit kann man im Internet jeweils nachlesen)\, ca. für eine Stunde! \nDie Rückmeldungen waren großartig und überwältigten uns. \nFreunde machten alleine ein Feuer\, mit Freunden\, mit der Familie\, oder mit wildfremden Menschen! \nEs gab die\, die mit einer Kerze im Wohnzimmer den Frieden feierten und andere\, die auf der Terrasse oder im freien unter dem Sternenhimmel ihr Friedensfeuer anzündeten und die Stille feierten. \nMenschen aus Portugal\, aus Stuttgart\, aus Karlsruhe\, am Bodensee\, am Ufer\, im Hinterland und wer weiß wo noch alles zündeten ein Feuer für den Frieden an und gingen in einen Dialog mit sich selbst\, der Natur oder ihren Liebsten. \nDafür sind wir sehr dankbar und freuen uns auf viele kleine und große Feuer. \n \nGanz egal wie und mit wem Du ein Friedensfeuer macht\, es ist wichtig einfach FRIEDEN zu SEIN. \nKein Feuer für den Frieden\, oder gegen Krieg – einfach nur Frieden sein. \nFeiert euch\, das Leben\, die Liebe\, die Erde und den Frieden. \nSingt gemeinsam Lieder\, geht in die Stille\, meditiert und betet\, lauscht der Natur\, teilt eure Gedanken und Geschichten\, genießt die Zeit allein oder gemeinsam und tragt so zum Verständnis und zum Mitgefühl der Erde bei. \nNatürlich kann es auch eine Kerze sein\, die Du in die Mitte stellst und mit Deinen Liebsten den Frieden feierst. \nEs gibt keinen Veranstalter\, keinen Verantwortlichen\, keine vorgegebenen Vorstellungen\, oder eine bestimmte religiöse oder spirituelle Richtung\, der das Friedensfeuer angehört oder der Du angehören musst\, um dieses Feuer zu machen. Es gilt es einfach nur zu tun\, wenn Du den Ruf dazu verspürst – entweder selber iniziierend oder wenn Du dazu eingeladen wirst. \nEntscheide selbst\, wo Du\, wie Du und mit wem Du ein Friedensfeuer machen willst. \nGestalte den Abend und das Feuer so\, wie Du und Dein Herz es gestalten möchten. \nMit herzlichen Grüßen \nSarina und Simon
URL:https://wirundjetzt.org/event/friedensfeuer-da-wo-du-bist/2023-06-15/
CATEGORIES:Aktionen,Bewusstsein,Dialog,gemeinschaft
END:VEVENT
BEGIN:VEVENT
DTSTART;TZID=Europe/Berlin:20230616T180000
DTEND;TZID=Europe/Berlin:20230616T230000
DTSTAMP:20260422T225455
CREATED:20230421T201903Z
LAST-MODIFIED:20230421T201903Z
UID:10000477-1686938400-1686956400@wirundjetzt.org
SUMMARY:TERRASSENEVENT HEGGELBACH
DESCRIPTION:WEINGUT VOLLMAYER\n\n\n\n\nBIOWEINE VOM HOHENTWIEL\n\n\n\n\n„Vom sonnenverwöhnten Südhang des Hohentwiel\, höchste Weinlage Deutschlands“ \nKulinarische Genüsse mit Schwerpunkt Käse (3 Gänge) und ausgesuchten Weinen\, sowie einem Käse-Wein-Pairing mit professioneller Begleitung. Die beiden Schwestern- Jungwinzerinnen Lisa\, als Sommelière und Kellermeisterin\, und Desiree\, als Winzerin\, begleiten Euch durch diesen tollen Abend. \n\n\n\n\nFreitag\, 16. Juni 2023\n18:00 – ca. 23:00\nhttps://terrassenevent-heggelbach.de/produkt/event-weingut-vollmayer/
URL:https://wirundjetzt.org/event/terrassenevent-heggelbach-2/
END:VEVENT
BEGIN:VEVENT
DTSTART;TZID=Europe/Berlin:20230621T160000
DTEND;TZID=Europe/Berlin:20230621T160000
DTSTAMP:20260422T225455
CREATED:20230313T200106Z
LAST-MODIFIED:20230313T200106Z
UID:10000501-1687363200-1687363200@wirundjetzt.org
SUMMARY:Einführung in die Nachhaltigkeit an der Hochschule Ravensburg-Weingarten - wöchentlich
DESCRIPTION:An der Hochschule Ravensbrug-Weingarten hält Prof. Wolfgang Ertel vom Institut für Künstliche Intelligenz wöchentlich ab dem 15.3.23\, immer Mittwochs frei für alle Bürger*innen eine Vorlesung „Einführung in die Nachhaltigkeit“. Die Teilnahme ist kostenfrei. \nBasierend auf wissenschaftlichen Fakten stellt Prof. Wolfgang Ertel Modelle für Nachhaltigkeit\, Klimaneutralität und erneuerbare Energievorsorgung in Wirtschaft und Gesellschaft vor. Begleitet wird die Vorlesung von der Climate Challenge\, bei der die Teilnehmer*innen versuchen\, Lebensqualität und Umweltschutz im Alltag zu verbessern. \nNähere Informationen auf hs-weingarten.de/~ertel
URL:https://wirundjetzt.org/event/einfuehrung-in-die-nachhaltigkeit-an-der-hochschule-ravensburg-weingarten-woechentlich/2023-06-21/
LOCATION:Hochschule\, Raum M107\, Lazarettstraße 5\, Ravensburg\, Deutschland
CATEGORIES:Vorlesung
END:VEVENT
BEGIN:VEVENT
DTSTART;TZID=Europe/Berlin:20230621T200000
DTEND;TZID=Europe/Berlin:20230621T200000
DTSTAMP:20260422T225455
CREATED:20230525T115822Z
LAST-MODIFIED:20230525T115931Z
UID:10000875-1687377600-1687377600@wirundjetzt.org
SUMMARY:Faktencheck "Ist Hafermilch die Lösung?" Vortrag von Prof. Windisch
DESCRIPTION:Wie man sich nachhaltig\, umweltbewusst\, regional und saisonal ernährt\, dabei darum bemüht ist\, Tierwohl zu sichern und die Artenvielfalt zu erhalten\, außerdem versucht den Welthunger und exzessiven Wasserverbrauch einzudämmen\, zugleich Wert legt auf eine menschenwürdige Produktion und fairen Handel und – nicht zuletzt – den Klimawandel stoppt. \nDie wissenschaftlich fundierten Informationen dazu gibt Prof. Windisch von der TU München an diesem Abend in seinem Vortrag „Ist Hafermilch die Lösung?“ weiter. \nMögliche Antworten gibt es im anschließenden Gespräch mit Publikum und Podiumsgästen\, moderiert von Peter Aulmann (Elobau Stiftung). \nEintritt: 8€ (Der Erlös wird einem gemeinnützigen Zweck zugeführt)
URL:https://wirundjetzt.org/event/faktencheck-ist-hafermilch-die-loesung-vortrag-von-prof-windisch/
LOCATION:Balthasar\, Roggenzell 3\, Wangen im Allgäu\, Baden-Württemberg\, 88239\, Deutschland
CATEGORIES:Bewusstsein,Gesprächsrunde,Vortrag
ORGANIZER;CN="Dorfleben Roggenzell e.V.":MAILTO:dorfleben-roggenzell@t-online.de
END:VEVENT
BEGIN:VEVENT
DTSTART;TZID=Europe/Berlin:20230628T140000
DTEND;TZID=Europe/Berlin:20230628T173000
DTSTAMP:20260422T225455
CREATED:20230531T132727Z
LAST-MODIFIED:20230531T132727Z
UID:10000879-1687960800-1687973400@wirundjetzt.org
SUMMARY:workshop zu "Bio kann jeder in der Kita- und Schulverpflegung" in Friedrichshafen
DESCRIPTION:Der Verein Acker e.V. veranstaltet gemeinsam mit dem ILE-Bodensee e. V./BLE einen Praxis-Workshop\, der sich an pädagogische und hauswirtschaftliche Fachkräfte an Schulen/in Kitas\, Schul- und Kitaleitungen\, Küchenleitungen\, Küchenkräfte\, Mitarbeitende von Einrichtungsträgern\, Lehrkräfte\, Erzieherinnen und Erzieher\, Verantwortliche für die Vergabe von Verpflegungsleistungen\, Elternvertreter richtet. \n\n\n\n\nDer Trend zu vegetarischen Alternativen ist mittlerweile auch in der Kita- und Schulverpflegung angekommen. Kreativität\, neue Ideen und Abwechslung sind gefragt. Gemeinsam wird ergründet\, wie „Ackern mit Kindern“ ganz praktisch in die Bildungsarbeit in Kitas auch ganz praktisch integriert und umgesetzt werden kann. Praktische Erfahrungsberichte sowie Anleitungen und Tipps zur praktischen Umsetzung erwarten Euch aus dem spannenden Bildungsangebot „GemüseAckerdemie“ an diesem Tag. Eigene Erfahrungen können ausgetauscht werden. \n\n\n\n\n\n\n\n\nWeitere Informationen und die Anmeldung bis 25.6. unter: \nMichael Baldenhofer\, michael.baldenhofer@ile-bodensee.de\, Tel.: 07771 / 916244-4 \nBLE_Biokannjeder_Einladung 28-06-2023 \n  \n\n\n\n\n 
URL:https://wirundjetzt.org/event/workshop-zu-bio-kann-jeder-in-der-kita-und-schulverpflegung-in-friedrichshafen/
LOCATION:Katholisch Kindertagesstätte St. Antonius\, Fröbelweg 25\, Friedrichshafen\, 88045
CATEGORIES:Workshop
END:VEVENT
BEGIN:VEVENT
DTSTART;TZID=Europe/Berlin:20230628T160000
DTEND;TZID=Europe/Berlin:20230628T160000
DTSTAMP:20260422T225455
CREATED:20230313T200106Z
LAST-MODIFIED:20230313T200106Z
UID:10000502-1687968000-1687968000@wirundjetzt.org
SUMMARY:Einführung in die Nachhaltigkeit an der Hochschule Ravensburg-Weingarten - wöchentlich
DESCRIPTION:An der Hochschule Ravensbrug-Weingarten hält Prof. Wolfgang Ertel vom Institut für Künstliche Intelligenz wöchentlich ab dem 15.3.23\, immer Mittwochs frei für alle Bürger*innen eine Vorlesung „Einführung in die Nachhaltigkeit“. Die Teilnahme ist kostenfrei. \nBasierend auf wissenschaftlichen Fakten stellt Prof. Wolfgang Ertel Modelle für Nachhaltigkeit\, Klimaneutralität und erneuerbare Energievorsorgung in Wirtschaft und Gesellschaft vor. Begleitet wird die Vorlesung von der Climate Challenge\, bei der die Teilnehmer*innen versuchen\, Lebensqualität und Umweltschutz im Alltag zu verbessern. \nNähere Informationen auf hs-weingarten.de/~ertel
URL:https://wirundjetzt.org/event/einfuehrung-in-die-nachhaltigkeit-an-der-hochschule-ravensburg-weingarten-woechentlich/2023-06-28/
LOCATION:Hochschule\, Raum M107\, Lazarettstraße 5\, Ravensburg\, Deutschland
CATEGORIES:Vorlesung
END:VEVENT
BEGIN:VEVENT
DTSTART;TZID=Europe/Berlin:20230628T180000
DTEND;TZID=Europe/Berlin:20230628T193000
DTSTAMP:20260422T225455
CREATED:20230619T205657Z
LAST-MODIFIED:20230622T125644Z
UID:10000866-1687975200-1687980600@wirundjetzt.org
SUMMARY:WIRtuelle Infoveranstaltung zu wirundjetzt & den Förderungen der DSEE
DESCRIPTION:Transform D goes Gemeinwohl-Café\n \nDie Deutsche Stiftung für Engagement und Ehrenamt (DSEE) stellt ihre Förderprogramme in der WIRtuellen Welt von wirundjetzt vor. \nSeit 2021 unterstützt die DSEE bundesweit Engagement und Ehrenamt mit Service- und Bildungsangeboten. \nSie fördert zudem gemeinnützige Organisationen in verschiedenen Förderprogrammen. \nBei diesem Get-together stellt sich die Stiftung vor und beantwortet eure Fragen. \nAls praktisches Beispiel\, was durch eine Förderung der DSEE entstehen kann\, stellt wirundjetzt e.V. seine neu geschaffene WIRtuelle Welt vor. \n  \nSei dabei – ZOOM Link hier:\n  \n   
URL:https://wirundjetzt.org/event/wirtuelle-infoveranstaltung-zu-wirundjetzt-den-foerderungen-der-dsee/
CATEGORIES:zoommeeting,»wirundjetzt«-Veranstaltung
END:VEVENT
BEGIN:VEVENT
DTSTART;TZID=Europe/Berlin:20230629T190000
DTEND;TZID=Europe/Berlin:20230629T210000
DTSTAMP:20260422T225455
CREATED:20230207T174229Z
LAST-MODIFIED:20230207T174534Z
UID:10000864-1688065200-1688072400@wirundjetzt.org
SUMMARY:Talente Allgäu-Bodensee Regionaltreffen Wangen
DESCRIPTION:Donnerstag 29.06.\, 19:00 Uhr\, Regionaltreffen Wangen\, Speisesaal der Talanderschule \nDer Tauschring Talente Allgäu-Bodensee bietet eine Plattform zum Austausch von Dienstleistungen und Waren.\nMitmachen können alle\, die die Grundsätze akzeptieren\, egal welchen Alters und mit welchen Fähigkeiten.\nDer Tausch wird ohne gesetzliche Zahlungsmittel durchgeführt\, jedoch auf entsprechenden Konten transparent dokumentiert.\nDie Verrechnungseinheit ist ein Talent.\nTalente Allgäu Bodensee basiert auf: \n\ngelebter Menschlichkeit\neiner Gemeinschaft von Menschen\, Organisationen\, Institutionen und Unternehmen\,\ndie lokale Nachbarschaftshilfe fördern\nRegionalität\, Nachhaltigkeit\nAustausch von Erfahrung und Wissen\nreparieren statt wegwerfen
URL:https://wirundjetzt.org/event/talente-allgaeu-bodensee-regionaltreffen-wangen/
LOCATION:Talanderschule\, Christian-Fopp-Str. 4\, Wangen\, 88239\, Deutschland
CATEGORIES:Tauschtreffen
END:VEVENT
END:VCALENDAR