BEGIN:VCALENDAR
VERSION:2.0
PRODID:-//»wirundjetzt« - ECPv6.15.17.1//NONSGML v1.0//EN
CALSCALE:GREGORIAN
METHOD:PUBLISH
X-WR-CALNAME:»wirundjetzt«
X-ORIGINAL-URL:https://wirundjetzt.org
X-WR-CALDESC:Veranstaltungen für »wirundjetzt«
REFRESH-INTERVAL;VALUE=DURATION:PT1H
X-Robots-Tag:noindex
X-PUBLISHED-TTL:PT1H
BEGIN:VTIMEZONE
TZID:Europe/Berlin
BEGIN:DAYLIGHT
TZOFFSETFROM:+0100
TZOFFSETTO:+0200
TZNAME:CEST
DTSTART:20210328T010000
END:DAYLIGHT
BEGIN:STANDARD
TZOFFSETFROM:+0200
TZOFFSETTO:+0100
TZNAME:CET
DTSTART:20211031T010000
END:STANDARD
BEGIN:DAYLIGHT
TZOFFSETFROM:+0100
TZOFFSETTO:+0200
TZNAME:CEST
DTSTART:20220327T010000
END:DAYLIGHT
BEGIN:STANDARD
TZOFFSETFROM:+0200
TZOFFSETTO:+0100
TZNAME:CET
DTSTART:20221030T010000
END:STANDARD
BEGIN:DAYLIGHT
TZOFFSETFROM:+0100
TZOFFSETTO:+0200
TZNAME:CEST
DTSTART:20230326T010000
END:DAYLIGHT
BEGIN:STANDARD
TZOFFSETFROM:+0200
TZOFFSETTO:+0100
TZNAME:CET
DTSTART:20231029T010000
END:STANDARD
END:VTIMEZONE
BEGIN:VEVENT
DTSTART;VALUE=DATE:20220801
DTEND;VALUE=DATE:20220810
DTSTAMP:20260420T080329
CREATED:20220527T133541Z
LAST-MODIFIED:20220527T133541Z
UID:10000412-1659312000-1660089599@wirundjetzt.org
SUMMARY:Zukunftsakademie Freiburg
DESCRIPTION:Die Zukunftsakademie Freiburg (1. bis 9.8.2022 & 16.-17.3.2023) ist ein Think-Tank-Programm für ca. 30 junge Vor- und Weiterdenker*innnen und Tranformateur*innen von 16 bis 26 Jahren zur Überwindung der multiplen Krise. Die Sommerakademie für transformative Projekte beinhaltet Workshops\, Vorträge\, Debatten\, Arbeit an der sozial-ökologischen Transformation (Entwicklung eigener Projekte und Konzepte)\, Exkursionen und Rahmenprogramm. Prominente Vordenker der Transformationsbewegung sind als Workshopleiter*innen und Vortragende für die Zukunftsakademie engagiert: z. B. Luisa Neubauer (FfF)\, Ulrich Brand („Imperiale Lebensweise“)\, Sabine Leidig („Linksverkehr“)\, Tobi Rosswog („Aktionsbuch Verkehrswende“) und viele weitere. Die Zukunftsakademie ist eine nichtkommerzielle Veranstaltung und wird u. A. von der Bundeszentrale für politische Bildung finanziert. Die Kostenbeteiligung für Teilnehmende inkl. Unterkunft\, Verpflegung\, Veranstaltungen und Unterstützung/Betreuung im Nachgang der Zukunftsakademie beträgt 300 Euro bzw. 150 Euro ermäßigt. \nVeranstaltungsort ist die katholische Akademie in Freiburg. \nwww.zukunftsakademie-freiburg.de
URL:https://wirundjetzt.org/event/zukunftsakademie-freiburg/
LOCATION:katholische Akademie in Freiburg\, Wintererstraße 1\, Freiburg\, Baden-Württemberg\, 79104\, Deutschland
CATEGORIES:Transition,Vorlesung,Workshop
ORGANIZER;CN="Verein Zukunftsakademie Freiburg":MAILTO:info@zukunftsakademie-freiburg.de
END:VEVENT
BEGIN:VEVENT
DTSTART;TZID=Europe/Berlin:20220812T180000
DTEND;TZID=Europe/Berlin:20220812T213000
DTSTAMP:20260420T080329
CREATED:20220727T093150Z
LAST-MODIFIED:20220727T093150Z
UID:10000814-1660327200-1660339800@wirundjetzt.org
SUMMARY:Musik unter Reben - Makama auf dem Pilzhof Steidle
DESCRIPTION:Makama \nSchöne Melodien & wilde Klänge von Flöte und Geige\, rhythmische Gitarre\, grooviger Bass. Facettenreiche eigene Songs mit Texten in Englisch und Deutsch mehrstimmige Gesänge\, Raum für Improvisation. Irgendwo zwischen Weltmusik\, Jazz und Indie-Folk entsteht unsere ganz eigene musikalische Welt in der wir uns frei bewegen .\n \nEinlass 18 Uhr\, Beginn: 19:30 Uhr Eintritt: Hutsammlung \nPilzhof Steidle\, Dorfstraße 11\, 88682 Salem-Grasbeuren
URL:https://wirundjetzt.org/event/musik-unter-reben-makama-auf-dem-pilzhof-steidle/
LOCATION:Pilzhof Steidle\, Dorfst. 11\, Salem-Grasbeuren\, 88682\, Deutschland
END:VEVENT
BEGIN:VEVENT
DTSTART;TZID=Europe/Berlin:20220815T190000
DTEND;TZID=Europe/Berlin:20220815T203000
DTSTAMP:20260420T080329
CREATED:20211012T105707Z
LAST-MODIFIED:20241010T172512Z
UID:10001150-1660590000-1660595400@wirundjetzt.org
SUMMARY:Friedensfeuer - da wo du bist!
DESCRIPTION:Im Sommer waren wir mit Freunden am Bodensee und träumten über Orte der Begegnung und der Potentialentfaltung. \nDabei ist die Idee geboren\, immer am 15. eines jeden Monats ein Friedensfeuer zu entzünden – alleine\, mit Freunden\, mit der Familie\, mit dem Partner oder den Nachbarn… \nErster Termin war der 15.8.21  20.30 Uhr – für alle weiteren 15. eines Monats immer zum Zeitpunkt wenn es dunkel wird (die Sonnenuntergangszeit kann man im Internet jeweils nachlesen)\, ca. für eine Stunde! \nDie Rückmeldungen waren großartig und überwältigten uns. \nFreunde machten alleine ein Feuer\, mit Freunden\, mit der Familie\, oder mit wildfremden Menschen! \nEs gab die\, die mit einer Kerze im Wohnzimmer den Frieden feierten und andere\, die auf der Terrasse oder im freien unter dem Sternenhimmel ihr Friedensfeuer anzündeten und die Stille feierten. \nMenschen aus Portugal\, aus Stuttgart\, aus Karlsruhe\, am Bodensee\, am Ufer\, im Hinterland und wer weiß wo noch alles zündeten ein Feuer für den Frieden an und gingen in einen Dialog mit sich selbst\, der Natur oder ihren Liebsten. \nDafür sind wir sehr dankbar und freuen uns auf viele kleine und große Feuer. \n \nGanz egal wie und mit wem Du ein Friedensfeuer macht\, es ist wichtig einfach FRIEDEN zu SEIN. \nKein Feuer für den Frieden\, oder gegen Krieg – einfach nur Frieden sein. \nFeiert euch\, das Leben\, die Liebe\, die Erde und den Frieden. \nSingt gemeinsam Lieder\, geht in die Stille\, meditiert und betet\, lauscht der Natur\, teilt eure Gedanken und Geschichten\, genießt die Zeit allein oder gemeinsam und tragt so zum Verständnis und zum Mitgefühl der Erde bei. \nNatürlich kann es auch eine Kerze sein\, die Du in die Mitte stellst und mit Deinen Liebsten den Frieden feierst. \nEs gibt keinen Veranstalter\, keinen Verantwortlichen\, keine vorgegebenen Vorstellungen\, oder eine bestimmte religiöse oder spirituelle Richtung\, der das Friedensfeuer angehört oder der Du angehören musst\, um dieses Feuer zu machen. Es gilt es einfach nur zu tun\, wenn Du den Ruf dazu verspürst – entweder selber iniziierend oder wenn Du dazu eingeladen wirst. \nEntscheide selbst\, wo Du\, wie Du und mit wem Du ein Friedensfeuer machen willst. \nGestalte den Abend und das Feuer so\, wie Du und Dein Herz es gestalten möchten. \nMit herzlichen Grüßen \nSarina und Simon
URL:https://wirundjetzt.org/event/friedensfeuer-da-wo-du-bist/2022-08-15/
LOCATION:Baden-Württemberg
CATEGORIES:Aktionen,Bewusstsein,Dialog,gemeinschaft
END:VEVENT
BEGIN:VEVENT
DTSTART;VALUE=DATE:20220823
DTEND;VALUE=DATE:20220826
DTSTAMP:20260420T080330
CREATED:20220711T205028Z
LAST-MODIFIED:20220802T071341Z
UID:10000810-1661212800-1661471999@wirundjetzt.org
SUMMARY:Art of Hosting and Harvesting 2\,5-tägiges Training in Hard (A)
DESCRIPTION:Art of Hosting als gelebte Kooperationskultur zur Umsetzung der Nachhaltigkeitsziele kann unterstützend sein als \n\neine Praxis\, um komplexen Herausforderungen innovativ zu begegnen.\nein Set aus Methoden und Techniken\, um mit unterschiedlichen Menschen kooperativ breit getragene Lösungen zu erarbeiten.\nProzessdesigns – basierend auf Selbstorganisation und Co-Intelligenz – fokussiert und ergebnisorientiert planen.\neine Haltung des Miteinanders und der Offenheit gegenüber dem Neuen.\nkreativ gemeinsam impulsgebende Arbeitsweisen ausprobieren.\nweltweite Anwendungen in Organisationen\, Gemeinden\, Unternehmen\, Verwaltung\, Politik\, Vereinen\, Kirche\,… in Kleingruppen oder mit 500 Menschen.\n\nUnter Harvesting ist gemeint: \n\nStrategisches „Ernten“\, um so die Potentiale der Gruppe noch besser zu nutzen und sichtbar zu machen.\nInhalte sinnvoll verdichten und kompakt darstellen.\nErgebnisse auf mehreren Ebenen erkennbar und verständlich transportieren.\nDen Einsatz verschiedener Methoden sinnvoll planen.\n\nÜber den Inhalt\, die Referent*innen und den Rahmen könnt ihr mehr erfahren unter \nhttps://www.veranstaltungen-vorarlberg.at/de/amt-der-vorarlberger-landesregierung-buero-fuer-freiwilliges-engagement-und-beteiligung-art-of-hosting-training/hauptseite/
URL:https://wirundjetzt.org/event/art-of-hosting-and-harvesting-25-taegiges-training-in-hard-a/
LOCATION:Schule am See Seestraße 58 6971 Hard\, Seestraße 5\, Hard\, 6971
CATEGORIES:Art of Hosting
END:VEVENT
BEGIN:VEVENT
DTSTART;TZID=Europe/Berlin:20220826T190000
DTEND;TZID=Europe/Berlin:20220826T210000
DTSTAMP:20260420T080330
CREATED:20220808T134519Z
LAST-MODIFIED:20220831T193902Z
UID:10000821-1661540400-1661547600@wirundjetzt.org
SUMMARY:Vortrag mit Prof. Ralf Otterpohl\, "Regenerative Landwirtschaft und Bodenaufbau" in Überlingen-Bambergen
DESCRIPTION:Im Nachgang der Veranstaltung\, kam eine Mail mit folgenden Information des Netzwerkes solidarische Landwirtschaft Deutschland\, die sich von der Veranstaltung distanziert! \nDie „Solawi Linzgau“ lädt morgen zum Vortrag von Prof. Ralf Otterpohl\, … \nBei der Beschäftigung mit ihm ist man schnell bei Verschwörungstheorien\, Anastasia-Bezügen\, Verbindungen in „rechte Netzwerke“ usw.? \nWir hatten früher auch bereits das Buch „Das neue Dorf“ von ihm ausliegen auf Oekom-Büchertischen und wurden dann extern darauf aufmerksam gemacht\, dass eine kritische Beschäftigung mit ihm als Privatperson und Vortragsredner (losgelöst von seiner Professorentätigkeit als Leiter des Instituts für Abwasserwirtschaft und Gewässerschutz) von Bedarf ist! \nEin paar Beispiele aus dem Diskurs: \n1. ARD Magazin Kontraste via Wikipedia: „Gegenüber dem Magazin Kontraste behauptete er\, dass die Existenz von Chemtrails wissenschaftlich bewiesen sei. “ \n2. Belltower News in 2019: „Ein Hamburger Professor hält Vorträge\, in denen er für nachhaltige Siedlungsgründung begeistern will. Dabei verbreitet er Verschwörungsideologien und wirbt für die rechtsesoterische Anastasia-Bewegung. Auch in seiner Lehre wird seine Ideologie deutlich.“: Zwischen Wissenschaft und Rechtsesoterik: Verbreitet ein Professor der Technischen Uni Hamburg Verschwörungsideologien? – Belltower.News \n3. Bayerischer Rundfunk: Otterpohl steht der Anastasia-Bewegung nahe: https://www.youtube.com/watch?v=sp0sx6eZiTk&feature=youtu.be&t=712 \n4. Taz 2020: „Der Uniprofessor ist als Klimawandelleugner und Verschwörungstheoretiker zumindest umstritten: Studenten der TU Hamburg beschwerten sich erst im Februar in einem offenen Brief über Otterpohl\, weil er in Univeranstaltungen über den „CO2-Mythos“ referiert hatte und „derjenigen Person 2.000 Euro geboten hat\, die die Auswirkungen von CO2 nachweisen könne“.“ Rechter Esoteriker bei Naturkostfirma: Chemtrails bei Rapunzel – taz.de​ \n5. ZEIT Artikel von letztens in 2022: Aktuell mit Bezügen ins Rechte AfD Umfeld bei einer Veranstaltung: https://www.zeit.de/gesellschaft/zeitgeschehen/2022-05/markus-strauss-afd-wildpflanzenpark-naturschutz?utm_referrer=https%3A%2F%2Fwww.google.com%2F \nRapunzel hatte sich im Nachgang distanziert … \nDie SOLAWI-Initiative Linzgau lädt ein zu einem Vortrag von Ralf Otterpohl.\nEr lehrt und forscht in der TU Hamburg zum Thema ressourceneffizienter Abwassersysteme\, ländlicher Entwicklung und zum Gesamtkonzept „Das Neue Dorf“.Aus seinen vielfältigen Projekten in Afrika\, Indien\, China führt z.B. das Projekt Slope-Farming Arba Minch in Äthiopien zu weiteren Forschungstätigkeiten zur Erosionsumkehr und zum Erhalt lebendiger Böden. Entscheidende Entwicklungen im Trockenreisanbau kommen hinzu.Ralf Otterpohl zeigt Beispiele auf\, wie der Anbau von Lebensmittel und deren Qualität ohne Agrochemie\, dafür mit Kenntnis über Bodenaufbau und Bodengesundheit zur Sicherung der Welternährung beitragen können.Damit verknüpft ist auch das regional relevante Thema der Vielfalt leben\, des lokal Produzierens\, mit Natur und Nachbarn Kooperierens.Seine Vision sind viele kleine\, selbstständige Betriebe auf dem Land\, die in guter Kooperation zusammenarbeiten\, so dass die Wertschöpfung in der Region bleibt. Der Anbau von Lebensmitteln\, deren Verarbeitung und vielfältige handwerkliche Fähigkeiten könnten eine große Anzahl von interessanten Berufen beleben\, so dass in Zukunft weniger Menschen in die jetzt schon überbevölkerten Städte ziehen müssen. Stattdessen könne ein buntes und kulturell reichhaltiges Leben auf dem Land vielen Menschen die Möglichkeit für eine selbstbestimmte und glückliche Existenz bieten.Kostenbeitrag vor Ort erbeten\, Einlass ab 18.30 Uhr\n\n\n 
URL:https://wirundjetzt.org/event/vortrag-mit-prof-ralf-otterpohl-regenerative-landwirtschaft-und-bodenaufbau-in-ueberlingen-bambergen/
LOCATION:Gasthaus Apfelzügle\, Überlingen-Bambergen
CATEGORIES:Vortrag
END:VEVENT
END:VCALENDAR