BEGIN:VCALENDAR
VERSION:2.0
PRODID:-//»wirundjetzt« - ECPv6.15.17.1//NONSGML v1.0//EN
CALSCALE:GREGORIAN
METHOD:PUBLISH
X-WR-CALNAME:»wirundjetzt«
X-ORIGINAL-URL:https://wirundjetzt.org
X-WR-CALDESC:Veranstaltungen für »wirundjetzt«
REFRESH-INTERVAL;VALUE=DURATION:PT1H
X-Robots-Tag:noindex
X-PUBLISHED-TTL:PT1H
BEGIN:VTIMEZONE
TZID:Europe/Berlin
BEGIN:DAYLIGHT
TZOFFSETFROM:+0100
TZOFFSETTO:+0200
TZNAME:CEST
DTSTART:20210328T010000
END:DAYLIGHT
BEGIN:STANDARD
TZOFFSETFROM:+0200
TZOFFSETTO:+0100
TZNAME:CET
DTSTART:20211031T010000
END:STANDARD
BEGIN:DAYLIGHT
TZOFFSETFROM:+0100
TZOFFSETTO:+0200
TZNAME:CEST
DTSTART:20220327T010000
END:DAYLIGHT
BEGIN:STANDARD
TZOFFSETFROM:+0200
TZOFFSETTO:+0100
TZNAME:CET
DTSTART:20221030T010000
END:STANDARD
BEGIN:DAYLIGHT
TZOFFSETFROM:+0100
TZOFFSETTO:+0200
TZNAME:CEST
DTSTART:20230326T010000
END:DAYLIGHT
BEGIN:STANDARD
TZOFFSETFROM:+0200
TZOFFSETTO:+0100
TZNAME:CET
DTSTART:20231029T010000
END:STANDARD
END:VTIMEZONE
BEGIN:VEVENT
DTSTART;TZID=Europe/Berlin:20220401T140000
DTEND;TZID=Europe/Berlin:20220401T150000
DTSTAMP:20260419T171721
CREATED:20220129T123116Z
LAST-MODIFIED:20220129T123116Z
UID:10000740-1648821600-1648825200@wirundjetzt.org
SUMMARY:Wildkräuterführung
DESCRIPTION:Aufgrund der sehr positiven Resonanz vom letzten Jahr bieten wir auch dieses Jahr wieder unsere „Wildkräuterführung“ mit Christine und Sandra an. Anmeldung bitte unter anbau(at)solawi-bodensee.de
URL:https://wirundjetzt.org/event/wildkraeuterfuehrung/
LOCATION:Solawi Bodensee – Raderach/Langacker\, Fichtenburgstraße 51\, Friedrichshafen\, Deutschland
CATEGORIES:Exkursion,Nachhaltigkeit,Ökologie
GEO:47.6983164;9.4406553
X-APPLE-STRUCTURED-LOCATION;VALUE=URI;X-ADDRESS=Solawi Bodensee – Raderach/Langacker Fichtenburgstraße 51 Friedrichshafen Deutschland;X-APPLE-RADIUS=500;X-TITLE=Fichtenburgstraße 51:geo:9.4406553,47.6983164
END:VEVENT
BEGIN:VEVENT
DTSTART;VALUE=DATE:20220402
DTEND;VALUE=DATE:20220404
DTSTAMP:20260419T171721
CREATED:20220320T193601Z
LAST-MODIFIED:20220320T193601Z
UID:10000766-1648857600-1649030399@wirundjetzt.org
SUMMARY:LAND-BAU-PARTIE auf dem Haslachhof
DESCRIPTION:Wieder lädt der Haslachhof zu einem gemeinschafltich-kreativen Arbeitswochenende ein. Begleitet von leckerem Essen\, Musik\, Tanz\, Zeit für Begegnung und Gemeinschaft soll dem Land\, der Planzwiese und dem Garten vom Haslachhof die Aufmerksamkeit gewidmet werden. Es gibt kleinere und größere Baustellen auf dem Land\, die sich über viele helfende Hände freuen.\nDie Teilnahme natürlich kostenlos\, es wird für Euch gekocht\, einfache Unterkunft im Matratzenlager oder Zelt ist möglich.\n\nBeginn: Samstag\, 9:30Uhr\nAnmeldung über:\nkatharina.philipp@wirundjetzt\n\nSpontane Teilnahme ist auch möglich.
URL:https://wirundjetzt.org/event/land-bau-partie-auf-dem-haslachhof/
LOCATION:Gemeinschaft Haslachhof\, Haslachhof 1\, Deggenhausertal
END:VEVENT
BEGIN:VEVENT
DTSTART;TZID=Europe/Berlin:20220404T183000
DTEND;TZID=Europe/Berlin:20220404T193000
DTSTAMP:20260419T171721
CREATED:20220323T092415Z
LAST-MODIFIED:20220323T092635Z
UID:10000777-1649097000-1649100600@wirundjetzt.org
SUMMARY:MetaVerse Workshop
DESCRIPTION:Was ist das? Meta-Verse: Ein aktuell medial sehr präsenter Begriff\, doch was verbirgt sich dahinter? \n\nMontag\, 04.04.2022 Start um 18:30 Uhr \nWir geben Ihnen einen Einblick in die neuen Technologien\, die Zukunft der Kommunikation und die Revolution auf vielen Ebenen wie Arbeitswelt\, Freizeit und mediales Konsumverhalten. \nVeranstaltungsort: Direkt im Meta-Verse\, digital \nSie können sich bequem von zu Hause aus via Computer\, Laptop oder Tablet einloggen. \nKeine Installation notwendig. Anmeldung unter: Eventbrite
URL:https://wirundjetzt.org/event/metaverse-workshop/
LOCATION:online
CATEGORIES:Workshop
END:VEVENT
BEGIN:VEVENT
DTSTART;TZID=Europe/Berlin:20220406T173000
DTEND;TZID=Europe/Berlin:20220406T193000
DTSTAMP:20260419T171721
CREATED:20220326T112114Z
LAST-MODIFIED:20220326T112114Z
UID:10000778-1649266200-1649273400@wirundjetzt.org
SUMMARY:5. SDG Forum Bodensee Meeting
DESCRIPTION:Das Netzwerk zum Thema Sustainable Development Goals (SDG) der UNO wächst im Bodenseeraum weiter.\nWir freuen uns auf den nächsten Online-Austausch \nam Mi.\, den 6. April 2022\, von 17:30 bis 19:30 Uhr \nin der Gastgeber*innen-Rolle:  SDG Allianz Liechtenstein \nWir freuen uns auf eure Anmeldung und euer Mitwirken.\nInhaltliche Beiträge bitte gerne unter info@sdg-forum.at anfragen.\nAnmelden: https://lets-meet.org/reg/95c3fed2a6e6e5637d
URL:https://wirundjetzt.org/event/5-sdg-forum-bodensee-meeting/
LOCATION:online
CATEGORIES:Arbeitstreffen,Vernetzungstreffen
END:VEVENT
BEGIN:VEVENT
DTSTART;TZID=Europe/Berlin:20220408T190000
DTEND;TZID=Europe/Berlin:20220408T210000
DTSTAMP:20260419T171721
CREATED:20220308T114647Z
LAST-MODIFIED:20220308T114647Z
UID:10000396-1649444400-1649451600@wirundjetzt.org
SUMMARY:"Einfach machen" online Filmreihe der GWÖ Leipzig-Halle
DESCRIPTION:Die Regionalgruppe GWÖ Leipzig-Halle veranstaltet kostenlos eine online Filmreihe „Einfach machen“. \nGelingende Zukunft – wie geht das? Die Filme zeigen spannende\, praktische Beispiele vom Ändern\, von Menschen\, die das anpacken: \nunser heutiges Wirtschaften auf den Kopf zu stellen. Von Menschen\, die den Widerspruch nicht mehr akzeptieren\, das Wirtschaften zwar Wohlstand für einige wenige Menschen bringt\, gleichzeitig aber unsere Lebensgrundlagen zerstört\, die Natur\, soziale Gerechtigkeit\, ein menschenwürdiges Leben. Wir wissen\, dass sich unser Wirtschaften ändern\, mehr für ein gutes Leben für alle beitragen muss. Wie also könnte so ein gemeinwohlförderliches Wirtschaften aussehen? \nDavon soll die oline Filmreihe handeln. Die Filme sollen inspirieren\, unsere Vorstellungen von Wohlstand und Fortschritt zu überdenken\, Gewohntes zu hinterfragen und unsere Gesellschaften gerechter\, nachhaltiger und gesünder zu gestalten. Die Filmreihe bietet praktische\, lebbare und konkret umsetzbare Alternativen für alle Akteure unserer Gesellschaft.\nNach jedem Film gibt es eine Diskussionsrunde für Austausch und Impulse.\nUm Anmeldung wird gebeten unter https://www.gwoe-mitteldeutschland.de/veranstaltungen/filmreihe-einfach-machen/\n„Gemeinwohl-Ökonomie“ bezeichnet ein Wirtschaftssystem\, das auf gemeinwohl-fördernden Werten aufgebaut ist. Sie ist ein Veränderungshebel auf wirtschaftlicher\, politischer und gesellschaftlicher Ebene.  Ziel  ist ein gutes Leben für alle Lebewesen und den Planeten\, unterstützt durch ein gemeinwohl-orientiertes Wirtschaftssystem. \nFlyer_einfach machen
URL:https://wirundjetzt.org/event/einfach-machen-online-filmreihe-der-gwoe-leipzig-halle/2022-04-08/
LOCATION:Baden-Württemberg
END:VEVENT
BEGIN:VEVENT
DTSTART;TZID=Europe/Berlin:20220411T190000
DTEND;TZID=Europe/Berlin:20220411T210000
DTSTAMP:20260419T171721
CREATED:20220212T105107Z
LAST-MODIFIED:20220411T143425Z
UID:10000389-1649703600-1649710800@wirundjetzt.org
SUMMARY:wirundjetzt - Themenabend - abgesagt!
DESCRIPTION:Der heutige Themenabend fällt leider aus privaten Gründen aus. \nWir sehen uns beim nächsten Meeting oder auf einer Veranstaltung in der Region! \n  \nwirundjetzt Themenabend: \nwir möchten mit euch in regelmäßigen Abständen\, einmal im Monat einen Themenabend anbieten\, zum Beispiel über die Bürgerkarte\, die Gemeinwohl-Ökonomie\, die Regionalwert AG oder andere Projekte informieren. \nWie ist der aktuelle Stand\, was bewegt sich und dich in der Region\, was bewegt uns und mit welchen Projekten sind wir gerade am meisten beschäftigt? \nDie Themenabende sollen dem Austausch und der Vernetzung über die Region hinaus dienen und eure Fragen beantworten. \nWir freuen uns auf Dich. \n  \nHerzliche Grüße \nDein wirundjetzt Team \nZoom-Meeting beitreten\nhttps://us02web.zoom.us/j/84466117878?pwd=VTVuYkFLdGdBU3JmNU5xbjFUSDRjUT09 \nMeeting-ID: 844 6611 7878\nKenncode: 205766
URL:https://wirundjetzt.org/event/wirundjetzt-themenabend/
LOCATION:Baden-Württemberg
END:VEVENT
BEGIN:VEVENT
DTSTART;TZID=Europe/Berlin:20220412T200000
DTEND;TZID=Europe/Berlin:20220412T213000
DTSTAMP:20260419T171721
CREATED:20220320T192944Z
LAST-MODIFIED:20220320T192944Z
UID:10000761-1649793600-1649799000@wirundjetzt.org
SUMMARY:Dr. Antje von Dewitz (VAUDE): NACHHALTIG denken - ERFOLGREICH lenken:  Nachhaltige Unternehmensstrategien
DESCRIPTION:Der Frickinger Wirtschaftsrat und die Gemeinde Frickingen laden ein zu einem Vortrag mit Dr. Antje von Dewitz\, geschäftsführende Gesellschafterin von VAUDE. Frau von Dewitz wird darüber sprechen\, wie es möglich ist\, mit Rücksicht auf Mensch\, Natur\, Umwelt und Ressourcen Outdoor-Ausrüstung zu produzieren und welche Chancen sich für ihr Unternehmen durch diesen Weg eröffnet haben.\nSeit Antje von Dewitz im Jahr 2009 die Geschäftsführung von Ihrem Vater und Gründer von VAUDE\, Albrecht von Dewitz übernommen hat\, richtet sie alle Prozesse im Unternehmen konsequent an Kriterien der Nachhaltigkeit und Umweltverträglichkeit aus.  Für dieses Engagement erhielt der Outdoor-Ausrüster VAUDE mit Sitz in Tettnang-Obereisenbach zahlreiche Auszeichnungen\, u.a. den Deutschen Nachhaltigkeitspreis in der Kategorie „Deutschlands nachhaltigste Marken 2015“. Seit diesem Jahr ist VAUDE mit allen Produkten weltweit klimaneutral und zählt darüber hinaus zu den familienfreundlichsten Unternehmen in Baden-Württemberg.\nIm Anschluss gibt es Gelegenheit für Fragen und Diskussion. Die Linzgau-Buchhandlung wird mit einem Büchertisch vertreten sein.\nTickets: Bei allen Reservix-Vorverkaufsstellen\, online unter www.reservix.de\, im Rathaus Frickingen\, telefonisch unter 07554 9830-30 und an der Abendkasse
URL:https://wirundjetzt.org/event/dr-antje-von-dewitz-vaude-nachhaltig-denken-erfolgreich-lenken-nachhaltige-unternehmensstrategien/
LOCATION:Baden-Württemberg
CATEGORIES:Vortrag
END:VEVENT
BEGIN:VEVENT
DTSTART;TZID=Europe/Berlin:20220414T140000
DTEND;TZID=Europe/Berlin:20220414T150000
DTSTAMP:20260419T171721
CREATED:20220129T123503Z
LAST-MODIFIED:20220129T123612Z
UID:10000741-1649944800-1649948400@wirundjetzt.org
SUMMARY:Wildkräuterführung
DESCRIPTION:Aufgrund der sehr positiven Resonanz vom letzten Jahr bieten wir auch dieses Jahr wieder unsere „Wildkräuterführung“ mit Christine und Sandra an. Anmeldung bitte unter anbau(at)solawi-bodensee.de
URL:https://wirundjetzt.org/event/wildkraeuterfuehrung-2/
LOCATION:Solawi Bodensee – Raderach/Langacker\, Fichtenburgstraße 51\, Friedrichshafen\, Deutschland
CATEGORIES:Exkursion,Nachhaltigkeit,Ökologie
GEO:47.6983164;9.4406553
X-APPLE-STRUCTURED-LOCATION;VALUE=URI;X-ADDRESS=Solawi Bodensee – Raderach/Langacker Fichtenburgstraße 51 Friedrichshafen Deutschland;X-APPLE-RADIUS=500;X-TITLE=Fichtenburgstraße 51:geo:9.4406553,47.6983164
END:VEVENT
BEGIN:VEVENT
DTSTART;TZID=Europe/Berlin:20220414T190000
DTEND;TZID=Europe/Berlin:20220414T210000
DTSTAMP:20260419T171721
CREATED:20220329T162255Z
LAST-MODIFIED:20220329T162322Z
UID:10000782-1649962800-1649970000@wirundjetzt.org
SUMMARY:zoom-Reihe des ABL: Neue Gentechnik in der Landwirtschaft - Hintergründe - Versprechen Risiken
DESCRIPTION:Die Versprechen der Industrie sind groß: mit den neuen Gentechnik-Verfahrenwie CRISPR/Cas in der Landwirtschaft sollen schnell die Nachhaltigkeitsziele der EU-Kommission erreicht werden und es soll auch möglich sein\, klimaanpassungsfähige Pflanzen zu erzeugen. Die EU-Kommission hat im April letzten Jahres sogar vorgeschlagen\, einige Anwendungen der neuen Gentechnikvon der Regulierung nach Gentechnikrecht auszunehmen\, mit der Begründung\, dass sie ein ähnlich niedriges Risikopotenzial hätten wie konventionelle Züchtung. Auch die Gentechnik-Industrie plädiert für eine Deregulierung\, und schiebt das Argument vor\, dass so auch kleine und mittlere Züchter diese Technologien nutzen könnten. \nIn der Zoom-Reihe  will sich die Arbeitsgemeinschaft bäuerliche Landwirtschaft (AbL) e.V.\, ABL mit den Teilnehmenden mit diesen Versprechen kritisch auseinandersetzen. \nVeranstaltung am 30.03.22: \nNeue Gentechnik und Patente (https://www.testbiotech.org/node/2771):\nNegative Einflüsse von Patenten auf Züchter:innen und Lebensmittelerzeuger:innen und Stand der politischen Debatte. Referent: Dr. Christoph Then\, Geschäftsführer von Testbiotech e.V. und Koordinator des internationalen Bündnisses Keine Patente auf Saatgut.\nZunächst werden die Ursachen und Entwicklung von Patenten auf konventionelle Züchtung und Auswirkungen auf den europäischen (und globalen) Saatgutmarkt beleuchtet und die Probleme der Patentierung: Eigentumsrechte auf Saatgut\, fehlender Zugang zu genetischen Ressourcen\, Kontrolle über Zucht und\nErnährungsgrundlagen. Warum wird das Patentierungs­verbot auf konventionelle Züchtungen weiterhin umgangen? Welche Entwicklungen und Probleme zeigen sich durch die neuen Gentechniken. Was steht politisch an? \nVeranstaltung am 14.04.22: \nDie Versprechen der neuen Gentechnik kritisch hinterfragt – Populationszucht statt Genome Editing. Referent:innen: Dr. Carl Vollenweider (Züchter auf dem Dottenfelderhof) und Annemarie Volling (Gentechnik-Expertin der AbL). \nMittels neuer Gentechnik-Verfahren wie CRISPR/Cas sollen in relativ kurzer Zeit Pflanzen entwickelt werden können\, die den Pestizideinsatz reduzieren sollen\, höhere Erträge bringen sollen und die anpassungsfähig an denKlimawandel sein sollen. ABL wirft einen kritischen Blick auf diese Versprechen und stellt neue Ansätze in der Pflanzenzucht vor wie partizipative Züchtung und Populationen. Der Termin findet statt in Kooperation mit Agrarpolitischen Fortbildungsreihe der AbL-Mitteldeutschland. \nVeranstaltung am 28.04.22: \nSaatgut und das Recht auf Nachbau vom Konzern zurück in bäuerliche Hände. Referent:innen: Georg Janßen (Bundes-Geschäftsführer der AbL und der IGNachbau)\, Karsten Ellenberg (Kartof­fel­züchter\, Retter der Sorte Linda)\,Susanne Gura (Vorsitzende Dachverband der Nutzpflanzen).\nDas Recht auf den Nachbau des verwendeten Saatguts und die Zucht von Kultursorten\, die an den eigenen Betrieb angepasst sind\, das sind Grundlagen der landwirtschaftlichen Arbeit\, doch leider keine Selbstverständlichkeit. ABL will mit dieser Veranstaltung den rechtlichen Rahmen abstecken\, von juristischen Kämpfen berichten und vor allem zeigen\, wie wir zurück zu Vielfalt und Selbstbestimmtheit kommen. \nAnmeldung hier: \nanmeldung@abl-ev.de> anmeldung@abl-ev.de. Der Link wird dann rechtzeitig vor der jeweiligen Veranstaltung zugesandt (Bitte das Datum der Veranstaltung\, Deinen Namen und die e-mail angeben; sehr\ngerne auch den  Hof / Organisation / Verband & Ort)
URL:https://wirundjetzt.org/event/zoom-reihe-des-abl-neue-gentechnik-in-der-landwirtschaft-hintergruende-versprechen-risiken/2022-04-14/
LOCATION:Baden-Württemberg
CATEGORIES:zoommeeting
END:VEVENT
BEGIN:VEVENT
DTSTART;TZID=Europe/Berlin:20220415T190000
DTEND;TZID=Europe/Berlin:20220415T203000
DTSTAMP:20260419T171721
CREATED:20211012T105707Z
LAST-MODIFIED:20241010T172512Z
UID:10001146-1650049200-1650054600@wirundjetzt.org
SUMMARY:Friedensfeuer - da wo du bist!
DESCRIPTION:Im Sommer waren wir mit Freunden am Bodensee und träumten über Orte der Begegnung und der Potentialentfaltung. \nDabei ist die Idee geboren\, immer am 15. eines jeden Monats ein Friedensfeuer zu entzünden – alleine\, mit Freunden\, mit der Familie\, mit dem Partner oder den Nachbarn… \nErster Termin war der 15.8.21  20.30 Uhr – für alle weiteren 15. eines Monats immer zum Zeitpunkt wenn es dunkel wird (die Sonnenuntergangszeit kann man im Internet jeweils nachlesen)\, ca. für eine Stunde! \nDie Rückmeldungen waren großartig und überwältigten uns. \nFreunde machten alleine ein Feuer\, mit Freunden\, mit der Familie\, oder mit wildfremden Menschen! \nEs gab die\, die mit einer Kerze im Wohnzimmer den Frieden feierten und andere\, die auf der Terrasse oder im freien unter dem Sternenhimmel ihr Friedensfeuer anzündeten und die Stille feierten. \nMenschen aus Portugal\, aus Stuttgart\, aus Karlsruhe\, am Bodensee\, am Ufer\, im Hinterland und wer weiß wo noch alles zündeten ein Feuer für den Frieden an und gingen in einen Dialog mit sich selbst\, der Natur oder ihren Liebsten. \nDafür sind wir sehr dankbar und freuen uns auf viele kleine und große Feuer. \n \nGanz egal wie und mit wem Du ein Friedensfeuer macht\, es ist wichtig einfach FRIEDEN zu SEIN. \nKein Feuer für den Frieden\, oder gegen Krieg – einfach nur Frieden sein. \nFeiert euch\, das Leben\, die Liebe\, die Erde und den Frieden. \nSingt gemeinsam Lieder\, geht in die Stille\, meditiert und betet\, lauscht der Natur\, teilt eure Gedanken und Geschichten\, genießt die Zeit allein oder gemeinsam und tragt so zum Verständnis und zum Mitgefühl der Erde bei. \nNatürlich kann es auch eine Kerze sein\, die Du in die Mitte stellst und mit Deinen Liebsten den Frieden feierst. \nEs gibt keinen Veranstalter\, keinen Verantwortlichen\, keine vorgegebenen Vorstellungen\, oder eine bestimmte religiöse oder spirituelle Richtung\, der das Friedensfeuer angehört oder der Du angehören musst\, um dieses Feuer zu machen. Es gilt es einfach nur zu tun\, wenn Du den Ruf dazu verspürst – entweder selber iniziierend oder wenn Du dazu eingeladen wirst. \nEntscheide selbst\, wo Du\, wie Du und mit wem Du ein Friedensfeuer machen willst. \nGestalte den Abend und das Feuer so\, wie Du und Dein Herz es gestalten möchten. \nMit herzlichen Grüßen \nSarina und Simon
URL:https://wirundjetzt.org/event/friedensfeuer-da-wo-du-bist/2022-04-15/
LOCATION:Baden-Württemberg
CATEGORIES:Aktionen,Bewusstsein,Dialog,gemeinschaft
END:VEVENT
BEGIN:VEVENT
DTSTART;VALUE=DATE:20220422
DTEND;VALUE=DATE:20220425
DTSTAMP:20260419T171721
CREATED:20220320T193935Z
LAST-MODIFIED:20220320T193935Z
UID:10000767-1650585600-1650844799@wirundjetzt.org
SUMMARY:Permakultur-Workshop - Einführungskurs auf dem Hof Ibach
DESCRIPTION:Permakultur ist eine Designhilfe\, um nachhaltige\, menschliche Systeme zu gestalten. Nicht nur im Kleingarten\, auch in großräumiger Landwirtschaft\, sozialen Systemen und Wirtschaftssystemen.\nAuf dem wunderschönen Hof Ibach am Fuße des „Höchsten“ bei Zußdorf widmen sich \nKatharina Philipp und Gina Gohl zusammen mit den Teilnehmenden den Grundlagen der Permakultur\, dem Agroforst und auch dem „inneren Garten“ in gemeinschaftlichen Erfahrungsräumen.\nInfos und Anmeldung: gina-gohl@web.de
URL:https://wirundjetzt.org/event/permakultur-workshop-einfuehrungskurs-auf-dem-hof-ibach/
LOCATION:Baden-Württemberg
CATEGORIES:Workshop
END:VEVENT
BEGIN:VEVENT
DTSTART;VALUE=DATE:20220428
DTEND;VALUE=DATE:20220519
DTSTAMP:20260419T171721
CREATED:20220310T213401Z
LAST-MODIFIED:20220310T213401Z
UID:10000773-1651104000-1652918399@wirundjetzt.org
SUMMARY:Kollektives Trauma und Demokratie
DESCRIPTION:Ein dreitägier Workshop mit Thomas Hübl um Polarisierung in Krisen zu überwinden.\n\n\n\nIn einer Online-Kooperationsveranstaltung mit dem Pocket Projekt\, an der bis zu 500 Menschen teilnehmen können\, soll versucht werden\, Traumata\, die kollektiv wirken\, zu erkennen und zu bearbeiten. Der Prozess wird wissenschaftlich vom Institut für transformative Nachhaltigkeitsforschung (IASS) und dem Institut für integrale Studien (IFIS) begleitet und ausgewertet. \nJeder von uns reagiert anders in Krisen\, je nachdem welche Erfahrungen wir in der Vergangenheit gemacht haben\, was unsere Vorfahren erlebten oder welche Geschichte auf unserem Land liegt. Wir reagieren abhängig davon\, wie sehr uns diese Erfahrungen überfordert oder gar überwältigt haben. Niemand ist frei von solchen Erlebnissen und sie beeinflussen letztlich auch unser politisches Denken und Handeln.\nVermutlich spielen Traumata in der Politik eine größere Rolle als uns bewusst ist. Der ehemalige deutsche Botschafter Rüdiger von Fritsch\, der viele Jahre in Russland gelebt hat\, weist sogar auf die Einflüsse von Traumata ganzer Nationen hin.\n(Ab Minute 28:33 Uhr: https://www.zdf.de/phoenix/phoenix-persoenlich/phoenix-phoenix-persoenlich-mit-ruediger-von-fritsch-100.html) \nWie erkennen wir Einflüsse von Traumata? Wie wirken Traumata in uns? Und gibt es gar so etwas wie kollektive traumatische Strukturen? Wenn ja\, wie können wir mit ihnen umgehen? Wie sehr beeinflussen sie uns und politisches Handeln? \nDiese Forschungsfragen verfolgt auch Mehr Demokratie. Herauszufinden gilt\, welche Faktoren die Demokratie stabilisieren und wie wir die ganze Vielfalt der Gesellschaft konstruktiv integrieren können. \n\n\nMehr Informationen und Anmeldung unter \nhttps://pocketproject.org/collective-trauma-democracy/ \n\n\nEine kostenlose Auftaktveranstaltung zu dem Workshop findet mit einem Gespräch zwischen Claudine Nierth & Thomas Hübl am 11. April 2022 von 20:00 Uhr bis 21:30 Uhr statt. \n\n\n\n\n 
URL:https://wirundjetzt.org/event/kollektives-trauma-und-demokratie/
LOCATION:Baden-Württemberg
CATEGORIES:Workshop
END:VEVENT
BEGIN:VEVENT
DTSTART;TZID=Europe/Berlin:20220428T190000
DTEND;TZID=Europe/Berlin:20220428T210000
DTSTAMP:20260419T171721
CREATED:20220329T162255Z
LAST-MODIFIED:20220329T162322Z
UID:10000783-1651172400-1651179600@wirundjetzt.org
SUMMARY:zoom-Reihe des ABL: Neue Gentechnik in der Landwirtschaft - Hintergründe - Versprechen Risiken
DESCRIPTION:Die Versprechen der Industrie sind groß: mit den neuen Gentechnik-Verfahrenwie CRISPR/Cas in der Landwirtschaft sollen schnell die Nachhaltigkeitsziele der EU-Kommission erreicht werden und es soll auch möglich sein\, klimaanpassungsfähige Pflanzen zu erzeugen. Die EU-Kommission hat im April letzten Jahres sogar vorgeschlagen\, einige Anwendungen der neuen Gentechnikvon der Regulierung nach Gentechnikrecht auszunehmen\, mit der Begründung\, dass sie ein ähnlich niedriges Risikopotenzial hätten wie konventionelle Züchtung. Auch die Gentechnik-Industrie plädiert für eine Deregulierung\, und schiebt das Argument vor\, dass so auch kleine und mittlere Züchter diese Technologien nutzen könnten. \nIn der Zoom-Reihe  will sich die Arbeitsgemeinschaft bäuerliche Landwirtschaft (AbL) e.V.\, ABL mit den Teilnehmenden mit diesen Versprechen kritisch auseinandersetzen. \nVeranstaltung am 30.03.22: \nNeue Gentechnik und Patente (https://www.testbiotech.org/node/2771):\nNegative Einflüsse von Patenten auf Züchter:innen und Lebensmittelerzeuger:innen und Stand der politischen Debatte. Referent: Dr. Christoph Then\, Geschäftsführer von Testbiotech e.V. und Koordinator des internationalen Bündnisses Keine Patente auf Saatgut.\nZunächst werden die Ursachen und Entwicklung von Patenten auf konventionelle Züchtung und Auswirkungen auf den europäischen (und globalen) Saatgutmarkt beleuchtet und die Probleme der Patentierung: Eigentumsrechte auf Saatgut\, fehlender Zugang zu genetischen Ressourcen\, Kontrolle über Zucht und\nErnährungsgrundlagen. Warum wird das Patentierungs­verbot auf konventionelle Züchtungen weiterhin umgangen? Welche Entwicklungen und Probleme zeigen sich durch die neuen Gentechniken. Was steht politisch an? \nVeranstaltung am 14.04.22: \nDie Versprechen der neuen Gentechnik kritisch hinterfragt – Populationszucht statt Genome Editing. Referent:innen: Dr. Carl Vollenweider (Züchter auf dem Dottenfelderhof) und Annemarie Volling (Gentechnik-Expertin der AbL). \nMittels neuer Gentechnik-Verfahren wie CRISPR/Cas sollen in relativ kurzer Zeit Pflanzen entwickelt werden können\, die den Pestizideinsatz reduzieren sollen\, höhere Erträge bringen sollen und die anpassungsfähig an denKlimawandel sein sollen. ABL wirft einen kritischen Blick auf diese Versprechen und stellt neue Ansätze in der Pflanzenzucht vor wie partizipative Züchtung und Populationen. Der Termin findet statt in Kooperation mit Agrarpolitischen Fortbildungsreihe der AbL-Mitteldeutschland. \nVeranstaltung am 28.04.22: \nSaatgut und das Recht auf Nachbau vom Konzern zurück in bäuerliche Hände. Referent:innen: Georg Janßen (Bundes-Geschäftsführer der AbL und der IGNachbau)\, Karsten Ellenberg (Kartof­fel­züchter\, Retter der Sorte Linda)\,Susanne Gura (Vorsitzende Dachverband der Nutzpflanzen).\nDas Recht auf den Nachbau des verwendeten Saatguts und die Zucht von Kultursorten\, die an den eigenen Betrieb angepasst sind\, das sind Grundlagen der landwirtschaftlichen Arbeit\, doch leider keine Selbstverständlichkeit. ABL will mit dieser Veranstaltung den rechtlichen Rahmen abstecken\, von juristischen Kämpfen berichten und vor allem zeigen\, wie wir zurück zu Vielfalt und Selbstbestimmtheit kommen. \nAnmeldung hier: \nanmeldung@abl-ev.de> anmeldung@abl-ev.de. Der Link wird dann rechtzeitig vor der jeweiligen Veranstaltung zugesandt (Bitte das Datum der Veranstaltung\, Deinen Namen und die e-mail angeben; sehr\ngerne auch den  Hof / Organisation / Verband & Ort)
URL:https://wirundjetzt.org/event/zoom-reihe-des-abl-neue-gentechnik-in-der-landwirtschaft-hintergruende-versprechen-risiken/2022-04-28/
LOCATION:Baden-Württemberg
CATEGORIES:zoommeeting
END:VEVENT
BEGIN:VEVENT
DTSTART;TZID=Europe/Berlin:20220429T160000
DTEND;TZID=Europe/Berlin:20220429T190000
DTSTAMP:20260419T171721
CREATED:20220304T073549Z
LAST-MODIFIED:20220304T073549Z
UID:10000392-1651248000-1651258800@wirundjetzt.org
SUMMARY:GWÖ-Initiativtreffen am Hofgut Rengoldshausen
DESCRIPTION:Trotz der Einschränkungen in den letzten eineinhalb Jahren hat sich viel getan. Weitere Unternehmen haben sich mit Hilfe der Gemeinwohl-Ökonomie (GWÖ) auf den Weg gemacht\, um sich zukunftsfähig aufzustellen. Zeit und eine gute Gelegenheit sich wieder miteinander auszutauschen und die neuesten Entwicklungen zu diskutieren. Nach der durchweg positiven Resonanz aus den ersten Treffen bei Followfood und Fairfleisch wird es erfreulicherweise ein weiteres Treffen geben (sh. Anhang).\n\nDas neue „aktive“ Mitgliedsunternehmen Hofgut Rengoldshausen bietet die Gelegenheit seinen Betrieb näher kennenzulernen. Es werdem auch Impulse zum wertebasierten Wirtschaftsmodell der Gemeinwohl-Ökonomie\, den kommenden Anforderungen bzgl. der „nicht finanziellen Berichterstattung“ CSRD und den Chancen eines Nachhaltigkeitsmanagements für Unternehmen gegeben. Eine gesunde Mischung aus erfahrenen GWÖ Unternehmen der Region\, neu interessierten Verantwortlichen und Vertreter*innen der GWÖ verspricht einen spannenden Nachmittag.\nZur besseren Planung bitte rechtzeitige Anmeldung unter den u.g. Kontaktdaten.\nGWÖ-Initiativtreffen-Unternehmen_Flyer_220429
URL:https://wirundjetzt.org/event/gwoe-initiativtreffen-am-hofgut-rengoldshausen/
LOCATION:Hofgut Rengoldshausen\, Rengoldshauser Str. 29-31\, Überlingen\, 88660
CATEGORIES:Betriebsbesichtigung,Dialog
GEO:47.77174;9.20369
X-APPLE-STRUCTURED-LOCATION;VALUE=URI;X-ADDRESS=Hofgut Rengoldshausen Rengoldshauser Str. 29-31 Überlingen 88660;X-APPLE-RADIUS=500;X-TITLE=Rengoldshauser Str. 29-31:geo:9.20369,47.77174
END:VEVENT
BEGIN:VEVENT
DTSTART;TZID=Europe/Berlin:20220430T100000
DTEND;TZID=Europe/Berlin:20220430T160000
DTSTAMP:20260419T171721
CREATED:20220401T091801Z
LAST-MODIFIED:20220401T092127Z
UID:10000787-1651312800-1651334400@wirundjetzt.org
SUMMARY:Faszinierende Farbenpracht – Anlage & Pflege einer Blühwiese und naturpädagogische Bildungsimpulse
DESCRIPTION:Richtig wohl fühlen sich Biene\, Schmetterling & Co auf einer artenreichen Blühwiese. Trotz geeigneter Plätze werden blütenreiche Flächen bei uns immer seltener. In unserer Fortbildung wollen wir Interessierten die Angst vor der Anlage einer Blühfläche nehmen\, denn durch die Auswahl des richtigen Saatgutes sprießen schnell die ersten Blumen in eurem Kindergarten oder Schule. Auch die Pflege eines Blühstreifens kann zu einem Erlebnis für die ganze Gruppe werden. Ab-gerundet wird das Programm durch naturpädagogi-sche Spiele und Aktionen\, die vermitteln\, wie man die Tier- und Pflanzenwelt einer Blühwiese für Kinder er-lebbar machen kann.\nIn der Fortbildungsreihe geht es um das aktive Erproben unterschiedlicher Übungen und Spiele aus der Natur-\, Umwelt- und Erlebnispädagogik. Das Jahresthema 2022 ist „Artenvielfalt vor der Haustüre – Erkennen\, Vermitteln\, Schützen“. Zum Faltblatt:\nTermin: Sa\, 30.04.\, 10:00-16:00 Uhr\nOrt: Waldkindergarten Ebenweiler\nReferentinnen: Tobias Hornung\, Nicole Jüngling\nAnmeldung: BUND-Naturschutzzentrum\nLeonhardstraße 1\, 88212 Ravensburg\nmanuel.schiffer@bund.net
URL:https://wirundjetzt.org/event/faszinierende-farbenpracht-anlage-pflege-einer-bluehwiese-und-naturpaedagogische-bildungsimpulse/
LOCATION:Waldkindergarten Ebenweiler\, Deutschland
CATEGORIES:Fortbildung
END:VEVENT
END:VCALENDAR