BEGIN:VCALENDAR
VERSION:2.0
PRODID:-//»wirundjetzt« - ECPv6.15.17.1//NONSGML v1.0//EN
CALSCALE:GREGORIAN
METHOD:PUBLISH
X-WR-CALNAME:»wirundjetzt«
X-ORIGINAL-URL:https://wirundjetzt.org
X-WR-CALDESC:Veranstaltungen für »wirundjetzt«
REFRESH-INTERVAL;VALUE=DURATION:PT1H
X-Robots-Tag:noindex
X-PUBLISHED-TTL:PT1H
BEGIN:VTIMEZONE
TZID:Europe/Berlin
BEGIN:DAYLIGHT
TZOFFSETFROM:+0100
TZOFFSETTO:+0200
TZNAME:CEST
DTSTART:20180325T010000
END:DAYLIGHT
BEGIN:STANDARD
TZOFFSETFROM:+0200
TZOFFSETTO:+0100
TZNAME:CET
DTSTART:20181028T010000
END:STANDARD
BEGIN:DAYLIGHT
TZOFFSETFROM:+0100
TZOFFSETTO:+0200
TZNAME:CEST
DTSTART:20190331T010000
END:DAYLIGHT
BEGIN:STANDARD
TZOFFSETFROM:+0200
TZOFFSETTO:+0100
TZNAME:CET
DTSTART:20191027T010000
END:STANDARD
BEGIN:DAYLIGHT
TZOFFSETFROM:+0100
TZOFFSETTO:+0200
TZNAME:CEST
DTSTART:20200329T010000
END:DAYLIGHT
BEGIN:STANDARD
TZOFFSETFROM:+0200
TZOFFSETTO:+0100
TZNAME:CET
DTSTART:20201025T010000
END:STANDARD
END:VTIMEZONE
BEGIN:VEVENT
DTSTART;TZID=Europe/Berlin:20190401T193000
DTEND;TZID=Europe/Berlin:20190401T210000
DTSTAMP:20260420T012003
CREATED:20190221T214143Z
LAST-MODIFIED:20190221T214143Z
UID:10000432-1554147000-1554152400@wirundjetzt.org
SUMMARY:Buchvorstellung zum Klimawandel - Ravensburg
DESCRIPTION:Eine sehr tolle Arbeit (kompakt und fundiert) zweier engagierten ZU-Studenten.\nhttps://www.klimafakten.de/meldung/ein-kurzes-buch-ueber-den-klimawandel-gabs-nicht-also-haben-wir-es-selbst-gemacht
URL:https://wirundjetzt.org/event/buchvorstellung-zum-klimawandel-2/
LOCATION:Haus der katholischen Kirche\, Wihelmstraße 2\, Ravensburg\, Deutschland
GEO:47.782581;9.6159987
X-APPLE-STRUCTURED-LOCATION;VALUE=URI;X-ADDRESS=Haus der katholischen Kirche Wihelmstraße 2 Ravensburg Deutschland;X-APPLE-RADIUS=500;X-TITLE=Wihelmstraße 2:geo:9.6159987,47.782581
END:VEVENT
BEGIN:VEVENT
DTSTART;TZID=Europe/Berlin:20190403T133000
DTEND;TZID=Europe/Berlin:20190403T183000
DTSTAMP:20260420T012003
CREATED:20190310T135753Z
LAST-MODIFIED:20190310T135754Z
UID:10000104-1554298200-1554316200@wirundjetzt.org
SUMMARY:ZU - Die Flexonomix Quartier-Geld-Simulation - Friedrichshafen
DESCRIPTION:Spielend erleben und erfahren\, wie eine Wirtschaft im Kleinen aussehen könnte\, die den Anforderungen von Nachhaltigkeit\, Gerechtigkeit und Demokratie besser entspricht\, als das heutige globalisierte Wirtschaftsmodell.
URL:https://wirundjetzt.org/event/zu-die-flexonomix-quartier-geld-simulation-friedrichshafen/
LOCATION:Baden-Württemberg
END:VEVENT
BEGIN:VEVENT
DTSTART;TZID=Europe/Berlin:20190405T190000
DTEND;TZID=Europe/Berlin:20190405T200000
DTSTAMP:20260420T012003
CREATED:20190310T142704Z
LAST-MODIFIED:20190310T142704Z
UID:10000106-1554490800-1554494400@wirundjetzt.org
SUMMARY:Tauschen am Bodensee - Regionaltreffen Tettnang
DESCRIPTION:Der Tauschring bietet Ihnen eine Plattform zum Austausch von Dienstleistungen und Waren.\nDer Tausch wird ohne gesetzliche Zahlungsmittel durchgeführt\, jedoch auf entsprechenden Konten transparent dokumentiert.\nDie Verrechnungseinheit ist ein Talent.\nMitglieder sind Menschen aller Altersklassen und Gesellschaftsschichten.\nDer Tauschring Tauschen am See basiert auf:\n \n\ngelebter Menschlichkeit\, Freundschafts- und Nachbarschaftshilfe\nUnterstützung im Alltag\, Ausbildung\, Gemeinschaft\, Gesundheit\, Erziehung\, bei Umzügen\, Renovierungen und vielem mehr\neiner Gemeinschaft von Menschen\, Organisationen\, Institutionen und Unternehmen\, dielokale Nachbarschaftshilfe fördern.   
URL:https://wirundjetzt.org/event/tauschen-am-bodensee-regionaltreffen-tettnang/
LOCATION:Baden-Württemberg
END:VEVENT
BEGIN:VEVENT
DTSTART;TZID=Europe/Berlin:20190407T110000
DTEND;TZID=Europe/Berlin:20190407T170000
DTSTAMP:20260420T012003
CREATED:20190222T063717Z
LAST-MODIFIED:20190222T063717Z
UID:10000453-1554634800-1554656400@wirundjetzt.org
SUMMARY:Ehrenamt-Messe - Ravensburg
DESCRIPTION:Wir sind als Aussteller mit dabei! \nBesuchen Sie uns am Stand. \nWeitere Informationen: \neam19_flyer_dinlang_2201_final
URL:https://wirundjetzt.org/event/ehrenamt-messe-ravensburg/
LOCATION:Oberschwabenhalle\, Bleicherstraße 20\, Ravensburg\, 88212\, Deutschland
GEO:47.7903831;9.6144704
X-APPLE-STRUCTURED-LOCATION;VALUE=URI;X-ADDRESS=Oberschwabenhalle Bleicherstraße 20 Ravensburg 88212 Deutschland;X-APPLE-RADIUS=500;X-TITLE=Bleicherstraße 20:geo:9.6144704,47.7903831
END:VEVENT
BEGIN:VEVENT
DTSTART;TZID=Europe/Berlin:20190407T170000
DTEND;TZID=Europe/Berlin:20190407T183000
DTSTAMP:20260420T012003
CREATED:20190310T140437Z
LAST-MODIFIED:20190310T140801Z
UID:10000105-1554656400-1554661800@wirundjetzt.org
SUMMARY:FASTEN PREDIGTEN "ICH zuerst!?" - Ravensburg
DESCRIPTION:Gemeinwohlorientiertes Wirtschaften – ein Gewinn für alle!\nDr. Antje von Dewitz \nGeschäftsführerin VAUDE \nMusik: Chorgemeinschaft Grünkraut
URL:https://wirundjetzt.org/event/fasten-predigten-ich-zuerst-ravensburg/
LOCATION:Liebfrauenkirche Ravensburg\, Herrenstraße 3\, Ravensburg\, 88212\, Deutschland
GEO:47.7824032;9.6155329
X-APPLE-STRUCTURED-LOCATION;VALUE=URI;X-ADDRESS=Liebfrauenkirche Ravensburg Herrenstraße 3 Ravensburg 88212 Deutschland;X-APPLE-RADIUS=500;X-TITLE=Herrenstraße 3:geo:9.6155329,47.7824032
END:VEVENT
BEGIN:VEVENT
DTSTART;VALUE=DATE:20190408
DTEND;VALUE=DATE:20190409
DTSTAMP:20260420T012003
CREATED:20190317T163231Z
LAST-MODIFIED:20190317T163231Z
UID:10000120-1554681600-1554767999@wirundjetzt.org
SUMMARY:Praxis-Dialog Kuhgebundene Kälberaufzucht - Legau
DESCRIPTION:Der Praxis-Dialog kuhgebundene Kälberaufzucht bietet Ihnen die Möglichkeit sich mit AkteurInnen aus Praxis und Wissenschaft rund um das Thema kuhgebundene Kälberaufzucht in der Milchviehhaltung auszutauschen. Es erwartet Sie ein umfangreiches Programm mit spannenden Beiträgen\, interessanten Diskussionen und der Möglichkeit sich zu vernetzen. Hier können Sie sich verbindlich für die Veranstaltung anmelden. Bitte beachten Sie\, dass für die Teilnahme inklusive Verpflegung eine Gebühr von 20€ anfällt. Wir bitten Sie diesen Betrag am Veranstaltungstag in bar mitzubringen.
URL:https://wirundjetzt.org/event/praxis-dialog-kuhgebundene-kaelberaufzucht-legau/
LOCATION:Baden-Württemberg
END:VEVENT
BEGIN:VEVENT
DTSTART;VALUE=DATE:20190409
DTEND;VALUE=DATE:20190412
DTSTAMP:20260420T012003
CREATED:20190318T215604Z
LAST-MODIFIED:20190318T215604Z
UID:10000533-1554768000-1555027199@wirundjetzt.org
SUMMARY:BEST ECONOMY forum - Bozen IT
DESCRIPTION:Wer bzw. was sichert zukünftig unsere Lebensgrundlage? Wie kann Umwelt\, Soziales\, Ökonomie und Kultur sinnvoll in Einklang gebracht werden? \nErheben Sie Ihre Stimme und seien Sie dabei\, wenn es darum geht\, sich mit den wesentlichen Fragen unserer Zeit auseinanderzusetzen und konkrete \nLösungen zu erarbeiten. \n  \nDas BEST ECONOMY forum ist der Wegbereiter für eine Weltwirtschaft\, die Verantwortung gegenüber nachfolgenden Generationen übernimmt. \nSie sind ein Unternehmen\, dass sich bereits mit nachhaltiger Entwicklung auseinandersetzt. Seien Sie daher Partner der ersten Stunde. \nEntwickeln Sie gemeinsam mit uns ein Manifest\, in dem konkrete Forderungen zur Erreichung der Sustainable Development Goals an Wirtschaft und Politik auf Landes-\, Europa- und globaler Ebene gestellt werden. \nHierbei sollen konkrete Maßnahmen bestimmt werden\, um kurzfristig (2 Jahre)\, mittelfristig (5 Jahre) und langfristig (15 Jahre) die SDG Ziele zu erreichen. \nMit Ihrer Teilnahme an diesem Forum gestalten Sie diese Forderungen ganz konkret mit und sind ein wichtiger Teil der UnternehmerInnen\, die Verantwortung für die Zukunft übernehmen. \nDie beste Zeit ist jetzt. \nFolgende Themen werden in den Fokusgruppen diskutiert  \n-ethisch wirtschaften \n-Wirtschaft im Kreislauf denken \n-Gerechtigkeit für den globalen Süden \n-wahre Preise-faire Märkte \n-neue Organisationsformen für neues Wirtschaften \n-Geld mit Sinn \n-mehr als Hotel /Nachhaltigkeit im Tourismus \nDr. Auma Obama\, Antje von Dewitz (Vaude)\, Martina Joseph (Dr. Hauschka) und Vandana Shiva sind nur einige der Persönlichkeiten\, die das BEST ECONOMY forum mit einer Keynote bereichern.
URL:https://wirundjetzt.org/event/best-economy-forum-bozen-it/
LOCATION:Baden-Württemberg
END:VEVENT
BEGIN:VEVENT
DTSTART;TZID=Europe/Berlin:20190412T183000
DTEND;TZID=Europe/Berlin:20190412T210000
DTSTAMP:20260420T012003
CREATED:20190328T211058Z
LAST-MODIFIED:20190410T162924Z
UID:10000461-1555093800-1555102800@wirundjetzt.org
SUMMARY:Weingartener Abende mit Kretschmann und Antje v. Dewitz
DESCRIPTION:Freiheit und Verantwortung. Mehr Mut zu Europa?! \nVortrag und Gespräch: Ministerpräsident Winfried Kretschmann\, \nBischof Dr. Gebhard Fürst und Dr. Antje von Dewitz\n \nEuropa gilt als ein historisches Friedensprojekt. Doch nicht nur durch Rechtspopulisten und separatistische Bestrebungen scheint es in Gefahr. Reformen sind überfällig. In dieser Situation wollen die einen das christliche Abendland retten\, andere unseren Wohlstand. Doch ist nicht noch wichtiger\, Freiheit und Demokratie zu verteidigen? Welches ist unsere Verantwortung? Darüber sprechen wir mit Ministerpräsident Winfried Kretschmann\, Bischof Dr. Gebhard Fürst und der VAUDE-Geschäftsführerin Dr. Antje von Dewitz. Sie sind herzlich eingeladen!  \nBegrüßung: Dr. Verena Wodtke-Werner\, Direktorin der Akademie  \nModeration: Dr. Hendrik Groth\, Chefredakteur Schwäbische Zeitung  \nBischof Dr. Gebhard Fürst Europa hat nach seiner ist seit 2000 Bischof der Diözese Rottenburg-Stuttgart. Ansicht nur dann eine gute Zukunft\, wenn es sich nicht von seinem christlichen Erbe abkoppelt.  \nWinfried Kretschmann\, seit Mai 2011 Ministerpräsident von Baden-Württemberg\, tritt vehement gegen den aufkommenden Nationalismus in Europa ein und plädiert stattdessen dafür\, Europa durch Erneuerung zu ver-bessern und zu stärken.  \nDr. Antje von Dewitz leitet seit 2009 den Outdoor-Ausrüster VAUDE in Tettnang und verfolgt dabei eine konsequent auf Nachhaltigkeit ausgerichtete Unternehmensstrategie. Von Dewitz ist Initiatorin der Unternehmensinitiative „Bleiberecht für Geflüchtete in Ausbildung und Arbeit“.  \n  \nEinladung 12.04.2019
URL:https://wirundjetzt.org/event/weingartener-abende/
LOCATION:Baden-Württemberg
END:VEVENT
BEGIN:VEVENT
DTSTART;TZID=Europe/Berlin:20190412T193000
DTEND;TZID=Europe/Berlin:20190412T193000
DTSTAMP:20260420T012003
CREATED:20190410T195314Z
LAST-MODIFIED:20190410T195314Z
UID:10000465-1555097400-1555097400@wirundjetzt.org
SUMMARY:Inhabit - ein Dokufilm über Permakultur - FN
DESCRIPTION:Inhabit – ein Dokufilm über positive Projekte zum Thema Boden\, Permakultur\, Landwirtschaft\n\n12.4. Auftakt mit dem Filmabend im Studio 17 in Friedrichshafen\num 19.30 Uhr zeigen wir den Film „Inhabit“ und stellen den Bodenfruchtbarkeitsfond vor. \nEintritt frei – Spende erbeten \nIn Kooperation mit der Solawi Bodensee zeigt das Kino Studio 17 den Dokumentarfilm „Inhabit“. Der Abend beginnt um 19:30 Uhr u.a. mit der Vorstellung des Bodenfruchtbarkeitsfonds (www.bodenfruchtbarkeit.bio) \n„Inhabit“ beobachtet im Nordosten und Mittleren Westen der Vereinigten Staaten verschiedene Personen\, wie sie auf ihre Art Permakultur betreiben. Im Frühjahr bis Sommer 2013 wurden über 20 Gebiete portraitiert: Vororte\, Grossstädte\, ländliche Orte. Das Ergenis: eine breit funktionierende Antwort auf globale Herausforderungen: Nahrung\, Wasser\, Medizin\, Verwaltung\, Wirtschaft und Kultur. Gezeigt wird eine schiere Reihe umsetzungsfähiger Konzepte\, mittels derer Menschen wie Du und ich Permakultur in seinen unterschiedlichsten Formen betreiben können. \nDiejenigen\, die sich bereits auskennen\, erhalten eine Vorschau auf das\, was möglich ist\, in Form von bereits existierenden Projekten und Lösungen. Diejenigen\, die hier auf Neuland treffen\, bekommen mit diesem Film eine fantastische Neusicht unseres Selbstverständnisses und unserer Beziehung zur Erde. Jeder hingegen wird erkennen\, dass wir Menschen letztendlich die Heilkräfte besitzen\, um unseren Planeten zu retten. \nUSA 2014 | Dokumentation | Regie: Costa Boutsikaris | Darsteller: Geoff Lawton\, Ben Falk\, Eric Toensmeier\, Lisa Fernandes\, uvm. | FSK: 16 | 92 min \nVeranstalter: culturverein caserne e.V. | Tel. 07541 31726 | www.kulturhaus-caserne.de\nKarten: nur an der Abendkasse \n  \n  \n\n\n\nInhabit Trailerhttps://youtu.be/9U56O6LDyLQ
URL:https://wirundjetzt.org/event/inhabit-ein-dokufilm-ueber-permakultur-fn/
LOCATION:Baden-Württemberg
CATEGORIES:Aktionen,Film,Nachhaltigkeit,Ökologie
END:VEVENT
BEGIN:VEVENT
DTSTART;TZID=Europe/Berlin:20190412T193000
DTEND;TZID=Europe/Berlin:20190412T213000
DTSTAMP:20260420T012003
CREATED:20190410T160926Z
LAST-MODIFIED:20190410T161925Z
UID:10000462-1555097400-1555104600@wirundjetzt.org
SUMMARY:Vortrag über den Weltagrarbericht - Überlingen
DESCRIPTION:Benny Härlin spricht über den Weltagrarbericht und den 2000 m² Weltacker\n\nAm Freitag\, 12. April\, kommt Benny Härlin auf Einladung von Martin Hahn\nMdL und der Überlinger Initiative Weltacker zu einem Vortrag über den\nWeltagrarbericht nach Uhldingen-Mühlhofen. \nUm 19.30 Uhr spricht der Leiter des Berliner\nBüros der Zukunftsstiftung Landwirtschaft\, in der Alten Fabrik\nMühlhofen\, Daisendorfer Straße 4\, über die globale Landwirtschaft\,\nihre Geschichte und Zukunft. \nDER VORTRAG IST ÖFFENTLICH. \n  \n\n\n\nhttps://youtu.be/owiXZTRJyr0?t=19
URL:https://wirundjetzt.org/event/vortrag-ueber-den-weltagrarbericht-ueberlingen/
LOCATION:Baden-Württemberg
CATEGORIES:Aktionen,Vortrag
END:VEVENT
BEGIN:VEVENT
DTSTART;TZID=Europe/Berlin:20190412T200000
DTEND;TZID=Europe/Berlin:20190412T230000
DTSTAMP:20260420T012003
CREATED:20190127T153700Z
LAST-MODIFIED:20190221T213415Z
UID:10000419-1555099200-1555110000@wirundjetzt.org
SUMMARY:danzing moods - Freies Tanzen - Wihelmsdorf
DESCRIPTION:Freies Barfuß-Tanzen für Jung und Alt: ein Abend für und mit Tanz\, Lebensfreude und netten Menschen. \nDie Gäste erwartet eine abwechslungsreiche\, musikalische Reise durch verschiedene Kulturen und Stilrichtungen. Die stimmungsvolle Mischung aus Rhythmus und Melodie lädt ein zum freien Bewegen abseits von Zwängen und Alltag.  \nBarfuß-Tanzen\, das heißt einfach ohne Straßenschuhe\, eben barfuß oder auf Socken oder mit Indoor-Schuhen. \nEintritt nach eigenen Ermessen.
URL:https://wirundjetzt.org/event/danzing-moods-freies-tanzen-2-2/
LOCATION:Baden-Württemberg
CATEGORIES:Tanzen
END:VEVENT
BEGIN:VEVENT
DTSTART;TZID=Europe/Berlin:20190413T080000
DTEND;TZID=Europe/Berlin:20190414T170000
DTSTAMP:20260420T012003
CREATED:20190310T135213Z
LAST-MODIFIED:20190411T070214Z
UID:10000103-1555142400-1555261200@wirundjetzt.org
SUMMARY:Bodentage der Solawi Bodensee - Friedrichshafen
DESCRIPTION:Kompost und Boden – Gesunder Boden als Grundlage für jeden Garten\n  \n13./14. April Kompost und Boden – Gesunder Boden als Grundlage für jeden Garten\nSa. 10.00-18.00 / So 9.00-14.00 Uhr Wochenendseminar mit Ulrich Hampl vom Bodenfruchtbarkeitsfond und Helgard Greve von Humusbildung Göttingen\nAm Samstag erkunden wir mit Ulrich Hampl\, was einen gesunden Boden eigentlich ausmacht\, wie der gesund wird und bleibt und was wir dazu beitragen können.\nSonntag 9.00-14.00 Bau einer Terra Preta-Miete mit Helgard Greve von www.humusbildung-goettingen.de \nund SoHuWi (Solidarische Humuswirtschaft in Gründung) \nTeilnehmerbeitrag für das gesamte Seminar 75\,-€\, nur Samstag 45\,-€ nur Sonntag 35\,-€\, Ermäßigung auf Anfrage gerne möglich.
URL:https://wirundjetzt.org/event/bodentage-der-solawi-bodensee-friedrichshafen/
LOCATION:Solawi Bodensee – Raderach/Langacker\, Fichtenburgstraße 51\, Friedrichshafen\, Deutschland
CATEGORIES:Aktionen,Exkursion,Permakultur,Seminar,Workshop
ORGANIZER;CN="Solawi Bodensee e.V.":MAILTO:klimagespraech@solawi-bodensee.de
GEO:47.6983164;9.4406553
X-APPLE-STRUCTURED-LOCATION;VALUE=URI;X-ADDRESS=Solawi Bodensee – Raderach/Langacker Fichtenburgstraße 51 Friedrichshafen Deutschland;X-APPLE-RADIUS=500;X-TITLE=Fichtenburgstraße 51:geo:9.4406553,47.6983164
END:VEVENT
BEGIN:VEVENT
DTSTART;TZID=Europe/Berlin:20190413T090000
DTEND;TZID=Europe/Berlin:20190413T130000
DTSTAMP:20260420T012003
CREATED:20190410T162440Z
LAST-MODIFIED:20190410T162740Z
UID:10000463-1555146000-1555160400@wirundjetzt.org
SUMMARY:2000 m ² Weltacker wird vorgestellt und besichtigt - Überlingen
DESCRIPTION:Überlinger Weltacker Initiative trifft sich auf dem Hof Rengoldshausen\n\nAm Samstag\, 13. April\, um 9 Uhr trifft sich die Überlinger Initiative\nWeltacker auf dem Hofgut Rengoldshausen in Überlingen. Neben den\nlokalen Akteuren\, Benjamin Fäth\, Nikola Patzel\, Ilsabe Zucker und\nWalter Sorms werden auch Benedikt Härlin und Martin Hahn MdL mit dabei\nsein. Benedikt Härlin\, ehemals Vertreter der\nNichtregierungs-Organisationen im Aufsichtsrat des Weltagrarberichts\n(IAASTD) der UN und der Weltbank\, war nicht nur an der Erstellung des\nWeltagrarberichts beteiligt. Er ist auch Ideengeber und Erfinder des\nWeltackers (Link: https://www.2000m2.eu/de/ [2]) wie er bereits in\nBerlin realisiert worden ist. Die Überlinger Initiative plant in\nZusammenhang mit der Landesgartenschau 2020 einen Weltacker in\nÜberlingen. DAS TREFFEN AUF DEM HOFGUT RENGOLDSHAUSEN IST\nPRESSEÖFFENTLICH. \nAm Samstag\, 13. April\, um 11.30 Uhr laden Martin Hahn MdL und die\nÜberlinger Initiative Weltacker dann auf das für den Weltacker\nvorgesehene 2000 m² Ackergrundstück an der L 200 zwischen dem\nEinkaufszentrum La Piazza und Andelshofen in Höhe der neuen B 31\nAuffahrt ein. Geplant ist eine Vorabbesichtigung des künftigen\nWeltackers. Benedikt Härlin und die Initiative Weltacker werden das\ngeplante Projekt vorstellen. Martin Hahn MdL unterstützt die Initiative\nund möchte für das Projekt Weltacker und eine bessere\nLandwirtschaftspolitik werben. Denn die Landwirtschaft verursacht auch\nmehr als ein Jahrzehnt nach der Veröffentlichung des Weltagrarberichts\nnoch immer verheerende Schäden in Europa und im globalen Süden und\nschafft es trotzdem noch immer nicht\, die Welt satt zu machen. Weltweit\nhungern mehr als 820 Millionen Menschen und zwei Milliarden leiden an\nMangelernährung. Der Artenschwund in Europa nimmt in alarmierendem\nTempo zu. Der Klimawandel führt zu Trockenheit und Überschwemmungen.\nNitrat und Pestizide verursachen riesige Umweltprobleme. Auch Fragen zur\nartgerechten Tierhaltung in der agro-industriell geprägten\nLandwirtschaft werden immer lauter. DIE VORABBESICHTIGUNG DES\nZUKÜNFTIGEN ÜBERLINGER WELTACKERS IST ÖFFENTLICH. \n\n\n\nhttps://youtu.be/owiXZTRJyr0
URL:https://wirundjetzt.org/event/2000-m-%c2%b2-weltacker-wird-vorgestellt-und-besichtigt-ueberlingen/
LOCATION:Baden-Württemberg
CATEGORIES:Aktionen,Exkursion,klima,Nachhaltigkeit
END:VEVENT
BEGIN:VEVENT
DTSTART;VALUE=DATE:20190422
DTEND;VALUE=DATE:20190423
DTSTAMP:20260420T012003
CREATED:20190317T163717Z
LAST-MODIFIED:20190317T163717Z
UID:10000456-1555891200-1555977599@wirundjetzt.org
SUMMARY:Internationalen Bodensee-Friedensweg - Konstanz
DESCRIPTION:
URL:https://wirundjetzt.org/event/internationalen-bodensee-friedensweg-konstanz/
LOCATION:Baden-Württemberg
END:VEVENT
BEGIN:VEVENT
DTSTART;TZID=Europe/Berlin:20190427T093000
DTEND;TZID=Europe/Berlin:20190427T110000
DTSTAMP:20260420T012003
CREATED:20190422T133816Z
LAST-MODIFIED:20190422T143252Z
UID:10000475-1556357400-1556362800@wirundjetzt.org
SUMMARY:100 Jahre Dreigliederung in Achberg
DESCRIPTION:Podiumsgespräch: Vertreter/innen der „Demokratische Stimme der Jugend e.V.” / Dr. Tobias Hartkemeyer: „Freiheit\, Gleichheit\, Brüderlichkeit“: Wie kann sich die Idee der ’sozialen Dreigliederung‘ verwirklichen in ‚Bildung\, Recht und Wirtschaft‘? Ein bekannter Vertreter der Bildungs- und Bio-Landbaupraxis begibt sich ins Gespräch mit jugendlichen Aktivisten\, die sich anschicken\, durch politische Kampagnen und künstlerischen Aktionen neue gesellschaftliche Perspektiven zu schaffen. \n\n\nDie Jugend als Akteur des gesellschaftlichen Wandels \n\n\n\nSie sehen gerade einen Platzhalterinhalt von Standard. Um auf den eigentlichen Inhalt zuzugreifen\, klicken Sie auf den Button unten. Bitte beachten Sie\, dass dabei Daten an Drittanbieter weitergegeben werden. \n Inhalt entsperren Erforderlichen Service akzeptieren und Inhalte entsperren \n Weitere Informationen \n\n\nEintritt: Vortrag/Podien: € 8\,- / 5\,-
URL:https://wirundjetzt.org/event/100-jahre-dreigliederung-2/
LOCATION:Baden-Württemberg
CATEGORIES:Festival,Jubiläumsfeier,Symposium
ATTACH;FMTTYPE=image/jpeg:https://wirundjetzt.org/wp-content/uploads/2019/04/Plakat100JahreDreigl.jpg
END:VEVENT
BEGIN:VEVENT
DTSTART;TZID=Europe/Berlin:20190427T100000
DTEND;TZID=Europe/Berlin:20190427T200000
DTSTAMP:20260420T012003
CREATED:20190310T143043Z
LAST-MODIFIED:20190310T143043Z
UID:10000113-1556359200-1556395200@wirundjetzt.org
SUMMARY:Tauschen am Bodensee - Regionaltreffen Mimmenhausen
DESCRIPTION:Der Tauschring bietet Ihnen eine Plattform zum Austausch von Dienstleistungen und Waren.\nDer Tausch wird ohne gesetzliche Zahlungsmittel durchgeführt\, jedoch auf entsprechenden Konten transparent dokumentiert.\nDie Verrechnungseinheit ist ein Talent.\nMitglieder sind Menschen aller Altersklassen und Gesellschaftsschichten.\nDer Tauschring Tauschen am See basiert auf:\n \n\ngelebter Menschlichkeit\, Freundschafts- und Nachbarschaftshilfe\nUnterstützung im Alltag\, Ausbildung\, Gemeinschaft\, Gesundheit\, Erziehung\, bei Umzügen\, Renovierungen und vielem mehr\neiner Gemeinschaft von Menschen\, Organisationen\, Institutionen und Unternehmen\, dielokale Nachbarschaftshilfe fördern.   
URL:https://wirundjetzt.org/event/tauschen-am-bodensee-regionaltreffen-tettnang-2-2-2-2/
LOCATION:Baden-Württemberg
END:VEVENT
BEGIN:VEVENT
DTSTART;TZID=Europe/Berlin:20190427T123000
DTEND;TZID=Europe/Berlin:20190427T190500
DTSTAMP:20260420T012003
CREATED:20190424T073740Z
LAST-MODIFIED:20190424T073826Z
UID:10000119-1556368200-1556391900@wirundjetzt.org
SUMMARY:Wanderprogramm 2. Bodanperle ab Konstanz
DESCRIPTION:Strecke: 9\,1 km        ↑ 106 hm       ↓ 65 hm       Laufzeit: 2:21 h       Gesamtdauer: 6 h \nTreffpunkt : Eingang Bahnhof Konstanz\, Rückkehr: 19.05 Uhr Bahnhof Konstanz \nZielgruppe: Personen ab 16 Jahre mit durchschnittlicher körperlicher Fitness \nTeilnehmerzahl: min. 8 Personen\, max. 16 Personen \nTeilnahmebeitrag: € 10\,- in bar vor Ort\, (Fahrtkosten\, Einkehr extra) \nWanderleitung: Chris Richter\, Zertifizierter Wanderführer (Dt. Wanderverband e.V.) \nDie als leicht eingestufte Natur- und Gesundheitswanderung findet statt bei trockener Wetterlage. Als Ausrüstung mitzubringen sind feste Schuhe mit Profilsohlen\, wettergemäße Kleidung\, insbesondere Regenschutz\, 1 Liter Trinkwasser und Proviant nach Bedarf. Eine wetterbedingte Absage erfolgt ggfls. per eMail am Abend vorher. \nNähere Informationen unter: http://www.naturschule-konstanz.de/bodanperlen-passe/) \nAnmeldung bitte per email bis 25.04.19 an: Bodanperlen@naturschule-region-bodensee.de \nWanderführer Chris Richter antwortet Ihnen dann mit einer email. \nNatürlich immer auch hier: http://naturschule-region-bodensee.de/
URL:https://wirundjetzt.org/event/wanderprogramm-2-bodanperle-ab-konstanz-3/
LOCATION:Baden-Württemberg
CATEGORIES:Wanderung
END:VEVENT
BEGIN:VEVENT
DTSTART;TZID=Europe/Berlin:20190427T153000
DTEND;TZID=Europe/Berlin:20190427T170000
DTSTAMP:20260420T012003
CREATED:20190422T134820Z
LAST-MODIFIED:20190422T142139Z
UID:10000478-1556379000-1556384400@wirundjetzt.org
SUMMARY:100 Jahre Dreigliederung in Achberg
DESCRIPTION:Politiker und Gemeinwohlaktivisten im Gespräch: \nKann heutige Politik konkret dazu beitragen\, dass das heutige Wirtschaftssystem in Richtung „Brüderlich / Geschwisterlichkeit“ verändert wird? Die EU-Parlaments-Kandidatin Anna Deparnay-Grunenberg diskutiert mit dem ehem.  Md EU-Parlaments Gerald Häfner und dem  Gründer der Gemeinwohlökonomie Christian Felber. \nEintritt: Vortrag/Podien: € 8\,- / 5\,-
URL:https://wirundjetzt.org/event/100-jahre-dreigliederung-4/
LOCATION:Baden-Württemberg
CATEGORIES:Fest,Jubiläumsfeier,Symposium
ATTACH;FMTTYPE=image/jpeg:https://wirundjetzt.org/wp-content/uploads/2019/04/Plakat100JahreDreigl.jpg
END:VEVENT
BEGIN:VEVENT
DTSTART;TZID=Europe/Berlin:20190428T093000
DTEND;TZID=Europe/Berlin:20190428T110000
DTSTAMP:20260420T012003
CREATED:20190422T141526Z
LAST-MODIFIED:20190422T143111Z
UID:10000116-1556443800-1556449200@wirundjetzt.org
SUMMARY:100 Jahre Dreigliederung in Achberg
DESCRIPTION:Jugendliche/Heranwachsende (ca. 12 – 18 Jahre) beraten\, welche Zukunft sie sich erwünschen\nModeration: Camilla von Homeyer-Straub & Konstantin Müller\nÖffentlicher Gesprächskreis für alle\, die es wie Greta Thunberg machen wollen:\nmitdenken und mitreden\, mitträumen\, neue Wege gehen \nMit Anmeldung (08380 981 6471)\, auch kurzfristig\, seid herzlich willkommen und traut euch! Eintritt frei \n\n\nDie Jugend als Akteur des gesellschaftlichen Wandels \n\n\n\nSie sehen gerade einen Platzhalterinhalt von Standard. Um auf den eigentlichen Inhalt zuzugreifen\, klicken Sie auf den Button unten. Bitte beachten Sie\, dass dabei Daten an Drittanbieter weitergegeben werden. \n Inhalt entsperren Erforderlichen Service akzeptieren und Inhalte entsperren \n Weitere Informationen \n\n\n  \nVon 11 – 11.30 h Berichte aus der Jugendwerkstatt in der Achberghalle: Camilla von Hohmeyer-Straub und Konstantin Müller \n 
URL:https://wirundjetzt.org/event/100-jahre-dreigliederung-6-2/
LOCATION:Baden-Württemberg
CATEGORIES:Fest,Jubiläumsfeier,Symposium
ATTACH;FMTTYPE=image/jpeg:https://wirundjetzt.org/wp-content/uploads/2019/04/Plakat100JahreDreigl.jpg
END:VEVENT
BEGIN:VEVENT
DTSTART;TZID=Europe/Berlin:20190428T150000
DTEND;TZID=Europe/Berlin:20190428T154500
DTSTAMP:20260420T012003
CREATED:20190422T140619Z
LAST-MODIFIED:20190422T141859Z
UID:10000114-1556463600-1556466300@wirundjetzt.org
SUMMARY:100 Jahre Dreigliederung in Achberg
DESCRIPTION:Zugabe zum Symposium \nDer Kasperkoffer zeigt das Kaspermärchen Similia Similibus – ein Frühlingsmärchen\, für Kinder ab 3 Jahren \nEintritt: € 5\,- / 4\,-
URL:https://wirundjetzt.org/event/100-jahre-dreigliederung-5/
LOCATION:Humboldt-Haus\, Panoramastraße 30\, 88147 Achberg:\, Panoramastraße 30\, Achberg\, 88147\, Deutschland
CATEGORIES:Fest,Jubiläumsfeier,Kultur
ATTACH;FMTTYPE=image/jpeg:https://wirundjetzt.org/wp-content/uploads/2019/04/Plakat100JahreDreigl.jpg
GEO:47.6117378;9.709511
X-APPLE-STRUCTURED-LOCATION;VALUE=URI;X-ADDRESS=Humboldt-Haus Panoramastraße 30 88147 Achberg: Panoramastraße 30 Achberg 88147 Deutschland;X-APPLE-RADIUS=500;X-TITLE=Panoramastraße 30:geo:9.709511,47.6117378
END:VEVENT
END:VCALENDAR