BEGIN:VCALENDAR
VERSION:2.0
PRODID:-//»wirundjetzt« - ECPv6.15.17.1//NONSGML v1.0//EN
CALSCALE:GREGORIAN
METHOD:PUBLISH
X-WR-CALNAME:»wirundjetzt«
X-ORIGINAL-URL:https://wirundjetzt.org
X-WR-CALDESC:Veranstaltungen für »wirundjetzt«
REFRESH-INTERVAL;VALUE=DURATION:PT1H
X-Robots-Tag:noindex
X-PUBLISHED-TTL:PT1H
BEGIN:VTIMEZONE
TZID:Europe/Berlin
BEGIN:DAYLIGHT
TZOFFSETFROM:+0100
TZOFFSETTO:+0200
TZNAME:CEST
DTSTART:20180325T010000
END:DAYLIGHT
BEGIN:STANDARD
TZOFFSETFROM:+0200
TZOFFSETTO:+0100
TZNAME:CET
DTSTART:20181028T010000
END:STANDARD
BEGIN:DAYLIGHT
TZOFFSETFROM:+0100
TZOFFSETTO:+0200
TZNAME:CEST
DTSTART:20190331T010000
END:DAYLIGHT
BEGIN:STANDARD
TZOFFSETFROM:+0200
TZOFFSETTO:+0100
TZNAME:CET
DTSTART:20191027T010000
END:STANDARD
BEGIN:DAYLIGHT
TZOFFSETFROM:+0100
TZOFFSETTO:+0200
TZNAME:CEST
DTSTART:20200329T010000
END:DAYLIGHT
BEGIN:STANDARD
TZOFFSETFROM:+0200
TZOFFSETTO:+0100
TZNAME:CET
DTSTART:20201025T010000
END:STANDARD
END:VTIMEZONE
BEGIN:VEVENT
DTSTART;TZID=Europe/Berlin:20190308T200000
DTEND;TZID=Europe/Berlin:20190308T230000
DTSTAMP:20260420T062454
CREATED:20190127T153632Z
LAST-MODIFIED:20190221T213450Z
UID:10000539-1552075200-1552086000@wirundjetzt.org
SUMMARY:danzing moods - Freies Tanzen - Wihelmsdorf
DESCRIPTION:Freies Barfuß-Tanzen für Jung und Alt: ein Abend für und mit Tanz\, Lebensfreude und netten Menschen. \nDie Gäste erwartet eine abwechslungsreiche\, musikalische Reise durch verschiedene Kulturen und Stilrichtungen. Die stimmungsvolle Mischung aus Rhythmus und Melodie lädt ein zum freien Bewegen abseits von Zwängen und Alltag.  \nBarfuß-Tanzen\, das heißt einfach ohne Straßenschuhe\, eben barfuß oder auf Socken oder mit Indoor-Schuhen. \nEintritt nach eigenen Ermessen.
URL:https://wirundjetzt.org/event/danzing-moods-freies-tanzen-2/
LOCATION:Baden-Württemberg
CATEGORIES:Tanzen
END:VEVENT
BEGIN:VEVENT
DTSTART;TZID=Europe/Berlin:20190309T193000
DTEND;TZID=Europe/Berlin:20190309T210000
DTSTAMP:20260420T062454
CREATED:20190222T062706Z
LAST-MODIFIED:20190222T062706Z
UID:10000450-1552159800-1552165200@wirundjetzt.org
SUMMARY:Filmaufführung "TOMORROW" - Uhldingen
DESCRIPTION:Im Anhang findet Ihr das Plakat\, mit dem die Filmvorführung beworben wird. \n19-02-09_Tomorrow_Alte_Fabrik_9-3-19
URL:https://wirundjetzt.org/event/filmauffuehrung-tomorrow-uhldingen/
LOCATION:Baden-Württemberg
END:VEVENT
BEGIN:VEVENT
DTSTART;TZID=Europe/Berlin:20190310T140000
DTEND;TZID=Europe/Berlin:20190310T173000
DTSTAMP:20260420T062454
CREATED:20190127T080124Z
LAST-MODIFIED:20190221T214830Z
UID:10000402-1552226400-1552239000@wirundjetzt.org
SUMMARY:GWÖ Workshop - Friedrichshafen
DESCRIPTION:
URL:https://wirundjetzt.org/event/gwoe-workshop/
LOCATION:Baden-Württemberg
END:VEVENT
BEGIN:VEVENT
DTSTART;VALUE=DATE:20190316
DTEND;VALUE=DATE:20190318
DTSTAMP:20260420T062454
CREATED:20190221T215031Z
LAST-MODIFIED:20190221T215031Z
UID:10000435-1552694400-1552867199@wirundjetzt.org
SUMMARY:Wochenendseminar Waldgarten - Friedrichshafen
DESCRIPTION:„Sofort Bäume und Beeren pflanzen!“ war mein Impuls nachdem ich Harald Wedig und die Idee des Waldgartens zum ersten Mal in meiner  Permakulturausbildung kennengelernt hatte. Tatsächlich habe ich noch im selben Jahr Obstbäume mit Johannisbeeren und Himbeeren nebst einigen Kräuter und Wildobststräuchern auf dem Solawi-Acker gepflanzt. Doch was macht die Faszination der Idee aus?\nWaldgarten oder Agroforst beschreibt die Kombination von Bäumen mit Gemüse- oder Getreideanbau auf der gleichen Fläche. Dabei geht es um einen guten Gesamtflächenertrag über einen langen Zeitraum\, statt eines kurzfristig sehr hohen Ertrages nur einer Kultur. Natürliches Vorbild für solche Pflanzungen sind die artenreichen Waldränder. Von Gemüse und Kräutern über Beeren bis zu Bäumen gedeihen auf verschiedenen „Etagen“ die Pflanzen. Während ich Gemüse und Kräuter von Anfang an jedes Jahr ernten kann und auch Beeren sehr schnell Erträge liefern\, haben (Obst)- Bäume Zeit in Ruhe zu wachsen. Artenvielfalt\, Lebensräume für weiter Wildpflanzen und Tiere sowie eine positive Entwicklung des Bodens stellen sich fast von selbst ein. Gute Planung und bewusste Pflege sind die ausschlaggebenden Punkte für eine solche Anlage. Der Einzelbaum im Kleingarten bis hin zu mehreren Hektar Fläche lassen sich so gestalten. Wie es wirklich funktioniert und was besonders zu beachten ist wird Harald aus seiner jahrzehntelangen Erfahrung in diesem Seminar vermitteln. Bei den Planungsmethoden üben wir zudem\, wir Projekte erfolgreich werden\, an denen viele Menschen oder unterschiedliche Gruppen beteiligt sind.
URL:https://wirundjetzt.org/event/wochenendseminar-waldgarten-friedrichshafen/
LOCATION:Solawi Bodensee – Raderach/Langacker\, Fichtenburgstraße 51\, Friedrichshafen\, Deutschland
ORGANIZER;CN="Solawi Bodensee e.V.":MAILTO:klimagespraech@solawi-bodensee.de
GEO:47.6983164;9.4406553
X-APPLE-STRUCTURED-LOCATION;VALUE=URI;X-ADDRESS=Solawi Bodensee – Raderach/Langacker Fichtenburgstraße 51 Friedrichshafen Deutschland;X-APPLE-RADIUS=500;X-TITLE=Fichtenburgstraße 51:geo:9.4406553,47.6983164
END:VEVENT
BEGIN:VEVENT
DTSTART;TZID=Europe/Berlin:20190317T120000
DTEND;TZID=Europe/Berlin:20190317T170000
DTSTAMP:20260420T062454
CREATED:20190315T151902Z
LAST-MODIFIED:20190315T152035Z
UID:10000117-1552824000-1552842000@wirundjetzt.org
SUMMARY:5. Salemer Saatgutbörse - Salem
DESCRIPTION:
URL:https://wirundjetzt.org/event/5-salemer-saatgutboerse/
LOCATION:Baden-Württemberg
END:VEVENT
BEGIN:VEVENT
DTSTART;TZID=Europe/Berlin:20190320T190000
DTEND;TZID=Europe/Berlin:20190320T200000
DTSTAMP:20260420T062454
CREATED:20190310T142906Z
LAST-MODIFIED:20190310T142906Z
UID:10000108-1553108400-1553112000@wirundjetzt.org
SUMMARY:Tauschen am Bodensee - Regionaltreffen Bambergen
DESCRIPTION:Der Tauschring bietet Ihnen eine Plattform zum Austausch von Dienstleistungen und Waren.\nDer Tausch wird ohne gesetzliche Zahlungsmittel durchgeführt\, jedoch auf entsprechenden Konten transparent dokumentiert.\nDie Verrechnungseinheit ist ein Talent.\nMitglieder sind Menschen aller Altersklassen und Gesellschaftsschichten.\nDer Tauschring Tauschen am See basiert auf:\n \n\ngelebter Menschlichkeit\, Freundschafts- und Nachbarschaftshilfe\nUnterstützung im Alltag\, Ausbildung\, Gemeinschaft\, Gesundheit\, Erziehung\, bei Umzügen\, Renovierungen und vielem mehr\neiner Gemeinschaft von Menschen\, Organisationen\, Institutionen und Unternehmen\, dielokale Nachbarschaftshilfe fördern.   
URL:https://wirundjetzt.org/event/tauschen-am-bodensee-regionaltreffen-tettnang-2-2/
LOCATION:Baden-Württemberg
END:VEVENT
BEGIN:VEVENT
DTSTART;TZID=Europe/Berlin:20190321T193000
DTEND;TZID=Europe/Berlin:20190321T220000
DTSTAMP:20260420T062454
CREATED:20190210T151438Z
LAST-MODIFIED:20190221T215142Z
UID:10000431-1553196600-1553205600@wirundjetzt.org
SUMMARY:SO WOLLEN WIR LEBEN - GEMEINSAM ERSCHAFFEN WIR EINE NEUE WELT - Konstanz
DESCRIPTION:Die Art\, wie wir zur Zeit leben\, hat die Zerstörung unserer natürlichen Lebensgrundlagen zur Folge. So kann es nicht mehr weiter gehen! Wir müssen uns ändern. Wir brauchen positive Perspektiven. Aus diesen Gedanken heraus entsteht in Zusammenarbeit von wirundjetzt e.V.\, Erde in Balance e.V.\, Yogafestival Bodensee und Ong Yoga Festival-Konstanz im Bodenseeraum ein regionales Nachhaltigkeits- und Gemeinschaftsprojekt. Es beinhaltet das neue „So wollen wir leben – Festival“ und ein Festival-Netzwerk mit einem gemeinsamen Ziel: Eine erfüllende\, verantwortliche und nachhaltige NEUE KULTUR – im Einklang mit der Natur. \nIm ersten Teil des Abends stellen sich die Projektpartner mit ihren Zutaten für eine NEUE KULTUR vor. \nIm zweiten Teil wird das Publikum miteinbezogen und direkt in eine Festival-Athmosphäre und eine NEUE KULTUR des Miteinanders entführt – beispielsweise durch ein verbindendes Matra-Singen. \nBeide Teile werden umrahmt durch inspirierende Lieder von Benjamin Albrecht und Freunden.
URL:https://wirundjetzt.org/event/so-wollen-wir-leben/
LOCATION:Kulturzentrum K9 Konstanz\, Talgartenstraße 4\, Konstanz\, 78462\, Deutschland
GEO:47.6606102;9.1704629
X-APPLE-STRUCTURED-LOCATION;VALUE=URI;X-ADDRESS=Kulturzentrum K9 Konstanz Talgartenstraße 4 Konstanz 78462 Deutschland;X-APPLE-RADIUS=500;X-TITLE=Talgartenstraße 4:geo:9.1704629,47.6606102
END:VEVENT
BEGIN:VEVENT
DTSTART;VALUE=DATE:20190322
DTEND;VALUE=DATE:20190325
DTSTAMP:20260420T062454
CREATED:20190127T081011Z
LAST-MODIFIED:20190221T215259Z
UID:10000404-1553212800-1553471999@wirundjetzt.org
SUMMARY:Zweite Wandel-Konferenz: ein Wandelbündnis entsteht - Windberg in Thüringen
DESCRIPTION:Dem Impuls zum Aufbau eines Bündnisses im D-A-CH-Raum folgend\, trafen Ende Oktober 2018 knapp 30 Personen aus diversen\, im sozial-ökologischen Wandel aktiven Organisationen auf der ersten Wandelkonferenz zusammen. Während der beiden Tage haben wir dort auch gemeinsam das „Memorandum of Understanding“ erarbeitet\, einstimmig beschlossen und unterzeichnet. Das Memorandum skizziert unseren Wertekonsens\, Visionen und Ziele. Dabei gab es ein klares Votum für eine themenübergreifende\, professionell arbeitende und inhaltlich neutrale Organisation***. Wir nennen sie vorläufig „Wandelbündnis“\, in der Langform „Bündnis für den sozial-ökologischen Wandel“. Wichtig dabei: Alle teilnehmenden Organisationen sollen ihre bisherige Autarkie beibehalten. \nDie Ergebnisse wurden bereits drei Wochen später auf der Bits & Bäume Konferenz in Berlin präsentiert und weitere Bündnispartner mit ins Boot geholt. Seither arbeitet ein fleißiges Koordinationsteam und ein erweiterter Aktivenkreis an der Fortführung des Entwicklungsprozesses.\nMit der 2. Wandelkonferenz setzen wir nun den nächsten Schritt zur Öffnung und wollen Interessierte auf einer breiteren Basis miteinbeziehen. \nTeilnehmer*innen \nMit dieser Einladung bitten wir all jene\, die zum jetzigen Zeitpunkt einen wichtigen Beitrag zum Aufbauprozess leisten können\, um Teilnahme. Somit wenden wir uns mit dieser Veranstaltung vor allem an folgende Personenkreise: \n\n„Infrastruktur“: Akteur*innen\, die Initiativen mit Ressourcen unterstützen: Finanzierung\, IT bzw. Digitalisierung\, Organisationsaufbau\, Rechtsbeistand\, Prozessbegleitung\, Botschafter*Innen\, Medienpräsenz etc.\nNetzwerke & große Organisationen: Multiplikator*innen und wichtige Kooperationspartner*innen\, über die wir zu einem späteren Zeitpunkt viele Organisationen und Einzelakteure erreichen\nMitarbeiter*innen: Menschen\, die regelmäßig & verbindlich mit ihren Fähigkeiten am operativen Aufbau mitwirken und mitgestalten (Orientierungsrahmen: 5 Stunden/Woche)\nInteressierte: die zukünftige Zielgruppen von diversen Wandel-Akteuren repräsentieren (als Ergänzung zu den ersten 3 Rollen\, sofern genügend Plätze vorhanden sind)\n\nAus Platz- & Fokusgründen können wir nicht garantieren\, dass alle Interessierten einen Platz bekommen können. \nVorläufige Ziele der 2. Wandelkonferenz \nDie 2. Wandelkonferenz wird als interaktives\, geführtes Erlebnis gestaltet und stellt daher weder eine klassische Diskussionsveranstaltung noch ein klassisches Arbeitsgruppentreffen dar. Dabei wollen wir erreichen: \n\nVertrauen zueinander entwickeln: Kennenlernen\, Herzkultur\, Commitment\nAkteur*innenkreis schrittweise erweitern: einladen – informieren – begeistern\nAbenteuer „Visionreise“: Lasst uns eine „gemeinsame Expedition in eine kooperative Zukunft“ erträumen\, um Inspiration & Motivation zu tanken\n„Planspiel“: Gemeinsam unser Netzwerk-Ökosystem des ökosozialen Wandels erkunden & erleben\nEntscheidungen treffen: Commitment für nächste Schritte auf Basis der erarbeiteten Vorschläge\n\nWie schon bei der 1. Wandelkonferenz geht es auch diesmal nicht um Darstellung des eigenen Projekts bzw. der eigenen Organisation\, sondern ausschließlich um die Entwicklung und Stärkung des Bündnisses und der persönlichen Beziehungen. \nOrganisatorisches \nFalls ihr euch mit den gesteckten Zielen identifizieren könnt und Interesse an der Teilnahme habt\, tretet einfach in Kontakt mit uns. Um mehr über eure Motivation\, Erfahrungen oder Kompetenzen zu erfahren\, ist ein weiterer\, detaillierter Fragebogen bereits in Arbeit und wird zeitnah an alle Interessenten versandt. \nTeilnahmegebühren (nach Selbsteinschätzung): 150 bis 200 € inkl. veganer Vollverpflegung und 2 Übernachtungen. Kann weniger werden\, sofern wir wieder Kostenträger finden\, wie bei der 1. Wandelkonferenz in Sulzbrunn (Ende Oktober 2018). Dort haben uns das RENN.süd Netzwerk\, die Stiftung erneuerbare Freiheit und die Transition-Initiativen unterstützt. Wir bedanken uns somit auch hier nochmals für deren Engagement\, wodurch die Durchführung erheblich einfacher und offener wurde!
URL:https://wirundjetzt.org/event/zweite-wandel-konferenz-ein-wandelbuendnis-entsteht/
LOCATION:Baden-Württemberg
CATEGORIES:Arbeitstreffen,Konferenz,Wandel
ORGANIZER;CN="B%C3%BCndnis f%C3%BCr den sozial-%C3%B6kologischen Wandel":MAILTO:andreas.sallam@frekonale.org
END:VEVENT
BEGIN:VEVENT
DTSTART;TZID=Europe/Berlin:20190328T140000
DTEND;TZID=Europe/Berlin:20190329T160000
DTSTAMP:20260420T062454
CREATED:20190103T073243Z
LAST-MODIFIED:20190221T221708Z
UID:10000096-1553781600-1553875200@wirundjetzt.org
SUMMARY:ISB Workshop - Re-Framing Sustainability - Berlin
DESCRIPTION:
URL:https://wirundjetzt.org/event/isb-expert-exchange-lab/
LOCATION:Baden-Württemberg
CATEGORIES:Konferenz,Nachhaltigkeit,Tagung,Workshop
END:VEVENT
BEGIN:VEVENT
DTSTART;TZID=Europe/Berlin:20190329T190000
DTEND;TZID=Europe/Berlin:20190329T200000
DTSTAMP:20260420T062454
CREATED:20190221T221431Z
LAST-MODIFIED:20190221T221431Z
UID:10000540-1553886000-1553889600@wirundjetzt.org
SUMMARY:Vortrag „Die Stimme in stimmiger Kommunikation“ - Friedrichshafen
DESCRIPTION:Wie fühlen Sie sich mit Ihrer eigenen Stimme?  \nWie ist Ihr Kontakt zu Ihrer Stimme?  \nKennen Sie Ihre Stimme in ihrer Ganzheit und in ihrem Facettenreichtum?  \n  \nVortrag Corinna Coors
URL:https://wirundjetzt.org/event/vortrag-die-stimme-in-stimmiger-kommunikation-friedrichshafen/
LOCATION:IM HIER UND JETZT!\, Bahnhofstraße 21\, Friedrichshafen-Kluftern\, 88048\, Deutschland
GEO:47.6865367;9.4105914
X-APPLE-STRUCTURED-LOCATION;VALUE=URI;X-ADDRESS=IM HIER UND JETZT! Bahnhofstraße 21 Friedrichshafen-Kluftern 88048 Deutschland;X-APPLE-RADIUS=500;X-TITLE=Bahnhofstraße 21:geo:9.4105914,47.6865367
END:VEVENT
END:VCALENDAR