BEGIN:VCALENDAR
VERSION:2.0
PRODID:-//»wirundjetzt« - ECPv6.15.17.1//NONSGML v1.0//EN
CALSCALE:GREGORIAN
METHOD:PUBLISH
X-ORIGINAL-URL:https://wirundjetzt.org
X-WR-CALDESC:Veranstaltungen für »wirundjetzt«
REFRESH-INTERVAL;VALUE=DURATION:PT1H
X-Robots-Tag:noindex
X-PUBLISHED-TTL:PT1H
BEGIN:VTIMEZONE
TZID:Europe/Berlin
BEGIN:DAYLIGHT
TZOFFSETFROM:+0100
TZOFFSETTO:+0200
TZNAME:CEST
DTSTART:20180325T010000
END:DAYLIGHT
BEGIN:STANDARD
TZOFFSETFROM:+0200
TZOFFSETTO:+0100
TZNAME:CET
DTSTART:20181028T010000
END:STANDARD
BEGIN:DAYLIGHT
TZOFFSETFROM:+0100
TZOFFSETTO:+0200
TZNAME:CEST
DTSTART:20190331T010000
END:DAYLIGHT
BEGIN:STANDARD
TZOFFSETFROM:+0200
TZOFFSETTO:+0100
TZNAME:CET
DTSTART:20191027T010000
END:STANDARD
BEGIN:DAYLIGHT
TZOFFSETFROM:+0100
TZOFFSETTO:+0200
TZNAME:CEST
DTSTART:20200329T010000
END:DAYLIGHT
BEGIN:STANDARD
TZOFFSETFROM:+0200
TZOFFSETTO:+0100
TZNAME:CET
DTSTART:20201025T010000
END:STANDARD
END:VTIMEZONE
BEGIN:VEVENT
DTSTART;TZID=Europe/Berlin:20190203T110000
DTEND;TZID=Europe/Berlin:20190203T150000
DTSTAMP:20260420T094140
CREATED:20190127T152411Z
LAST-MODIFIED:20190127T152411Z
UID:10000406-1549191600-1549206000@wirundjetzt.org
SUMMARY:wirundjetzt Netzwerktreffen
DESCRIPTION:Ort wird noch bekannt gegeben.
URL:https://wirundjetzt.org/event/wirundjetzt-netzwerktreffen/
LOCATION:Baden-Württemberg
END:VEVENT
BEGIN:VEVENT
DTSTART;TZID=Europe/Berlin:20190204T170000
DTEND;TZID=Europe/Berlin:20190204T210000
DTSTAMP:20260420T094140
CREATED:20190127T161621Z
LAST-MODIFIED:20190127T161839Z
UID:10000430-1549299600-1549314000@wirundjetzt.org
SUMMARY:wirundjetzt - erreichBar
DESCRIPTION:Von 19.00 Uhr bis 21.00 Uhr wollen wir mit euch zusammen planen\, Ideen schmieden und Projekte umsetzen. Wir wollen regelmäßig zusammen sein und konkret an den Projekten und Ideen Arbeiten und uns austauschen. Dazu laden wir euch herzlich ein.
URL:https://wirundjetzt.org/event/wirundjetzt-erreichbar/
LOCATION:Sedat\, Rathausplatz 3\, Bermatingen\, Deutschland
GEO:47.7295086;9.3495026
X-APPLE-STRUCTURED-LOCATION;VALUE=URI;X-ADDRESS=Sedat Rathausplatz 3 Bermatingen Deutschland;X-APPLE-RADIUS=500;X-TITLE=Rathausplatz 3:geo:9.3495026,47.7295086
END:VEVENT
BEGIN:VEVENT
DTSTART;TZID=Europe/Berlin:20190207T193000
DTEND;TZID=Europe/Berlin:20190207T213000
DTSTAMP:20260420T094140
CREATED:20190126T181659Z
LAST-MODIFIED:20190127T075844Z
UID:10000100-1549567800-1549575000@wirundjetzt.org
SUMMARY:GWÖ-Regionalgruppe Bodensee-Oberschwaben
DESCRIPTION:
URL:https://wirundjetzt.org/event/gwoe-regionalgruppe-bodensee-oberschwaben/
LOCATION:Baden-Württemberg
CATEGORIES:Arbeitstreffen
END:VEVENT
BEGIN:VEVENT
DTSTART;TZID=Europe/Berlin:20190211T190000
DTEND;TZID=Europe/Berlin:20190211T190000
DTSTAMP:20260420T094140
CREATED:20190126T181921Z
LAST-MODIFIED:20190127T075942Z
UID:10000102-1549911600-1549911600@wirundjetzt.org
SUMMARY:GWÖ-Regionalgruppe Bodensee-Oberschwaben
DESCRIPTION:
URL:https://wirundjetzt.org/event/gwoe-regionalgruppe-bodensee-oberschwaben-2/
LOCATION:Baden-Württemberg
CATEGORIES:Arbeitstreffen
END:VEVENT
BEGIN:VEVENT
DTSTART;TZID=Europe/Berlin:20190215T200000
DTEND;TZID=Europe/Berlin:20190215T230000
DTSTAMP:20260420T094140
CREATED:20190127T153451Z
LAST-MODIFIED:20190127T153540Z
UID:10000409-1550260800-1550271600@wirundjetzt.org
SUMMARY:danzing moods - Freies Tanzen
DESCRIPTION:Freies Barfuß-Tanzen für Jung und Alt: ein Abend für und mit Tanz\, Lebensfreude und netten Menschen. \nDie Gäste erwartet eine abwechslungsreiche\, musikalische Reise durch verschiedene Kulturen und Stilrichtungen. Die stimmungsvolle Mischung aus Rhythmus und Melodie lädt ein zum freien Bewegen abseits von Zwängen und Alltag.  \nBarfuß-Tanzen\, das heißt einfach ohne Straßenschuhe\, eben barfuß oder auf Socken oder mit Indoor-Schuhen. \nEintritt nach eigenen Ermessen.
URL:https://wirundjetzt.org/event/danzing-moods-freies-tanzen/
LOCATION:Baden-Württemberg
CATEGORIES:Tanzen
END:VEVENT
BEGIN:VEVENT
DTSTART;VALUE=DATE:20190222
DTEND;VALUE=DATE:20190224
DTSTAMP:20260420T094140
CREATED:20190221T220828Z
LAST-MODIFIED:20190221T220828Z
UID:10000438-1550793600-1550966399@wirundjetzt.org
SUMMARY:Horizonte erweitern und die Welt mit anderen Augen sehen... - Ravensburg
DESCRIPTION:Die 12. Klasse der Freien Waldorfschule Ravensburg \nlädt Sie herzlich ein… \n  \nKlasse12_Jahresarbeiten_Programm
URL:https://wirundjetzt.org/event/horizonte-erweitern-und-die-welt-mit-anderen-augen-sehen-ravensburg/
LOCATION:Freien Waldorfschule Ravensburg\, Ravensburg\, Deutschland
END:VEVENT
BEGIN:VEVENT
DTSTART;TZID=Europe/Berlin:20190226T190000
DTEND;TZID=Europe/Berlin:20190226T210000
DTSTAMP:20260420T094140
CREATED:20190126T183217Z
LAST-MODIFIED:20190221T213547Z
UID:10000400-1551207600-1551214800@wirundjetzt.org
SUMMARY:Buchvorstellung zum Klimawandel - Friedrichshafen
DESCRIPTION:Eine sehr tolle Arbeit (kompakt und fundiert) zweier engagierten ZU-Studenten.\nhttps://www.klimafakten.de/meldung/ein-kurzes-buch-ueber-den-klimawandel-gabs-nicht-also-haben-wir-es-selbst-gemacht
URL:https://wirundjetzt.org/event/buchvorstellung-zum-klimawandel/
LOCATION:Baden-Württemberg
END:VEVENT
END:VCALENDAR