BEGIN:VCALENDAR
VERSION:2.0
PRODID:-//»wirundjetzt« - ECPv6.15.17.1//NONSGML v1.0//EN
CALSCALE:GREGORIAN
METHOD:PUBLISH
X-ORIGINAL-URL:https://wirundjetzt.org
X-WR-CALDESC:Veranstaltungen für »wirundjetzt«
REFRESH-INTERVAL;VALUE=DURATION:PT1H
X-Robots-Tag:noindex
X-PUBLISHED-TTL:PT1H
BEGIN:VTIMEZONE
TZID:Europe/Berlin
BEGIN:DAYLIGHT
TZOFFSETFROM:+0100
TZOFFSETTO:+0200
TZNAME:CEST
DTSTART:20170326T010000
END:DAYLIGHT
BEGIN:STANDARD
TZOFFSETFROM:+0200
TZOFFSETTO:+0100
TZNAME:CET
DTSTART:20171029T010000
END:STANDARD
BEGIN:DAYLIGHT
TZOFFSETFROM:+0100
TZOFFSETTO:+0200
TZNAME:CEST
DTSTART:20180325T010000
END:DAYLIGHT
BEGIN:STANDARD
TZOFFSETFROM:+0200
TZOFFSETTO:+0100
TZNAME:CET
DTSTART:20181028T010000
END:STANDARD
BEGIN:DAYLIGHT
TZOFFSETFROM:+0100
TZOFFSETTO:+0200
TZNAME:CEST
DTSTART:20190331T010000
END:DAYLIGHT
BEGIN:STANDARD
TZOFFSETFROM:+0200
TZOFFSETTO:+0100
TZNAME:CET
DTSTART:20191027T010000
END:STANDARD
END:VTIMEZONE
BEGIN:VEVENT
DTSTART;TZID=Europe/Berlin:20181201T120000
DTEND;TZID=Europe/Berlin:20181202T170000
DTSTAMP:20260421T050801
CREATED:20181129T062240Z
LAST-MODIFIED:20181129T062240Z
UID:10000086-1543665600-1543770000@wirundjetzt.org
SUMMARY:Alternativer Weihnachtsmarkt Engen
DESCRIPTION:„… und Frieden auf Erden??!“ \nUnter diesem Motto finden sich am Osteingang zur Altstadt unter den alten\, mächtigen Bäumen des Alten Stadtgartens Menschen und Organisationen zusammen\, die für den Frieden\, die Eine Welt\, die Menschen und die Mitwelt eintreten. Info- und Verkaufsstände\, Werkstätten\, Feuer\, eine Bühne\, Live-Musik\, eine mongolische Jurte\, Lichter und ein mit Gebetsfahnen und Ruheinseln geschmückter Platz laden ein zum Lauschen\, Innehalten\, Schauen und einfach Sein und Genießen. Kulinarische Köstlichkeiten\, besondere Handwerkskunst\, Singen\, der Austausch untereinander und Information bieten Gutes und Nachdenkliches für Kopf\, Herz und Gaumen. Veganes Couscous und Chilli sin Carne\, Crêpes\, Waffeln\, Chai\, Kinderpunsch\, Kaffee und Tee und andere Köstlichkeiten nähren und wärmen die Besucherinnen und Besucher von innen. Das kulturelle Programm umfasst u.a. Feuer-Jonglage\, Musik auf der afrikanischen Kora\, Märchen und Geschichten\, Gesang\, eine Klima- und Friedensaktion. Es wird über die Presse und am Platz bekanntgegeben Die Einnahmen der Veranstaltungen\, soweit sie nicht für eigene Hilfsprojekte erbeten werden\, kommen der Engener ilfsorganisation Pro Humanitate e. V. zugute. \nv.i.S.d.P.: Th. Joachim \nKontakt und Infos:Thomas Jochim\nMail: thomas.jochim@web.de\nTel:  0151-56166904
URL:https://wirundjetzt.org/event/alternativer-weihnachtsmarkt-engen/
LOCATION:Baden-Württemberg
END:VEVENT
BEGIN:VEVENT
DTSTART;TZID=Europe/Berlin:20181203T190000
DTEND;TZID=Europe/Berlin:20181203T210000
DTSTAMP:20260421T050801
CREATED:20180910T160127Z
LAST-MODIFIED:20180910T160127Z
UID:10000087-1543863600-1543870800@wirundjetzt.org
SUMMARY:erreichbar dezember 2018
DESCRIPTION:erreichbar\n\n\n\nwirundjetzt treffen der aktiven\n\n\n\n\n\n\nVon 19.00 Uhr bis 21.00 Uhr wollen wir mit euch zusammen planen\, Ideen schmieden und Projekte umsetzen. Wir wollen regelmäßig zusammen sein und konkret an den Projekten und Ideen Arbeiten und uns austauschen. Dazu laden wir euch herzlich ein.\nWir sind in 88697 Bermatingen\, Rathausplatz 3\, im Büro von Oliver Endrikat (Sedat GmbH). \n\n\n\n\n\n\n\n\n\n\n\n\n\n 
URL:https://wirundjetzt.org/event/erreichbar-dezember-2018/
LOCATION:Sedat\, Rathausplatz 3\, Bermatingen\, Deutschland
CATEGORIES:Vernetzungstreffen,»wirundjetzt«-Veranstaltung
ATTACH;FMTTYPE=image/jpeg:https://wirundjetzt.org/wp-content/uploads/2017/07/Hackschnitzel-Jump-DSC_3103-1-1.jpg
GEO:47.7295086;9.3495026
X-APPLE-STRUCTURED-LOCATION;VALUE=URI;X-ADDRESS=Sedat Rathausplatz 3 Bermatingen Deutschland;X-APPLE-RADIUS=500;X-TITLE=Rathausplatz 3:geo:9.3495026,47.7295086
END:VEVENT
BEGIN:VEVENT
DTSTART;TZID=Europe/Berlin:20181220T193000
DTEND;TZID=Europe/Berlin:20181220T230000
DTSTAMP:20260421T050801
CREATED:20180914T135818Z
LAST-MODIFIED:20180914T150836Z
UID:10000381-1545334200-1545346800@wirundjetzt.org
SUMMARY:Freies Barfuß-Tanzen für jung und alt
DESCRIPTION:„Happy Feet“ –\n\nEin Abend für und mit Tanz\, Lebensfreude und netten Menschen. DJ Djoala stellt euch wieder eine abwechslungsreiche\, musikalische Reise durch verschiedene Kulturen und Stilrichtungen zusammen. Die stimmungsvolle Mischung aus Rhythmus und Melodie lädt ein zum freien Bewegen abseits von Zwängen und Alltag. \nEine Veranstaltung von wirundjetzt e.V. in Zusammenarbeit mit DJ Djoala\nEintritt: 8 bis 12 € (nach eigenem Ermessen)\nKulturverein Wilhelmsdorf\, Zußdorfer Straße 47\,88271 Wilhelmsdorf \nhttp://www.kv-wilhelmsdorf.de/ \nTermine: 27.9.\, 18.10.\, 15.11. und 20.12. (jeden 3. Donnerstag im Monat)\nUhrzeit: 19:30 – 23:00 Uhr\n\n\n\n\n\n\n\n\n\n\n 
URL:https://wirundjetzt.org/event/freies-barfuss-tanzen-fuer-jung-und-alt-2-2-2/
LOCATION:Kulturverein Wilhelmsdorf\, Zußdorfer Straße 47\, 88271 Wilhelmsdorf
CATEGORIES:Fest,Tanzen,»wirundjetzt«-Veranstaltung
ATTACH;FMTTYPE=image/jpeg:https://wirundjetzt.org/wp-content/uploads/2018/09/Tanzen.jpg
GEO:47.8626694;9.4240694
X-APPLE-STRUCTURED-LOCATION;VALUE=URI;X-ADDRESS=Kulturverein Wilhelmsdorf Zußdorfer Straße 47 88271 Wilhelmsdorf;X-APPLE-RADIUS=500;X-TITLE=Zußdorfer Straße 47:geo:9.4240694,47.8626694
END:VEVENT
END:VCALENDAR