BEGIN:VCALENDAR
VERSION:2.0
PRODID:-//»wirundjetzt« - ECPv6.15.17.1//NONSGML v1.0//EN
CALSCALE:GREGORIAN
METHOD:PUBLISH
X-WR-CALNAME:»wirundjetzt«
X-ORIGINAL-URL:https://wirundjetzt.org
X-WR-CALDESC:Veranstaltungen für »wirundjetzt«
REFRESH-INTERVAL;VALUE=DURATION:PT1H
X-Robots-Tag:noindex
X-PUBLISHED-TTL:PT1H
BEGIN:VTIMEZONE
TZID:Europe/Berlin
BEGIN:DAYLIGHT
TZOFFSETFROM:+0100
TZOFFSETTO:+0200
TZNAME:CEST
DTSTART:20170326T010000
END:DAYLIGHT
BEGIN:STANDARD
TZOFFSETFROM:+0200
TZOFFSETTO:+0100
TZNAME:CET
DTSTART:20171029T010000
END:STANDARD
BEGIN:DAYLIGHT
TZOFFSETFROM:+0100
TZOFFSETTO:+0200
TZNAME:CEST
DTSTART:20180325T010000
END:DAYLIGHT
BEGIN:STANDARD
TZOFFSETFROM:+0200
TZOFFSETTO:+0100
TZNAME:CET
DTSTART:20181028T010000
END:STANDARD
BEGIN:DAYLIGHT
TZOFFSETFROM:+0100
TZOFFSETTO:+0200
TZNAME:CEST
DTSTART:20190331T010000
END:DAYLIGHT
BEGIN:STANDARD
TZOFFSETFROM:+0200
TZOFFSETTO:+0100
TZNAME:CET
DTSTART:20191027T010000
END:STANDARD
END:VTIMEZONE
BEGIN:VEVENT
DTSTART;TZID=Europe/Berlin:20181001T190000
DTEND;TZID=Europe/Berlin:20181001T210000
DTSTAMP:20260421T190947
CREATED:20180910T155858Z
LAST-MODIFIED:20180910T155858Z
UID:10000082-1538420400-1538427600@wirundjetzt.org
SUMMARY:erreichbar oktober 2018
DESCRIPTION:erreichbar\n\n\n\nwirundjetzt treffen der aktiven\n\n\n\n\n\n\nVon 19.00 Uhr bis 21.00 Uhr wollen wir mit euch zusammen planen\, Ideen schmieden und Projekte umsetzen. Wir wollen regelmäßig zusammen sein und konkret an den Projekten und Ideen Arbeiten und uns austauschen. Dazu laden wir euch herzlich ein.\nWir sind in 88697 Bermatingen\, Rathausplatz 3\, im Büro von Oliver Endrikat (Sedat GmbH). \n\n\n\n\n\n\n\n\n\n\n\n\n\n 
URL:https://wirundjetzt.org/event/erreichbar-oktober-2018/
LOCATION:Sedat\, Rathausplatz 3\, Bermatingen\, Deutschland
CATEGORIES:Vernetzungstreffen,»wirundjetzt«-Veranstaltung
ATTACH;FMTTYPE=image/jpeg:https://wirundjetzt.org/wp-content/uploads/2017/07/Hackschnitzel-Jump-DSC_3103-1-1.jpg
GEO:47.7295086;9.3495026
X-APPLE-STRUCTURED-LOCATION;VALUE=URI;X-ADDRESS=Sedat Rathausplatz 3 Bermatingen Deutschland;X-APPLE-RADIUS=500;X-TITLE=Rathausplatz 3:geo:9.3495026,47.7295086
END:VEVENT
BEGIN:VEVENT
DTSTART;TZID=Europe/Berlin:20181005T143000
DTEND;TZID=Europe/Berlin:20181006T143000
DTSTAMP:20260421T190947
CREATED:20180914T134217Z
LAST-MODIFIED:20180914T135048Z
UID:10000370-1538749800-1538836200@wirundjetzt.org
SUMMARY:[24 Stunden] … für unser Klima
DESCRIPTION:Wir sind Klima\n\n\n\n\n[24 Stunden] … für unser Klima · 05.-06. Oktober 2018\n\n\nEs gibt sie schon\, die guten Ideen\, verblüffenden Lösungen und positiven Entwicklungen für unser Klima – allen schlechten Nachrichten zum Trotz. Und es gibt eine Vielzahl davon in unserer Region. Jede von ihnen ist ein aktiver Beitrag um den komplexen Herausforderung zu begegnen\, mit denen wir heute und in den kommenden Jahren leben werden. \nBei „24 Stunden für unser Klima“ kannst du in drei Etappen entdecken\, das gutes Handeln möglich ist und welche Ideen andere aus der Region schon umsetzen. Kannst erleben was durch gemeinsames Handeln möglich wird. Und kannst intensive\, gute Zeit mit Klima-Aktiven und solchen die aktiv werden wollen verbringen: Voneinander lernen\, neue Ideen und machbare Lösungen finden und erfinden\, auch für deinen Alltag. \n24 Stunden Begegnung\, Erleben\, Vernetzung und aktiv werden. Für unser Klima. \nFür angemeldete Schülerinnen und Schüler und Studierende ist die Teilnahme kostenlos. \nFür alle anderen beträgt die 24-Stunden-Pauschale: 25\,- € \nVollpension (74\,30 €) oder Tagesverpflegung im wunderbaren Bildungshaus St. Arbogast oberhalb von Götzis (A) nach individuellem Bedarf.
URL:https://wirundjetzt.org/event/24-stunden-fuer-unser-klima-2/
CATEGORIES:Arbeitstreffen,klima,Konferenz,Nachhaltigkeit,Ökologie,Vernetzungstreffen
ATTACH;FMTTYPE=image/png:https://wirundjetzt.org/wp-content/uploads/2018/09/Wir-sind-Klima-e1499888979467.png
END:VEVENT
BEGIN:VEVENT
DTSTART;VALUE=DATE:20181006
DTEND;VALUE=DATE:20181007
DTSTAMP:20260421T190947
CREATED:20181002T174208Z
LAST-MODIFIED:20181002T174208Z
UID:10000397-1538784000-1538870399@wirundjetzt.org
SUMMARY:Demo im Hambacher Wald
DESCRIPTION:Demo im Hambacher Wald \n\n\n6. Oktober | Demo im Hambacher Wald\nMehr Infos zu der Demo hier:\nMehr Infos zu den Hintergründen hier:  \nDer BUND Ravensburg hat nun eine Bus-Fahrt zur Demo im Hambacher Forst am Samstag 6. Oktober organisiert: Ravensburg-Bad Waldsee-Buir.\nAbfahrt in RV am Busbahnhof gegenüber Eingang\nTechnische Werke Schussental 4.00 Uhr\, Bad Waldsee am Bleiche-Parkplatz\n4.30 Uhr.\nIN DIESEM BUS GIBT ES NOCH 30 PLÄTZE !!!  BITTE WERBUNG MACHEN.\nEine Abfahrt ab FN oder Markdorf ist aus Zeitgründen leider nicht\nmöglich. Parken in Ravensburg auf P+R am Bahnhof möglich (Tagesticket\nlösen).\nEs fährt uns das Busunternehmen Müller aus Bad Waldsee. Reiseleiter ab\nRavensburg: Charly Sonnenburg\nFür die 7.5 stündige Busfahrt benötigen wir 2 Fahrer – jeder Bus\nkostet 2.300 €. Die Fahrt kostet pro Person 55 €.\nWIR FAHREN PÜNKTLICH ZU DEN ANGEGEBENEN ZEITEN AB!! SONDERWÜNSCHE (WEITERE\nSTOPPS\, NUR RÜCKFAHRT) SIND NICHT MÖGLICH !\nBITTE MITFAHRT BEI UNS BIS MONTAG 1.10. PER E-MAIL BESTÄTIGEN ODER\nABSAGEN.\nMitfahrer*innen dann bitte sofort 55 € überweisen auf das\nKonto des BUND Regionalverband BO überweisen;\nIBAN: DE20 6509 30200376 7120 07\nBIC: GENODES1SLG\nVOLKSBANK BAD SAULGAU E.G.\nStichwort „Demo Hambi“.\nWir werden im Bus kein Bargeld annehmen.\nWem das Busfahren zu anstrengend oder unsicher ist\, kann auch mit der\nBahn fahren. Anbei die frühesten Verbindungen ab Konstanz (5:02 Uhr)\nund Ravensburg (5:43 Uhr). Es muss mehrmals umgestiegen werden.\nBahnerfahrene wissen\, was das heißt…. no risk – no fun. \nAnmeldung hier:\nbund.bodensee-oberschwaben@bund.net
URL:https://wirundjetzt.org/event/demo-im-hambacher-wald/
CATEGORIES:demo,Nachhaltigkeit,Wandel,Wanderung
END:VEVENT
BEGIN:VEVENT
DTSTART;TZID=Europe/Berlin:20181007T093000
DTEND;TZID=Europe/Berlin:20181007T173000
DTSTAMP:20260421T190947
CREATED:20180910T162652Z
LAST-MODIFIED:20180910T162652Z
UID:10000307-1538904600-1538933400@wirundjetzt.org
SUMMARY:Bodenfruchtbarkeitstag in Ravensburg
DESCRIPTION:Bodenfruchtbarkeitstag\n\n\n\nSo 7. Oktober 2018\, Hübscher 1\, 88213 Ravensburg \nBodenfruchtbarkeitstag der Solidarischen Landwirtschaft Ravensburg e.V.  \nDie Auseinandersetzung mit dem Thema Bodenfruchtbarkeit hat in den letzten Jahren deutlich zugenommen. Bilder von zu nassen oder zu trockenen Feldern\, Ertragseinbußen in der Landwirtschaft und nicht zuletzt der Faktor Klima und die\, seit einem Jahrzehnt aktuelle\, Debatte über CO² sind untrennbar mit der Fruchtbarkeit unserer Böden verwoben. Die Fruchtbarkeit unserer Böden ist maßgeblich für den Wohlstand unserer Gesellschaft verantwortlich. Diesen Wohlstand auch unseren Enkeln zu ermöglichen ist zum einen Aufgabe einer verantwortungsvollen und nachhaltigen Landwirtschaft und zum anderen eines verantwortungsvollen und nachhaltigen Konsums. Bodenfruchtbarkeit muss also als gemeinsames Anliegen von Erzeuger und Konsument getragen und umgesetzt werden. \nDer Bodenfruchtbarkeitsfonds und die Solidarische Landwirtschaft Ravensburg e.V. laden Sie ein\, mehr über die Auswirkungen und Möglichkeiten von fruchtbaren Böden zu erfahren. Gemeinsam werden wir uns  mit den Hintergründen\, Notwendigkeiten und der gesellschaftlichen Verantwortung\, sowie ganz praktischer Bodenwahrnehmung auseinander setzen. Denn begreifen kommt durch wahrnehmen und befähigt zum Handeln! \nWeitere Informationen: http://www.solawi-ravensburg.de/
URL:https://wirundjetzt.org/event/bodenfruchtbarkeitstag-in-ravensburg/
CATEGORIES:Bio,Nachhaltigkeit,Ökologie,Vernetzungstreffen
ATTACH;FMTTYPE=image/jpeg:https://wirundjetzt.org/wp-content/uploads/2018/07/solawibodensee.jpg
END:VEVENT
BEGIN:VEVENT
DTSTART;TZID=Europe/Berlin:20181016T150000
DTEND;TZID=Europe/Berlin:20181016T170000
DTSTAMP:20260421T190947
CREATED:20181002T172134Z
LAST-MODIFIED:20181002T173703Z
UID:10000538-1539702000-1539709200@wirundjetzt.org
SUMMARY:WIR-Exkursion: Die Farben des Herbstes
DESCRIPTION:die Farben des Herbstes \n\n\n16. Oktober WIR Themenexkursion | 15:00 bis 17:30 Uhr auf dem Hof Ibele bei Ravensburg.\nIm Herbst füllen sich die Erntekörbe der Gemüsebauern mit einer bunten Fülle von Salaten\, Kohl\, Wurzel- und Blattgemüsen.\nDas Herz von Martin Ibele und Andrea Dittrich auf dem Hof Ibele bei Ravensburg schlägt vor allem für die alten\, schmackhaften Landsorten\, deren genussreiche Vielfalt sie für die Zukunft erhalten wollen.\nIm Rahmen des WIR. Netzwerks lädt der Hof Ibele zu einer Themenexkursion ein\, auf der Sie ganz in die Farben des Herbstes eintauchen. Auf den 580 Meter hoch gelegenen Feldern lernen Sie seltene Gemüsesorten mit ihren speziellen Vorzügen kennen. Sie können die rei-che Vielfalt der Feldfrüchte bestaunen\, bei der Ernte selbst mit Hand anlegen und bei Kost-proben die feinen Aromen der einzelnen Sorten schmecken. \nAblauf: \nHof Ibele\, Wippenreute 1/1\, 88213 Ravensburg\n– kurzer Hofrundgang mit Martin Ibele und Andrea Dittrich\n– Eintauchen in die bunte Fülle der Erntezeit auf den Feldern und in den Gewächshäusern\n– Einblicke in den Anbau alter Landsorten\n– Mitarbeit bei der Gemüse-Ernte\n– Kostproben von besonderen Gemüsesorten und Zeit für weiterführende Fragen.\nMöchten Sie dabei sein? Gerne auch mit Ihrer Familie\, Freunden oder Kollegen?\nDann melden Sie sich am besten gleich an – per Mail an simon.neitzel@wirundjetzt.org\nDie Teilnahme ist kostenfrei\, die Teilnehmerzahl auf 30 Personen begrenzt. Falls die Exkursion wegen schlechten Wetters ausfällt\, informieren wir Sie am Vortag.\nWeitere Infos über Simon Neitzel\, Tel. 0151 / 21 61 59 68 und auf der Homepage www.wir-bodensee.bio\nAuf dieser Exkursion machen wir Fotos\, die wir im Rahmen der Presse- und Öffentlichkeitsarbeit für das WIR. Netzwerk in Online- und Printmedien nutzen
URL:https://wirundjetzt.org/event/die-farben-des-herbstes/
CATEGORIES:Bio,Exkursion,Nachhaltigkeit,WIR. Themenexkursion
END:VEVENT
BEGIN:VEVENT
DTSTART;TZID=Europe/Berlin:20181018T193000
DTEND;TZID=Europe/Berlin:20181018T230000
DTSTAMP:20260421T190947
CREATED:20180914T135732Z
LAST-MODIFIED:20180914T151016Z
UID:10000375-1539891000-1539903600@wirundjetzt.org
SUMMARY:Freies Barfuß-Tanzen für jung und alt
DESCRIPTION:„Happy Feet“ –\n\nEin Abend für und mit Tanz\, Lebensfreude und netten Menschen. DJ Djoala stellt euch wieder eine abwechslungsreiche\, musikalische Reise durch verschiedene Kulturen und Stilrichtungen zusammen. Die stimmungsvolle Mischung aus Rhythmus und Melodie lädt ein zum freien Bewegen abseits von Zwängen und Alltag. \nEine Veranstaltung von wirundjetzt e.V. in Zusammenarbeit mit DJ Djoala\nEintritt: 8 bis 12 € (nach eigenem Ermessen)\nKulturverein Wilhelmsdorf\, Zußdorfer Straße 47\,88271 Wilhelmsdorf \nhttp://www.kv-wilhelmsdorf.de/ \nTermine: 27.9.\, 18.10.\, 15.11. und 20.12. (jeden 3. Donnerstag im Monat)\nUhrzeit: 19:30 – 23:00 Uhr\n\n\n\n\n\n\n\n\n\n\n 
URL:https://wirundjetzt.org/event/freies-barfuss-tanzen-fuer-jung-und-alt-2/
LOCATION:Kulturverein Wilhelmsdorf\, Zußdorfer Straße 47\, 88271 Wilhelmsdorf
CATEGORIES:Fest,Tanzen,»wirundjetzt«-Veranstaltung
ATTACH;FMTTYPE=image/jpeg:https://wirundjetzt.org/wp-content/uploads/2018/09/Tanzen.jpg
GEO:47.8626694;9.4240694
X-APPLE-STRUCTURED-LOCATION;VALUE=URI;X-ADDRESS=Kulturverein Wilhelmsdorf Zußdorfer Straße 47 88271 Wilhelmsdorf;X-APPLE-RADIUS=500;X-TITLE=Zußdorfer Straße 47:geo:9.4240694,47.8626694
END:VEVENT
BEGIN:VEVENT
DTSTART;TZID=Europe/Berlin:20181027T090000
DTEND;TZID=Europe/Berlin:20181028T170000
DTSTAMP:20260421T190947
CREATED:20181019T181345Z
LAST-MODIFIED:20181019T181345Z
UID:10000398-1540630800-1540746000@wirundjetzt.org
SUMMARY:Erde in Balance Kongress - Heilung der Erde
DESCRIPTION:Gehörst Du zu den Menschen\, die spüren\, dass die Welt dringend einen Wandel benötigt? Die Wissen\, dass es wichtig ist JETZT zu handeln? Hast Du vielleicht Ideen\, wie man den Wandel gestalten könnte und gleichzeitig aber vielleicht das Gefühl mit Deinen Ideen alleine da zu stehen? Oder willst Du etwas tun\, weißt aber noch nicht was und suchst nach Inspiration? Setzt Du Dich bereits für einen Wandel ein und willst Dich mit anderen positiven Kräften verbinden und Dein Netzwerk vergrößern?\n\nDann ist der 1. Erde in Balance- Kongress genau das Richtige für Dich. Wir wollen unsere Träume und Ideen\, die im Einklang mit der Natur und der Schöpfung sind\, Wirklichkeit werden lassen. Im 1. Erde in Balance Kongress laden wir Dich herzlich ein\, gemeinsam an Lösungen für die Gestaltung einer Welt zu arbeiten\, die auf Liebe\, Freude\, Frieden und Einklang mit der Natur basiert.\n\nDer Kongress besteht aus kurzen Impulsvorträgen und anschließenden Open-Space-Angeboten\, die einladen\, an verschiedenen Projekten mitzuwirken.
URL:https://wirundjetzt.org/event/erde-in-balance-kongress-heilung-der-erde/
LOCATION:Andreashof\, Kirchgasse 35\, Überlingen - Tüfingen\, 88622
CATEGORIES:Konferenz,Nachhaltigkeit,Vernetzungstreffen,Vortrag,Wandel
ORGANIZER;CN="Erde in Balance e.V.":MAILTO:erde-in-balance@posteo.de
GEO:47.7718624;9.2256387
X-APPLE-STRUCTURED-LOCATION;VALUE=URI;X-ADDRESS=Andreashof Kirchgasse 35 Überlingen - Tüfingen 88622;X-APPLE-RADIUS=500;X-TITLE=Kirchgasse 35:geo:9.2256387,47.7718624
END:VEVENT
END:VCALENDAR