BEGIN:VCALENDAR
VERSION:2.0
PRODID:-//»wirundjetzt« - ECPv6.15.17.1//NONSGML v1.0//EN
CALSCALE:GREGORIAN
METHOD:PUBLISH
X-WR-CALNAME:»wirundjetzt«
X-ORIGINAL-URL:https://wirundjetzt.org
X-WR-CALDESC:Veranstaltungen für »wirundjetzt«
REFRESH-INTERVAL;VALUE=DURATION:PT1H
X-Robots-Tag:noindex
X-PUBLISHED-TTL:PT1H
BEGIN:VTIMEZONE
TZID:Europe/Berlin
BEGIN:DAYLIGHT
TZOFFSETFROM:+0100
TZOFFSETTO:+0200
TZNAME:CEST
DTSTART:20170326T010000
END:DAYLIGHT
BEGIN:STANDARD
TZOFFSETFROM:+0200
TZOFFSETTO:+0100
TZNAME:CET
DTSTART:20171029T010000
END:STANDARD
BEGIN:DAYLIGHT
TZOFFSETFROM:+0100
TZOFFSETTO:+0200
TZNAME:CEST
DTSTART:20180325T010000
END:DAYLIGHT
BEGIN:STANDARD
TZOFFSETFROM:+0200
TZOFFSETTO:+0100
TZNAME:CET
DTSTART:20181028T010000
END:STANDARD
BEGIN:DAYLIGHT
TZOFFSETFROM:+0100
TZOFFSETTO:+0200
TZNAME:CEST
DTSTART:20190331T010000
END:DAYLIGHT
BEGIN:STANDARD
TZOFFSETFROM:+0200
TZOFFSETTO:+0100
TZNAME:CET
DTSTART:20191027T010000
END:STANDARD
END:VTIMEZONE
BEGIN:VEVENT
DTSTART;TZID=Europe/Berlin:20180817T140000
DTEND;TZID=Europe/Berlin:20180819T140000
DTSTAMP:20260422T040129
CREATED:20180603T111802Z
LAST-MODIFIED:20180603T111802Z
UID:10000298-1534514400-1534687200@wirundjetzt.org
SUMMARY:Achberger Sommercamp Menschsein - Gestalten - Genießen
DESCRIPTION:Achberger Sommercamp Menschsein – Gestalten – Genießen\n\nSimon Neitzel von wirundjetzt e.V.\, Rainer Rappmann vom Verein Soziale Skulptur und Ingrid Feustel vom Verein Inter-essengemeinschaft für Lebensgestaltung und Mitarbeiter vom Internationale Kulturzentrum Achberg (INKA) möchten ein Sommercamp für Familien\, junge Leute und alle junggebliebenen\, aktiven und interessierten Menschen auf dem INKA-Gelände und im Humboldt-Haus\, der Begegnungs- und Tagungsstätte des INKA durchführen.Man kann zelten\, mit Wohnwagen kommen oder im Mehrbettraum oder auch ins Hotelzimmer übernachten. Alles ist vorhanden. Angebote am Tage: Achberger Friedensinitiative\, Gartengestaltung nach Permakultur\, „Wirtschaft verstehen“ European Public Sphere\, Dombau-Workshop\, Wildnis Pädagogik\, Sicherheitskonferenz\, Gesprächsgruppen oder am Pool einfach chillen oder baden\, spazieren gehen\, den herrlichen Ort genießen und ZEIT miteinander haben.Aufbruch in die Begegnung im Humboldt-Haus\, Esseratsweiler vom Freitag 17.August 14:00 Uhr bis Sonntag 19.August14:00Uhr. Es wird Kinderbetreuung geben. Abends Filme wie „Unser Erbe“ oder Beuys Filme\, Tango tanzen\, Plaudern… undwas noch kommt. \nWer Lust hat sich aktiv in der Organisaton einzubringen: \nDas Organisationsteam trifft sich wieder am ???  im Humboldt-Haus\, Achberg\, Panoramastr.30 \nAnsprechpartnerin im INKA für die Vorbereitungen\, Gestaltung und Durchführung des Sommercamps ist : \nLoes Swart. swartloes@gmail.com Tel. 08380-335/981161 mobil: 015154890784 \nInformation über Kosten und Anmeldung im Humboldt-Haus Birgit Irmer. info@humboldt-haus.de Tel. 08380.-335 \nwww.wirundjetzt.orgwww.kulturzentrum-achberg.dewww.humboldt-haus.de
URL:https://wirundjetzt.org/event/achberger-sommercamp-menschsein-gestalten-geniessen/
CATEGORIES:Ferienprogramm,Festival,Kultur,Nachhaltigkeit,Ökologie,Seminar,Vernetzungstreffen
ATTACH;FMTTYPE=image/jpeg:https://wirundjetzt.org/wp-content/uploads/2018/06/Humboldt-Haus-560x450.jpg
END:VEVENT
END:VCALENDAR