BEGIN:VCALENDAR
VERSION:2.0
PRODID:-//»wirundjetzt« - ECPv6.15.17.1//NONSGML v1.0//EN
CALSCALE:GREGORIAN
METHOD:PUBLISH
X-WR-CALNAME:»wirundjetzt«
X-ORIGINAL-URL:https://wirundjetzt.org
X-WR-CALDESC:Veranstaltungen für »wirundjetzt«
REFRESH-INTERVAL;VALUE=DURATION:PT1H
X-Robots-Tag:noindex
X-PUBLISHED-TTL:PT1H
BEGIN:VTIMEZONE
TZID:Europe/Berlin
BEGIN:DAYLIGHT
TZOFFSETFROM:+0100
TZOFFSETTO:+0200
TZNAME:CEST
DTSTART:20170326T010000
END:DAYLIGHT
BEGIN:STANDARD
TZOFFSETFROM:+0200
TZOFFSETTO:+0100
TZNAME:CET
DTSTART:20171029T010000
END:STANDARD
BEGIN:DAYLIGHT
TZOFFSETFROM:+0100
TZOFFSETTO:+0200
TZNAME:CEST
DTSTART:20180325T010000
END:DAYLIGHT
BEGIN:STANDARD
TZOFFSETFROM:+0200
TZOFFSETTO:+0100
TZNAME:CET
DTSTART:20181028T010000
END:STANDARD
BEGIN:DAYLIGHT
TZOFFSETFROM:+0100
TZOFFSETTO:+0200
TZNAME:CEST
DTSTART:20190331T010000
END:DAYLIGHT
BEGIN:STANDARD
TZOFFSETFROM:+0200
TZOFFSETTO:+0100
TZNAME:CET
DTSTART:20191027T010000
END:STANDARD
END:VTIMEZONE
BEGIN:VEVENT
DTSTART;TZID=Europe/Berlin:20180705T093000
DTEND;TZID=Europe/Berlin:20180705T163000
DTSTAMP:20260422T111127
CREATED:20180502T185013Z
LAST-MODIFIED:20180517T185435Z
UID:10000274-1530783000-1530808200@wirundjetzt.org
SUMMARY:Kompakt-Workshop zum Deutschen Nachhaltigkeitskodex
DESCRIPTION:Workshop-Paket für KMU – Nachhaltigkeit als Markenzeichen \n\nWer Fach- und Führungskräfte sucht\, muss einiges bieten: Neben dem Gehalt bemühen sich Mittelständler\, mit Angeboten zur Work-Life-Balance\, guten Entwicklungsperspektiven oder einem umweltfreundlichen Ansatz im Betrieb zu punkten. Dies alles sind Themen\, die vom Deutschen Nachhaltigkeitskodex (DNK) abgedeckt werden. Auch bei der Kreditvergabe fragen Banken nach der Nachhaltigkeit. Ein Firmen-Check gemäss DNK kann also nicht nur die Marke stärken\, sondern existenziell sein fürs Geschäft. \nDas Workshop-Paket „DNK leicht gemacht“ bietet die Möglichkeit\, in zwei getrennten Seminartagen einen DNK-Bericht für die jeweilige Organisation zu erarbeiten. Die Teilnehmenden tragen Ihr Wissen nach dem ersten Workshop-Tag ins Unternehmen und bringen von dort zum zweiten Tag Ihre (Nach-) Fragen wieder mit. Sie können vom Austausch untereinander profitieren und lernen\, die Nachhaltigkeitsthemen für Personalrecruiting und Marketing zu nutzen. Nach beiden Workshop-Tagen ist der DNK-Bericht entweder bereits in wesentlichen Teilen fertiggestellt oder die Teilnehmenden sind in der Lage\, ihn eigenständig abzuschließen. \nDie Referenten bringen langjährige Erfahrung in der Nachhaltigkeitsberichterstattung und in der Unternehmenskommunikation mit: Armin Hipper\, Büro für Nachhaltigkeit & Wirtschaftethik in Neukirch (www.aminhipper.de) und Cornelia Glees-zur Bonsen\, ZURBONSEN C&CM GmbH in München\, www.zur-bonsen.com. \nMehr über die Referenten im Steckbrief Armin Hipper und Cornelia Glees \n  \nDNK-Kompakt: Workshop Paket für KMU \nWann? 5. und 19. Juli 2018\, jeweils 9.30 Uhr – 16.30 Uhr \nWo? Tagungshaus Akademie Weingarten\, 88250 Weingarten \nPreis? 950\,00 EUR pro Person zzgl. MwSt.\, jede weitere Person eines Unternehmens 690\,00 EUR\,                                                    \n            Frühbucher-Rabatt (10 %) bis 18. Mai 2018  \nAnmeldung bis 7.Juni 2018 unter Tel. +49151 1097 3486 oder mit Betreff „wirundjetzt“ an mail@arminhipper.de  \n 
URL:https://wirundjetzt.org/event/kompakt-workshop-zum-deutschen-nachhaltigkeitskodex-2-2/
CATEGORIES:Nachhaltigkeit,Workshop
END:VEVENT
BEGIN:VEVENT
DTSTART;TZID=Europe/Berlin:20180707T090000
DTEND;TZID=Europe/Berlin:20180708T200000
DTSTAMP:20260422T111127
CREATED:20180703T170641Z
LAST-MODIFIED:20180703T170853Z
UID:10000305-1530954000-1531080000@wirundjetzt.org
SUMMARY:Sternenhaufen
DESCRIPTION:Sternenhaufen\n\nWas von Herzen kommt wirkt auf Herzen \n7. und 8. Juli 2018Festival im Naturatelier Frickingenalkoholfrei und drogenfrei \nEintritt auf Spendenbasisauf facebook sternenhaufen – Festival im Naturatelier
URL:https://wirundjetzt.org/event/sternenhaufen/
CATEGORIES:Ferienprogramm,Festival,Kultur,Nachhaltigkeit,Ökologie,Seminar
ATTACH;FMTTYPE=image/jpeg:https://wirundjetzt.org/wp-content/uploads/2018/07/sternenhaufen.jpg
END:VEVENT
BEGIN:VEVENT
DTSTART;TZID=Europe/Berlin:20180711T093000
DTEND;TZID=Europe/Berlin:20180711T123000
DTSTAMP:20260422T111127
CREATED:20180708T101311Z
LAST-MODIFIED:20180708T101311Z
UID:10000079-1531301400-1531312200@wirundjetzt.org
SUMMARY:solawi-vernetzungnstreffen
DESCRIPTION:solawi vernetzungstreffen\n\n\nHallo Ihr lieben SolawistInnen\,  \n\nhier plätschert endlich der Regen – was für ein angenehmes Geräusch! Nun hat der Juli begonnen und daher mal ganz flux die Einladung zu unserem Treffen: Wir freuen uns auf Euren Besuch am Mittwoch\, 11.Juli von 9.30 bis ca. 12.30 Eine Frage\, die uns beschäftigt: Mulchen und Unkrautmanagement – Eure Erfahrungen und Ideen sind sehr willkommen!Wie bei den letzten Malen werden wir die Grundzutaten für ein Frühstück vorbereiten und bitten Euch noch leckere Dinge für einen bunten\, reich gedeckten Tisch mitzubringen. Ihr findet unseren Acker in der Fichtenburgstr. 51 in Friedrichshafen-Raderach. Vorn an der Straße steht ein Schild „Gerhards Hof“\, dort einfach die Hofeinfahrt nehmen und dann rechts am roten Bauwagen parken. Mit herzlichen Regen-Grüßen für das Team der Solawi BodenseeKatrin Fieberitz Gärtnerin und Projektleiterin BildungSolawi Bodensee e.V.Bildung@solawi-bodensee.dewww.solawi-bodensee.de+49 (0) 15152509339
URL:https://wirundjetzt.org/event/solawi-vernetzungnstreffen/
CATEGORIES:Nachhaltigkeit,Ökologie,Vernetzungstreffen
ATTACH;FMTTYPE=image/jpeg:https://wirundjetzt.org/wp-content/uploads/2018/07/solawibodensee.jpg
END:VEVENT
BEGIN:VEVENT
DTSTART;VALUE=DATE:20180718
DTEND;VALUE=DATE:20180723
DTSTAMP:20260422T111127
CREATED:20180708T094019Z
LAST-MODIFIED:20180708T094021Z
UID:10000072-1531872000-1532303999@wirundjetzt.org
SUMMARY:PACHAMAMA FESTIVAL
DESCRIPTION:PACHAMAMA FESTIVAL\n\n\n18. – 22. Juli 2018\n  \n\n\nZEIT FÜR GEMEINSCHAFT\, INSPIRATION & BEWUSSTSEIN\nWas erlebst Du am Pachamama Festival? \nDie wahr gewordene Vision eines Raumes in dem Dein Bewusstsein für Mutter Erde und all Ihre Lebewesen gestärkt wird. Menschen\, mit denen Du eine Gemeinschaft erlebst\, in der Du eingeladen bist\, voll und ganz Du Selbst zu sein. Einen saftig-grünen Platz inmitten der Natur an dem Du es Dir mit Deinem Zelt so richtig gemütlich machen kannst. Einen erfrischenden Wasserfall der zum Baden einlädt und einen inspirierenden Ort an den Du Dich sicher gerne immer wieder zurückerinnerst. \n\nWir laden Dich mit einer vielfältigen Auswahl an Konzerten\, Workshops\, Tänzen\, Meditationen\, Yoga\, Ritualen und Vielem mehr dazu ein\, das Leben ganz auf Deine eigene Art und Weise mit uns zu feiern. Bunte Marktstände\, leckere vegetarische und vegane Speisen\, eine Healing Area mit Feuerplatz\, ein Visionszelt\, zwei Schwitzhütten sowie viel Raum für freies Spielen und kreatives Wirken werden zu Deinem WOHL-Gefühl beitragen. \nhttps://www.pachamamafestival.ch/homepage.html#willkommen
URL:https://wirundjetzt.org/event/pachamama-festival/
CATEGORIES:Ferienprogramm,Festival,Kultur,Nachhaltigkeit,Ökologie
ATTACH;FMTTYPE=image/png:https://wirundjetzt.org/wp-content/uploads/2018/07/pachamama.png
END:VEVENT
BEGIN:VEVENT
DTSTART;TZID=Europe/Berlin:20180719T093000
DTEND;TZID=Europe/Berlin:20180719T163000
DTSTAMP:20260422T111127
CREATED:20180502T190330Z
LAST-MODIFIED:20180517T185302Z
UID:10000279-1531992600-1532017800@wirundjetzt.org
SUMMARY:Kompakt-Workshop zum Deutschen Nachhaltigkeitskodex
DESCRIPTION:Workshop-Paket für KMU – Nachhaltigkeit als Markenzeichen \n\nWer Fach- und Führungskräfte sucht\, muss einiges bieten: Neben dem Gehalt bemühen sich Mittelständler\, mit Angeboten zur Work-Life-Balance\, guten Entwicklungsperspektiven oder einem umweltfreundlichen Ansatz im Betrieb zu punkten. Dies alles sind Themen\, die vom Deutschen Nachhaltigkeitskodex (DNK) abgedeckt werden. Auch bei der Kreditvergabe fragen Banken nach der Nachhaltigkeit. Ein Firmen-Check gemäss DNK kann also nicht nur die Marke stärken\, sondern existenziell sein fürs Geschäft. \nDas Workshop-Paket „DNK leicht gemacht“ bietet die Möglichkeit\, in zwei getrennten Seminartagen einen DNK-Bericht für die jeweilige Organisation zu erarbeiten. Die Teilnehmenden tragen Ihr Wissen nach dem ersten Workshop-Tag ins Unternehmen und bringen von dort zum zweiten Tag Ihre (Nach-) Fragen wieder mit. Sie können vom Austausch untereinander profitieren und lernen\, die Nachhaltigkeitsthemen für Personalrecruiting und Marketing zu nutzen. Nach beiden Workshop-Tagen ist der DNK-Bericht entweder bereits in wesentlichen Teilen fertiggestellt oder die Teilnehmenden sind in der Lage\, ihn eigenständig abzuschließen. \nDie Referenten bringen langjährige Erfahrung in der Nachhaltigkeitsberichterstattung und in der Unternehmenskommunikation mit: Armin Hipper\, Büro für Nachhaltigkeit & Wirtschaftethik in Neukirch (www.aminhipper.de) und Cornelia Glees-zur Bonsen\, ZURBONSEN C&CM GmbH in München\, www.zur-bonsen.com. \nMehr über die Referenten im Steckbrief Armin Hipper und Cornelia Glees \n  \nDNK-Kompakt: Workshop Paket für KMU \nWann? 5. und 19. Juli 2018\, jeweils 9.30 Uhr – 16.30 Uhr \nWo? Tagungshaus Akademie Weingarten\, 88250 Weingarten \nPreis? 950\,00 EUR pro Person zzgl. MwSt.\, jede weitere Person eines Unternehmens 690\,00 EUR\,                                                    \n            Frühbucher-Rabatt (10 %) bis 18. Mai 2018  \nAnmeldung bis 7.Juni 2018 unter Tel. +49151 1097 3486 oder mit Betreff „wirundjetzt“ an mail@arminhipper.de  \n 
URL:https://wirundjetzt.org/event/kompakt-workshop-zum-deutschen-nachhaltigkeitskodex/
CATEGORIES:Nachhaltigkeit,Workshop
END:VEVENT
BEGIN:VEVENT
DTSTART;VALUE=DATE:20180726
DTEND;VALUE=DATE:20180730
DTSTAMP:20260422T111127
CREATED:20180708T095213Z
LAST-MODIFIED:20180708T095214Z
UID:10000075-1532563200-1532908799@wirundjetzt.org
SUMMARY:Einhaldenfestival
DESCRIPTION:Einhaldenfestival\n\n\n\n\n\n\n \n\n\n\nDas Einhaldenfestival ist ein familiäres Kulturpro-jekt\, tief verwurzelt in der Region Oberschwaben. Trotzdem – oder gerade des-wegen – ist die Bühne im ländlichen Grün ein Lieblingsplatz hochkarätiger Virtu-osen und Charakterköpfe aus dem Ländle und der ganzen Welt.Nach der erfolgreichen Premiere am neuen Standort in 2017 werden die vielen ehrenamtlichen Helfer die Festivalbühne auch in diesem Jahr wieder auf dem Kaseshof in Geratsreute bei Fronhofen aufschlagen. Wie der Bauernhof Ein-halden\, die Geburtsstätte und langjährige Heimat des Festivals\, ist der Kaseshof ein Stück uralter oberschwäbischer Kulturlandschaft.Ein absolutes Highlight in diesem Jahr ist der Eröffnungsabend (Do 26. Juli 2018) mit Paula Morelenbaum\, der Grande Dame des Bossa Nova. Weltweite Aner-kennung hat Morelenbaum spätestens durch ihre langjährige Zusammenarbeit mit Antonio Carlos Jobim erlangt. Im Bossarenova Trio\, mit dem sie im Sommer auf dem Kaseshof gastiert\, stehen Ihr zwei der renommiertesten Jazz-Akteure Deutschlands zur Seite: der Trompeter und Elektrosound-Pionier Joo Kraus und der Pianist und Arrangeur Ralf Schmid. Das Trio präsentiert einen fulminanten Mix aus Energie und Coolness mit feinsten brasilianischen Rhythmen.An den Folgetagen (27.-29. Juli 2018) kann sich das Festival-Publikum auf viele Weitere Musiker und Kabarettisten freuen. Mit dabei sind u.a. der wort- und stimmgewaltige Liedermacher Konstantin Wecker samt Band\, der bayerische Bauernsohn und Kabarettist Maxi Schafroth\, der Jazz-Geiger Gregor Hübner mit seinem Projekt „El Violin Latino“ im Zusammenspiel mit Weggefährten aus New York und Oberschwaben\, die beiden Funk-Brass-Formationen ErpfenBrass und Vive La Bräss Bänd\, das Liedertheater von Christof und Vladislava Altmann\, die Hamburger Indie-Combo Maloun und die Stuttgarter Beat-Band Rikas\, und natürlich Berta Epple\, die Weltmusikmacher mit dem besonderen Mut-terwitz\, deren große Fangemeinde in der Region auf ein neues Programm gespannt sein darf: „Im Casino. Die Rente ist sicher.“\nhttp://www.einhaldenfestival.de/
URL:https://wirundjetzt.org/event/einhaldenfestival/
CATEGORIES:Ferienprogramm,Festival,Kultur,Nachhaltigkeit,Ökologie
ATTACH;FMTTYPE=image/jpeg:https://wirundjetzt.org/wp-content/uploads/2018/07/einhaldenfestival.jpg
END:VEVENT
END:VCALENDAR