BEGIN:VCALENDAR
VERSION:2.0
PRODID:-//»wirundjetzt« - ECPv6.15.17.1//NONSGML v1.0//EN
CALSCALE:GREGORIAN
METHOD:PUBLISH
X-ORIGINAL-URL:https://wirundjetzt.org
X-WR-CALDESC:Veranstaltungen für »wirundjetzt«
REFRESH-INTERVAL;VALUE=DURATION:PT1H
X-Robots-Tag:noindex
X-PUBLISHED-TTL:PT1H
BEGIN:VTIMEZONE
TZID:Europe/Berlin
BEGIN:DAYLIGHT
TZOFFSETFROM:+0100
TZOFFSETTO:+0200
TZNAME:CEST
DTSTART:20170326T010000
END:DAYLIGHT
BEGIN:STANDARD
TZOFFSETFROM:+0200
TZOFFSETTO:+0100
TZNAME:CET
DTSTART:20171029T010000
END:STANDARD
BEGIN:DAYLIGHT
TZOFFSETFROM:+0100
TZOFFSETTO:+0200
TZNAME:CEST
DTSTART:20180325T010000
END:DAYLIGHT
BEGIN:STANDARD
TZOFFSETFROM:+0200
TZOFFSETTO:+0100
TZNAME:CET
DTSTART:20181028T010000
END:STANDARD
BEGIN:DAYLIGHT
TZOFFSETFROM:+0100
TZOFFSETTO:+0200
TZNAME:CEST
DTSTART:20190331T010000
END:DAYLIGHT
BEGIN:STANDARD
TZOFFSETFROM:+0200
TZOFFSETTO:+0100
TZNAME:CET
DTSTART:20191027T010000
END:STANDARD
END:VTIMEZONE
BEGIN:VEVENT
DTSTART;TZID=Europe/Berlin:20180503T193000
DTEND;TZID=Europe/Berlin:20180503T193000
DTSTAMP:20260423T080108
CREATED:20180502T132005Z
LAST-MODIFIED:20180502T182224Z
UID:10000272-1525375800-1525375800@wirundjetzt.org
SUMMARY:Die Gemeinwohl- Ökonomie & wie wir partizipieren können
DESCRIPTION:Die Gemeinwohl- Ökonomie & wie wir partizipieren können\n\nEin Vortrag mit Simon Neitzel (1. Vorstand und Initiator von wirundjetzt e.V.; Jahrgang 1978) \nWir leben in einer komplexen Welt\, die immer schneller und undurchdringlicher wird. Kaum einer versteht das Finanzsystem geschweige denn die globalen Finanzblasen\, Wirtschaftskreisläufe oder gar die weltweiten Zusammenhänge! Was aber können wir tun? Was ist unsere Verantwortung und unser Beitrag? Was für Möglichkeiten haben wir und wie und mit wem können wir diese Ideen teilen? Wohin führt das wenn wir so weiter machen wie bisher?Und wem ist das Gefühl von Ohnmacht nicht ganz unbekannt? Da kann ich doch alleine eh nichts ändern? Das war schon immer so und da wird sich auch nichts dran ändern! Und außerdem habe ich dafür doch gar keine Zeit? Das kann ich mir doch gar nicht leisten! Diese Gedanken und Situationen sind nicht ganz unbekannt. Natürlich hat hier jeder Mensch seine eigenen Erfahrungen und Vorstellungen und auch Bedürfnisse zu erfüllen und anzuschauen. Mit diesen Ressourcen kann sich jedeR in die Gesellschaft einbringen. \nSimon Neitzel wird diese Fragen stellen und anhand von wirundjetzt e.V. zeigen wie das Gemeinwohl und die Ökonomie zueinander passen und sich gegenseitig bedingen. Dieser scheinbare Konflikt geht uns alle an und wir alle können dazu beitragen\, indem wir wieder in Kooperation zusammen arbeiten und gemeinsam an Lösungen interessiert sind\, die allen dienen.Im Besonderen wird Simon Neitzel auf die Bewegung der Gemeinwohl-Ökonomie eingehen und aufzeigen\, wie der Weg der Kooperation auch im Wirtschaftsleben möglich ist. \nEintritt: 5\,-€ \nMehr Infos jetzt im Veranstaltungsflyer ansehen \n  \n  \n 
URL:https://wirundjetzt.org/event/die-gemeinwohl-oekonomie-wie-wir-partizipieren-koennen/
CATEGORIES:Nachhaltigkeit,Vortrag
ATTACH;FMTTYPE=image/png:https://wirundjetzt.org/wp-content/uploads/2018/05/jkjp-e1525284324588.png
END:VEVENT
BEGIN:VEVENT
DTSTART;TZID=Europe/Berlin:20180507T190000
DTEND;TZID=Europe/Berlin:20180507T210000
DTSTAMP:20260423T080108
CREATED:20180503T100704Z
LAST-MODIFIED:20180503T100704Z
UID:10000282-1525719600-1525726800@wirundjetzt.org
SUMMARY:erreichbar mai 2018
DESCRIPTION:erreichbar\n\n\n\nwirundjetzt treffen der aktiven\n\n\n\n\n\n\nVon 19.00 Uhr bis 21.00 Uhr wollen wir mit euch zusammen planen\, Ideen schmieden und Projekte umsetzen. Wir wollen regelmäßig zusammen sein und konkret an den Projekten und Ideen Arbeiten und uns austauschen. Dazu laden wir euch herzlich ein.\nWir sind in 88697 Bermatingen\, Rathausplatz 3\, im Büro von Oliver Endrikat (Sedat GmbH). \n\n\n\n\n\n\n\n\n\n\n\n\n\n 
URL:https://wirundjetzt.org/event/erreichbar-maerz-18-2-2/
LOCATION:Sedat\, Rathausplatz 3\, Bermatingen\, Deutschland
CATEGORIES:Vernetzungstreffen,»wirundjetzt«-Veranstaltung
ATTACH;FMTTYPE=image/jpeg:https://wirundjetzt.org/wp-content/uploads/2017/07/Hackschnitzel-Jump-DSC_3103-1-1.jpg
GEO:47.7295086;9.3495026
X-APPLE-STRUCTURED-LOCATION;VALUE=URI;X-ADDRESS=Sedat Rathausplatz 3 Bermatingen Deutschland;X-APPLE-RADIUS=500;X-TITLE=Rathausplatz 3:geo:9.3495026,47.7295086
END:VEVENT
BEGIN:VEVENT
DTSTART;TZID=Europe/Berlin:20180511T180000
DTEND;TZID=Europe/Berlin:20180513T180000
DTSTAMP:20260423T080108
CREATED:20180120T153205Z
LAST-MODIFIED:20180120T153205Z
UID:10000532-1526061600-1526234400@wirundjetzt.org
SUMMARY:„Gemeinsam Wachsen" – Wochenenden
DESCRIPTION:„Gemeinsam Wachsen“ – Wochenenden  \nGefühls- und Körperarbeit nach Willi Maurer – bearbeiten\, verstehen und lösen von Mustern\, die rund um unsere eigene Geburt entstanden sind und sich bis heute auf unser Leben auswirken. \nTermine: 11.-13. Mai 2018 \n19.-21. Oktober2018 \nHaslachhof 1\, 88693 Deggenhausertalwww.gemeinschaft-haslachhof.deInfos und Anmeldung: katharina.philipp@wirundjetzt.org
URL:https://wirundjetzt.org/event/gemeinsam-wachsen-wochenenden/
LOCATION:Haslachhof\, Haslachhof 1\, Deggenhausertal\, Baden-Württemberg\, 88693\, Deutschland
CATEGORIES:Seminar
ATTACH;FMTTYPE=image/jpeg:https://wirundjetzt.org/wp-content/uploads/2017/06/20141017_Vogelschwarm-am-Weiher_001.jpg
ORGANIZER;CN="Haslachhof":MAILTO: joachim.lang@gmx.de
GEO:47.7779168;9.4083337
X-APPLE-STRUCTURED-LOCATION;VALUE=URI;X-ADDRESS=Haslachhof Haslachhof 1 Deggenhausertal Baden-Württemberg 88693 Deutschland;X-APPLE-RADIUS=500;X-TITLE=Haslachhof 1:geo:9.4083337,47.7779168
END:VEVENT
BEGIN:VEVENT
DTSTART;TZID=Europe/Berlin:20180517T193000
DTEND;TZID=Europe/Berlin:20180517T193000
DTSTAMP:20260423T080108
CREATED:20180504T125059Z
LAST-MODIFIED:20180508T174056Z
UID:10000284-1526585400-1526585400@wirundjetzt.org
SUMMARY:Podiumsdiskussion „Starke Frauen“ 2018
DESCRIPTION:Podiumsdiskussion „Starke Frauen“ 2018\n\nNach dem großen Erfolg im letzten Jahr findet die Kooperationsveranstaltung der Kontaktstelle Frau und Beruf mit dem Wirtschaftsmuseum Ravensburg „Starke Frauen“ nun eine Fortsetzung. Freuen Sie sich auch 2018 auf eine Podiumsdiskussion mit bekannten Frauen aus der regionalen Wirtschaft und Politik und Moderatorin Susanne Hinzen\, Geschäftsführender Vorstand Erwin Hymer Stiftung. \nIm Anschluss an die Podiumsdiskussion gibt es bei einem kleinen Imbiss die Gelegenheit zu Austausch und Vernetzung. \nEinlass: 19:00 UhrBeginn: 19:30 Uhr \nWeitere Informationen finden Sie hier. \n \n 
URL:https://wirundjetzt.org/event/podiumsdiskussion-starke-frauen-2018/
CATEGORIES:Gesprächsrunde,Vortrag
ATTACH;FMTTYPE=image/png:https://wirundjetzt.org/wp-content/uploads/2018/05/Unbenannt-1.png
END:VEVENT
END:VCALENDAR