BEGIN:VCALENDAR
VERSION:2.0
PRODID:-//»wirundjetzt« - ECPv6.15.17.1//NONSGML v1.0//EN
CALSCALE:GREGORIAN
METHOD:PUBLISH
X-ORIGINAL-URL:https://wirundjetzt.org
X-WR-CALDESC:Veranstaltungen für »wirundjetzt«
REFRESH-INTERVAL;VALUE=DURATION:PT1H
X-Robots-Tag:noindex
X-PUBLISHED-TTL:PT1H
BEGIN:VTIMEZONE
TZID:Europe/Berlin
BEGIN:DAYLIGHT
TZOFFSETFROM:+0100
TZOFFSETTO:+0200
TZNAME:CEST
DTSTART:20170326T010000
END:DAYLIGHT
BEGIN:STANDARD
TZOFFSETFROM:+0200
TZOFFSETTO:+0100
TZNAME:CET
DTSTART:20171029T010000
END:STANDARD
BEGIN:DAYLIGHT
TZOFFSETFROM:+0100
TZOFFSETTO:+0200
TZNAME:CEST
DTSTART:20180325T010000
END:DAYLIGHT
BEGIN:STANDARD
TZOFFSETFROM:+0200
TZOFFSETTO:+0100
TZNAME:CET
DTSTART:20181028T010000
END:STANDARD
BEGIN:DAYLIGHT
TZOFFSETFROM:+0100
TZOFFSETTO:+0200
TZNAME:CEST
DTSTART:20190331T010000
END:DAYLIGHT
BEGIN:STANDARD
TZOFFSETFROM:+0200
TZOFFSETTO:+0100
TZNAME:CET
DTSTART:20191027T010000
END:STANDARD
END:VTIMEZONE
BEGIN:VEVENT
DTSTART;TZID=Europe/Berlin:20180402T110000
DTEND;TZID=Europe/Berlin:20180402T153000
DTSTAMP:20260423T092657
CREATED:20180211T125906Z
LAST-MODIFIED:20180211T125906Z
UID:10000233-1522666800-1522683000@wirundjetzt.org
SUMMARY:Inteernationaler Bodensee-Friedensweg: "GELD • MACHT • KRIEG- DIALOG • MACHT • FRIEDEN"
DESCRIPTION:"GELD • MACHT • KRIEG DIALOG • MACHT • FRIEDEN"\n\nDer traditionelle Internationale Bodensee-Friedensweg findet in diesem Jahr in Bregenz statt. \nhttp://bodensee-friedensweg.org/2018-2/ \nAuftakt ist um 11 Uhr auf dem Bahnhofsplatz\, mit einem Demonstrationszug durch die Stadt\, begleitet von Rhythm-Attac-Bodensee. Es werden 800 TeilnehmerInnen aus Österreich\, Liechtenstein\, der Schweiz und Deutschland erwartet.Ankunft der Friedensläuferhttps://www.facebook.com/events/1563104893765656/  \n11:15 Uhr Zug durch die Innenstadt12:15 Uhr Kundgebung am KornmarktVortrag Clemens RonnefeldtIFOR Internat. Versöhnungsbund Deutschland12:45 Uhr Verpflegung durch das Kochkollektiv Liechtenstein13:45 Uhr Dialog- und Informationsgruppen (Räume lt. Plan + Ansage)– Gutes Leben für Alle – Konzernverantwortungsinitiative– Gewalt gegen Frauen – Deinvestment – kein Geld für Rüstung– Was ist unsere Macht? – Universalität der Menschenrechte heute– Was ist Friedenskultur? – Abrüstung\, Atomwaffenverbot und Konversion – Pazifismus ohne Wenn und Aber15.30 Uhr Ende der Veranstaltung \nHelfen Sie\, den Bodensee-Friedensweg bekannt zu machen. •Verteilen Sie unsere Flyer und Plakate – Sie können sie kostenlos bei uns anfordern.•Oder verbreiten Sie den BFW digital – schreiben Sie uns.•Sie können uns auch finanziell unterstützen\, um die Veranstaltungskosten zu decken. \nHier geht es zum Flyer: http://bodensee-friedensweg.org/wp-content/uploads/2017/02/BFW2018.FlyerEntwurf5.pdf \nHier geht es zum Bodensee Ultra Friedenslauf:https://www.facebook.com/events/1563104893765656/ \nAn der Vorbereitung des Bodensee-Friedensweges 2018 sind beteiligt:In Vorarlberg: Erich Zucalli (Kontakt: erich.zucalli@aon.at)\, Dornbirn; Julia Felder\, Hohenems; Michael Striebel und Walter Buder\, BregenzIn der Schweiz: Arne Engeli (Kontakt: a.engeli@sunrise.ch)\, Rorschach; Christian Brönimann\, Güttingen; Ruedi Tobler\, Walzenhausen; Peter Weishaupt\, ZürichIn Deutschland: Frieder Fahrbach (Kontakt: bfwfahrbach@aol.com)\, Lindau; Helmut Luz\, Konstanz; Bernd Wipper und Christian Harms\, Überlingen; Werner Langenbacher und Heiko Thamm\, Ravensburg; Lilo Rademacher und Inge Jakowlew\, Friedrichshafen
URL:https://wirundjetzt.org/event/bodenseefriedensweg/
CATEGORIES:Aktionen,Nachhaltigkeit
ATTACH;FMTTYPE=image/png:https://wirundjetzt.org/wp-content/uploads/2018/02/Bild1-768x480.png
END:VEVENT
BEGIN:VEVENT
DTSTART;TZID=Europe/Berlin:20180409T180000
DTEND;TZID=Europe/Berlin:20180409T210000
DTSTAMP:20260423T092657
CREATED:20180212T121434Z
LAST-MODIFIED:20180212T121434Z
UID:10000056-1523296800-1523307600@wirundjetzt.org
SUMMARY:Phoenixzeit Bodensee - Infoabend Nr.2
DESCRIPTION:Phoenixzeit FILM + Infoabend Nr 2\n\nDie PHÖNIXZEIT Bodensee startet 2018 mit ihrem ersten Durchlauf\, nachdem sie in Potsdam jetzt seit 15 Jahren erfolgreich angeboten wird. Nach der Vorstellung wird es Zeit geben für Gespräche\, Fragen & Informationen zur Phönixzeit.  \n\n\n\n\n\n          		\n					 \n									\n						\n								Was ist die Phönixzeit?\n				Die Phönixzeit ist eine Entdeckungsreise für Jungen zwischen 13 und 15 Jahren im Übergang vom Kind zum jungen Mann\n​Das Alter von 13 bis 15 Jahren bringt viele neue Herausforderungen für Jungen und ihre Eltern.\nEs geht um den Abschied vom Kindsein und um Orientierung in der Welt der Erwachsenen. \nDieser Übergangsprozess vom Kind zum jungen Mann zieht sich über mehrere Jahre hin. Mit der Phoenixzeit  wollen wir den Jungen und seine Eltern dabei unterstützen und begleiten.\n\n​	\n	\n    \nDer Trailer zur Phoenixzeit / Manne e.V. Potsdam from Manne e.V. on Vimeo.https://vimeo.com/158314694?loop=0
URL:https://wirundjetzt.org/event/phoenixzeit-bodensee-infoabend-nr-2/
CATEGORIES:Aktionen,Film,Gesprächsrunde,Infoabend
ATTACH;FMTTYPE=image/png:https://wirundjetzt.org/wp-content/uploads/2018/02/Unbenannt.PNGdaasgas.png
END:VEVENT
END:VCALENDAR