BEGIN:VCALENDAR
VERSION:2.0
PRODID:-//»wirundjetzt« - ECPv6.15.17.1//NONSGML v1.0//EN
CALSCALE:GREGORIAN
METHOD:PUBLISH
X-ORIGINAL-URL:https://wirundjetzt.org
X-WR-CALDESC:Veranstaltungen für »wirundjetzt«
REFRESH-INTERVAL;VALUE=DURATION:PT1H
X-Robots-Tag:noindex
X-PUBLISHED-TTL:PT1H
BEGIN:VTIMEZONE
TZID:Europe/Berlin
BEGIN:DAYLIGHT
TZOFFSETFROM:+0100
TZOFFSETTO:+0200
TZNAME:CEST
DTSTART:20160327T010000
END:DAYLIGHT
BEGIN:STANDARD
TZOFFSETFROM:+0200
TZOFFSETTO:+0100
TZNAME:CET
DTSTART:20161030T010000
END:STANDARD
BEGIN:DAYLIGHT
TZOFFSETFROM:+0100
TZOFFSETTO:+0200
TZNAME:CEST
DTSTART:20170326T010000
END:DAYLIGHT
BEGIN:STANDARD
TZOFFSETFROM:+0200
TZOFFSETTO:+0100
TZNAME:CET
DTSTART:20171029T010000
END:STANDARD
BEGIN:DAYLIGHT
TZOFFSETFROM:+0100
TZOFFSETTO:+0200
TZNAME:CEST
DTSTART:20180325T010000
END:DAYLIGHT
BEGIN:STANDARD
TZOFFSETFROM:+0200
TZOFFSETTO:+0100
TZNAME:CET
DTSTART:20181028T010000
END:STANDARD
END:VTIMEZONE
BEGIN:VEVENT
DTSTART;VALUE=DATE:20171103
DTEND;VALUE=DATE:20171106
DTSTAMP:20260424T195047
CREATED:20171101T111033Z
LAST-MODIFIED:20171101T111115Z
UID:10000171-1509667200-1509926399@wirundjetzt.org
SUMMARY:Kohlegruben mit Protest fluten statt Inseln versenken!
DESCRIPTION:Ende Gelände\n\nMit Ende Gelände haben in den letzten zwei Jahren tausende Menschen aus ganz Europa Widerstand gegen die Kohle geleistet. Während der Weltklimakonferenz in Bonn schreiten wir mit Menschen aus der ganzen Welt zur Tat – mit Bäuer*innen aus dem globalen Süden oder Gipfel-Delegierten aller Länder\, mit Climate Warriors aus dem Pazifik oder Mitgliedern von Umweltverbänden – und auch mit dir wollen wir in die Grube. Gemeinsam sagen wir: Für Kohlekraftwerke und Klimazerstörung ist hier ENDE GELÄNDE! Statt um CO2 zu feilschen\, kämpfen wir für ein Klima der Gerechtigkeit – vom 3. bis 5. November 2017 im Rheinland!https://www.ende-gelaende.org/de/kohlegruben-mit-protest-fluten-statt-inseln-versenken/
URL:https://wirundjetzt.org/event/kohlegruben-mit-protest-fluten-statt-inseln-versenken-2/
CATEGORIES:Aktionen,Ökologie
ATTACH;FMTTYPE=image/png:https://wirundjetzt.org/wp-content/uploads/2017/11/ende-gelände.png
END:VEVENT
BEGIN:VEVENT
DTSTART;TZID=Europe/Berlin:20171108T200000
DTEND;TZID=Europe/Berlin:20171108T220000
DTSTAMP:20260424T195047
CREATED:20170815T124653Z
LAST-MODIFIED:20170815T135650Z
UID:10000138-1510171200-1510178400@wirundjetzt.org
SUMMARY:Wohnen im Alter – in ländlichen Gemeinden
DESCRIPTION:Vortrag von Dr. Wonneberger \n\nMittwoch\, 08. November 2017\, 20 Uhr \nMögliche Projekte\, ihre Planung und Verwirklichung. \nGOL Stammtisch 20.00 Uhr in 88239 Neuravensburg – im Boeckelerstadel.
URL:https://wirundjetzt.org/event/wohnen-im-alter-in-laendlichen-gemeinden/
CATEGORIES:Vortrag
ATTACH;FMTTYPE=image/png:https://wirundjetzt.org/wp-content/uploads/2017/08/via-start.png
END:VEVENT
BEGIN:VEVENT
DTSTART;VALUE=DATE:20171110
DTEND;VALUE=DATE:20171113
DTSTAMP:20260424T195047
CREATED:20171027T182205Z
LAST-MODIFIED:20171027T182205Z
UID:10000162-1510272000-1510531199@wirundjetzt.org
SUMMARY:»Werte Wandeln« bundesweites Netzwerktreffen der SOLAWIs
DESCRIPTION:Gemeinsam für eine Landwirtschaft mit Zukunft! \n\nIn gut zwei Wochen ist es soweit: Unter dem Motto Werte Wandeln! findet vom 10. bis 12. November unsere Herbsttagung im Tagungshaus Lebensbogen statt! Wir haben ein vielfältiges Programm und einen bunten Rahmen ausgearbeitet für ein verbindendes\, spannendes und kraftvolles Treffen mit Euch. Ein paar Appetithäpchen: Themenimpulse von Martin Häusling und Tassilo Willaredt\, OpenSpaces\, Praxis-Tool-Sharing\, Saatgut-Tauschbörse\, Mitgliederversammlung\, Kulturprogramm und vieles mehr!Das detaillierte Programm\, Logistik-Infos und Anmeldung findet Ihr unter https://www.solidarische-landwirtschaft.org/mitmachen/netzwerktreffen/Meldet Euch zügig an\, die Plätze sind begrenzt! Sprecht mit Eurer Solawi-Gemeinschaft\, mit Euren Familien\, Freunden und Kollegen darüber!Ein Schwerpunkt der Herbsttagung ist auch die Ausrichtung der Netzwerkarbeit für 2018 und die Wahl des neuen Rates – hier könnt Ihr aktiv mitgestalten\, wie sich das Netzwerk entwickelt!Wir freuen uns auf Euch! \nNetzwerk Solidarische Landwirtschaft \nhttps://www.solidarische-landwirtschaft.org/mitmachen/netzwerktreffen/
URL:https://wirundjetzt.org/event/werte-wandeln-bundesweites-netzwerktreffen-der-solawis/
CATEGORIES:Vernetzungstreffen
ATTACH;FMTTYPE=image/jpeg:https://wirundjetzt.org/wp-content/uploads/2017/10/Pusteblume.jpg
END:VEVENT
BEGIN:VEVENT
DTSTART;TZID=Europe/Berlin:20171110T190000
DTEND;TZID=Europe/Berlin:20171110T220000
DTSTAMP:20260424T195047
CREATED:20171101T154315Z
LAST-MODIFIED:20171101T154315Z
UID:10000023-1510340400-1510351200@wirundjetzt.org
SUMMARY:Jahrestraining Schnupperabend -  von Miteinander Heilen
DESCRIPTION:Jahrestraining Schnupperabend –  von Miteinander Heilen\n\nAn den Schnupperabenden kannst Du einen guten Eindruck davon bekommen\, wie die Abende des Jahrestrainings ablaufen\, wie der Raum und die Atmosphäre ist\, und Du kannst deine Fragen stellen. \n\nBitte spätestens 4 Tage vorher anmelden\nAbend 19-22 Uhr (bitte 5-10min zum Ankommen einplanen)\nOrt: Raum von Kundalini Yoga Rieterwerke (s.u.)\nKosten: 10 Euro\nBequeme Kleidung mitbringen\n\nMehr Informationen hier: \n  \nhttp://miteinander-heilen.de/
URL:https://wirundjetzt.org/event/schamanismusdez-3-2-2/
CATEGORIES:Workshop
END:VEVENT
BEGIN:VEVENT
DTSTART;TZID=Europe/Berlin:20171112T173000
DTEND;TZID=Europe/Berlin:20171112T200000
DTSTAMP:20260424T195047
CREATED:20171101T152932Z
LAST-MODIFIED:20171101T152932Z
UID:10000021-1510507800-1510516800@wirundjetzt.org
SUMMARY:Contact Improvisation in Ravensburg
DESCRIPTION:Contact Improvisation in Ravensburg\n\nImmer wieder Sonntags Für alle\, die Spaß an der improvisierten Bewegung haben. \nIm freien Tanzraum erforschen wir spielerisch unsere Bewegungsmöglichkeiten: Nach einem kurzen Warm-up gehen wir in die offene Begegnung. Allein\, zu zweit oder in der Gruppe experimentieren wir mit Kontakt\, mit Gewicht und Spielräumen. Dabei sind wir achtsam und tänzerisch frei. Offen für alle mit und ohne Erfahrung in der Contact Improvisation.
URL:https://wirundjetzt.org/event/schamanismusdez-3/
CATEGORIES:Musik
END:VEVENT
BEGIN:VEVENT
DTSTART;TZID=Europe/Berlin:20171114T180000
DTEND;TZID=Europe/Berlin:20171114T180000
DTSTAMP:20260424T195047
CREATED:20171027T190403Z
LAST-MODIFIED:20171027T190403Z
UID:10000166-1510682400-1510682400@wirundjetzt.org
SUMMARY:Start (K)up. Ravensburg
DESCRIPTION:Start (k)up. Ravensburg\n\nZur dritten Veranstaltung aus der Reihe Start (k)up. Ravensburg laden wir Sie herzlich ein. \nHören – Sehen – Beteiligen: An diesem informativen und unterhaltsamen Abend erhaltenSie Einblicke in ein inklusives Projekt in Ravensburg. „kup. Ravensburg“: An einem Standort für Unternehmen aus der Technologie- und Kreativwirtschaft wird ein Förderbereich für Menschen mit Behinderungen angeboten.18 Uhr Start up„Die Außergewöhnlichen“ModerationAlexander Nieß\, Theater RavensburgTalkIm kup. ist es normal\, verschieden zu sein – 2 Partner\, 1 Gedanke\, 1 inklusives ProjektDr. Markus Nachbaur | Vorstand Stiftung Liebenau„Stiftung trifft Wirtschaft“Stefan Nachbaur | Geschäftsführer PRISMA„Standortentwicklung für wechselseitig befruchtende Arbeits-\, Lebens- und Stadträume“Get TogetherMarkt der Möglichkeiten\, Essen\, Getränke\, NetzwerkenGleich online anmelden oder unter T. +49 7541 952820 (Die Teilnahme ist kostenfrei).Start (k)up. Ravensburg ist eine gemeinsame Initiative der PRISMA Unternehmensgruppe\, der Stiftung Liebenau\, von Steinbeis\, der Wirtschaftsförderung des Landkreises Ravensburg\, der Hochschule Ravensburg-Weingarten\, der Stadt Ravensburg sowie von bwcon.Start (k)up. Ravensburg versteht sich als inhaltliche Netzwerk- und Unterstützungsplattform für Existenzgründer und Spin-offs. Ziel ist es\, durch themenbezogene Impulse\, Aktivitäten und Hilfestellungen ein gründungsfreundliches Umfeld in der Wirtschaftsregion zu schaffen. Vielfältige Anknüpfungspunkte zu regional tätigen und etablierten Unternehmen\, zu Hochschulen\, Wirtschaftsförderungseinrichtungen sowie Technologienetzwerken unterstützen den Schritt in die Selbstständigkeit.PRISMA
URL:https://wirundjetzt.org/event/start-kup-ravensburg/
CATEGORIES:Vernetzungstreffen,Vortrag
ATTACH;FMTTYPE=image/jpeg:https://wirundjetzt.org/wp-content/uploads/2017/10/start-kup.jpg
END:VEVENT
BEGIN:VEVENT
DTSTART;TZID=Europe/Berlin:20171116T193000
DTEND;TZID=Europe/Berlin:20171116T213000
DTSTAMP:20260424T195047
CREATED:20171114T115919Z
LAST-MODIFIED:20171114T115949Z
UID:10000025-1510860600-1510867800@wirundjetzt.org
SUMMARY:Wege zu einem gerechten und nachhaltigen Finanzsystem
DESCRIPTION:Wege zu einem gerechten und nachhaltigen Finanzsystem\n\nDatum und Zeit: 16. November 2017 – 19:30\n\n\n\n\n\n\n\nOrt: Bildungshaus St. Arbogast\, 6840 GötzisNeues Thema: Wege zu einem gerechten und nachhaltigen FinanzsystemWie unser Finanzsystem funktioniert\, wie es wirkt und wie wir es positiv verändern und gestalten können. Im Vortrag von Dr. Michael Zorn werden einerseits die Zusammenhänge von Geldmengenwachstum und Staatsverschuldung\, Finanzkrisen\, Verarmung und Geldschöpfung aufgezeigt und andererseits alternative Lösungsvorschläge vorgestellt und erarbeitet. Vertiefend werden im Anschluss Workshops angeboten (24.11.2017\, 12.1. und 16.3.2018).Dr. Michael Zorn\, ehemailger Banker und Vermögensverwalter\, setzt sich seit Jahren für ein gerechtes Finanzsystem ein.Vortrag: Donnerstag\, 16.11.2017 – 19.30 U. Anmeldung: arbogast@kath-kirche-vorarlberg.at
URL:https://wirundjetzt.org/event/wege-zu-einem-gerechten-und-nachhaltigen-finanzsystem/
CATEGORIES:Gesprächsrunde,Vortrag
ATTACH;FMTTYPE=image/jpeg:https://wirundjetzt.org/wp-content/uploads/2017/11/michael_zorn.jpg
END:VEVENT
BEGIN:VEVENT
DTSTART;TZID=Europe/Berlin:20171116T193000
DTEND;TZID=Europe/Berlin:20171116T220000
DTSTAMP:20260424T195047
CREATED:20171116T100550Z
LAST-MODIFIED:20171116T100553Z
UID:10000028-1510860600-1510869600@wirundjetzt.org
SUMMARY:Mobilität der Zukunft und Auswirkungen auf Wirtschaftswachstum und Gesellschaft
DESCRIPTION:Mobilität der Zukunft und Auswirkungen auf Wirtschaftswachstum und Gesellschaft\n\n am 16.11.2017 um 19.30 Uhr \nReferent: Prof. Dr. Wolfgang Ertel \nOrt: Rathaus Ravensburg\, Kleiner Sitzungssaal \nSelbstfahrende Autos werden unser Leben in wenigen Jahren verändern. Führen Roboterautos zu einer Revolution im Verkehrsbereich und einer deutlich verbesserten Ökobilanz? Wie schnell ist diese einschneidende Veränderung der privaten und öffentlichen Mobilität zu erwarten? Was bedeutet dies für unsere öffentliche Infrastruktur? Was sind die Auswirkungen der „künstlichen Intelligenz“ im Hinblick auf Wachstum und Gesellschaft? Tragen all diese Veränderungen auch zum Wohl der Menschheit bei? \nDer Referent diskutiert diese Fragen und Bedenken und präsentiert Lösungsansätze für eine nachhaltige Zukunft. \n  \n 
URL:https://wirundjetzt.org/event/mobilitaet-der-zukunft-und-auswirkungen-auf-wirtschaftswachstum-und-gesellschaft/
CATEGORIES:Gesprächsrunde,Vortrag
ATTACH;FMTTYPE=image/jpeg:https://wirundjetzt.org/wp-content/uploads/2013/04/fliegen1.jpg
END:VEVENT
BEGIN:VEVENT
DTSTART;TZID=Europe/Berlin:20171118T093000
DTEND;TZID=Europe/Berlin:20171118T170000
DTSTAMP:20260424T195047
CREATED:20171101T150349Z
LAST-MODIFIED:20171101T150349Z
UID:10000218-1510997400-1511024400@wirundjetzt.org
SUMMARY:Praxisworkshop: Moderation
DESCRIPTION:Praxisworkshop: Moderation\n\nTrainerin: Dr. Nina Alff\, seit 25 Jahren in der internationalen Zusammenarbeit als Trainerin und Moderatorin unterwegs. Als Wandlerin zwischen den Welten „Theorie & Praxis“\, „Süd und Nord“ liegen ihre Schwerpunkte in den Themenfeldern Partizipative (Kommunikations-)Methoden\, Geschlechter­gerechtigkeit und Entwicklungspolitik. \nInhalt: Moderation ist ein unabdingbares Praxistool für die Zusammenarbeit vor allem in selbstorganisierten Gruppen. Als demokratisches Instrument strukturiert es die gemeinsame Arbeit und sorgt für nachvollziehbare Entscheidungen und Zuständigkeiten. Um die entsprechenden Werkzeuge praxisrelevant einzuüben\, liegt der Schwerpunkt des Workshops neben Grundlagen-Inputs auf dem praktischen Üben. Wir arbeiten mit konkreten Beispielen aus dem Alltag der Teilnehmer*innen. \nFolgende Inhalte und Fähigkeiten werden in diesem Workshop erarbeitet: \n\nWarum und wo eine Moderation sinnvoll und hilfreich ist (Aufgaben und Ziele)\nMaximen\, Faustregeln und Haltung der Moderation\nUmgang mit Moderationsmaterialien wie Flipchart\, Moderationswand\, Karten & Co.\nVerschiedene Moderationstechniken wie Redner*innen-Liste\, Brainstorming\, visualisierte Diskussion\, Runde\, Fish-Bowl etc.\nVisualisieren und Protokolle schreiben\nErgebnisorientiertes Arbeiten und gemeinsames Organisieren von To-do´s\nTipps\, Tricks und Fallstricke\n\nZielgruppe: Der Workshop richtet sich an vorwiegend ehrenamtliche entwicklungspolitische Gruppen. \n  \nVerbindliche Anmeldung bitte bis spätestens 10. November 2017 an: E-Mail: anna.naegele@posteo.de | Tel: 07502 – 921 90 23  \nDer Workshop wird durchgeführt im Rahmen der Reihe Praxisworkshops des Eine Welt-PromotorInnen-Programms. Er wird veranstaltet von: Verein Eine Welt FN e.V.  in Kooperation mit dem DEAB (Dachverband Entwicklungspolitik Baden-Württemberg) sowie der Außenstelle Baden-Württemberg/Bayern von Engagement Global gGmbH. \nDie Reihe Praxisworkshops der Eine Welt-RegionalpromotorInnen wird gefördert von Engagement Global im Auftrag des BMZ sowie vom Staatsministerium Baden-Württemberg.
URL:https://wirundjetzt.org/event/schamanismusdez-2/
CATEGORIES:Seminar,Vortrag,Workshop
END:VEVENT
BEGIN:VEVENT
DTSTART;TZID=Europe/Berlin:20171118T110000
DTEND;TZID=Europe/Berlin:20171118T170000
DTSTAMP:20260424T195047
CREATED:20171021T194854Z
LAST-MODIFIED:20171021T202338Z
UID:10000527-1511002800-1511024400@wirundjetzt.org
SUMMARY:»Erfolgs-Workshop« am 18. November 2017 in Ravensburg
DESCRIPTION:»Erfolgs-Workshop« am 18. November 2017 in Ravensburg\n\nGroßer Nachbereitungsworkshop der erfolgreichen Mitmach-Konferenz im Mai: \nLiebe Aktiven\, Interessierten der BodenseeRegion\, \nnach der erfolgreichen »Mitmach-Konferenz« im Mai in Ravensburg geht es nun weiter mit den nächsten Schritten. \nDer Vorvertrag der Regionalwert AG ist unterschrieben\, der erste »Humus-Stammtisch« in der Region hat stattgefunden und bald erscheint das das Yes! We Can Farm Magazin mit dem Titel #Heimat #Land #Leben. \nDiese drei ausgewählten Beispiele zeigen: Es tut sich viel in der Region Bodensee-Oberschwaben. Gerade deshalb wollen wir uns ein paar Monate nach der Mitmach-Konferenz im November wie angekündigt uns wiedertreffen. \nHiermit laden wir Sie und Euch herzlich zum »Erfolgs-Workshop« am 18. November 2017 nach Ravensburg in das Technische Rathaus ein. Die offizielle Einladung gibt es hier als PDF-Dokument » \nWir bitten um eine zeitnahe Anmeldung auf der folgenden Website » \nIm Anmelde-Formular fragen wir wieder Ihre aktuellen Wünsche und Herausforderungen ab\, die wir in die Workshop-Gestaltung einfließen lassen. Die Teilnahme ist wieder kostenlos. Für ein Mittagessen und Getränke ist gesorgt. \nDie Teilnahme am Workshop ist öffentlich\, aber begrenzt. Deshalb werden wir die Einladung an alle Teilnehmenden der Mitmach-Konferenz weiterleiten. Sie können die Einladung zudem an interessierte Akteure und Privatpersonen schicken\, die Sie bei der weiteren Mitgestaltung der Region Bodensee-Oberschwaben beim Workshop mit dabei haben möchten. \nWir freuen uns über Eure Anmeldung und Teilnahme\, sowie immer über Anregungen zum Prozess. \nBeste Grüße im Namen aller Beteiligten\nSimon Neitzel & Matthias Middendorf
URL:https://wirundjetzt.org/event/erfolgs-workshop-am-18-november-2017-in-ravensburg/
LOCATION:Technisches Rathaus der Stadt Ravensburg\, Salamanderweg 22\, Ravensburg\, 88212\, Deutschland
CATEGORIES:Vortrag
ATTACH;FMTTYPE=image/jpeg:https://wirundjetzt.org/wp-content/uploads/2017/10/Bildschirmfoto-2017-10-21-um-22.07.58.jpg
GEO:47.7947138;9.6083889
X-APPLE-STRUCTURED-LOCATION;VALUE=URI;X-ADDRESS=Technisches Rathaus der Stadt Ravensburg Salamanderweg 22 Ravensburg 88212 Deutschland;X-APPLE-RADIUS=500;X-TITLE=Salamanderweg 22:geo:9.6083889,47.7947138
END:VEVENT
BEGIN:VEVENT
DTSTART;TZID=Europe/Berlin:20171118T180000
DTEND;TZID=Europe/Berlin:20171118T193000
DTSTAMP:20260424T195047
CREATED:20171027T191405Z
LAST-MODIFIED:20171027T191450Z
UID:10000168-1511028000-1511033400@wirundjetzt.org
SUMMARY:Neues aus der SOLAWI RAvensburg
DESCRIPTION:Das Gärtner-Team der Solidarische Landwirtschaft Ravensburg e.V. bekommt Zuwachs\n\nSeit drei Jahren bauen die Gärtner der „Solidarischen Landwirtschaft Ravensburg e.V.“ in Hübscher Gemüse an. Nächstes Jahr bildet sich das Gärtner-Team nun neu. Wer als Mitglied in der Gemüse-Saison 2018 mitmachen möchte\, ist herzlich zum Info-Vortrag am Samstag\, den 18. November\, eingeladen. Beginn ist um 18 Uhr im Haus der Familie\, Liebfrauenstraße 24\, in Weingarten. Lukas und Miriam Cimander stoßen ab nächstes Jahr zum 3-köpfigen Gärtner-Team der Solidarischen Landwirtschaft dazu. Beide haben ihre Ausbildung bei der Demeter-Hofgut Rengoldshausen am Bodensee gemacht. Aktuell arbeiten sie noch in der Saatgut-Gärtnerei „Piluweri“ in Freiburg\, in der samenfeste Gemüse-Sorten vermehrt werden. Das Besondere an dem Konzept „Solidarische Landwirtschaft“ ist\, dass die 180 Vereinsmitglieder nicht das einzelne Gemüse kaufen\, sondern anteilig den Gemüseanbau finanzieren und im Gegenzug einen Anteil an der gesamten Ernte erhalten. Das Gemüse findet so ohne Zwischenhändler direkt den Weg auf den Teller. Angebaut wird Gemüse von Aubergine bis Zwiebel und „Gemüse mit Charakter“ wird ebenfalls geliefert. Die vier Gemüse-Verteilstellen in Ravensburg-Süd\, Weingarten\, Baienfurt und am Hof sind rund-um-die-Uhr zugänglich. Wer Lust auf Gemüse in der Saison 2018 verspürt\, melde sich unter: ichwillgemuese[ät]solawi-ravensburg.de. Weitere Informationen sind auf Homepage des Vereins zu finden: www.solawi-ravensburg.de. Nächste Termine: Samstag\, 18. November: 18 Uhr Info-Vortrag über „Solidarische Landwirtschaft“\, Haus der Familie\, Liebfrauenstr. 24\, 88250 Weingarten Ab 19:30 Uhr Informationen für aktuelle Mitglieder Freitag\, 24. November: 19:30 Uhr Vorstellung der Finanz- und Anbauplanung der nächsten Gemüse-Saison 2018\, Haus der Familie\, Liebfrauenstr. 24\, 88250 Weingarten Samstag\, 02. Dezember: 16:30 Uhr Bieterrunde der nächsten Gemüse-Saison 2017/18\, Pflichttermin für Mitglieder\, die Gemüse abnehmen\, Waldorfschule\, Meersburger Str.148\, 88213 Ravensburg Solidarische Landwirtschaft Ravensburg e.V. Homepage: www.solawi-ravensburg.de
URL:https://wirundjetzt.org/event/start-kup-ravensburg-2/
CATEGORIES:Bio,Ökologie,Vortrag
ATTACH;FMTTYPE=image/jpeg:https://wirundjetzt.org/wp-content/uploads/2013/04/Gurken_600x250.jpg
END:VEVENT
BEGIN:VEVENT
DTSTART;TZID=Europe/Berlin:20171121T200000
DTEND;TZID=Europe/Berlin:20171121T220000
DTSTAMP:20260424T195047
CREATED:20171116T095620Z
LAST-MODIFIED:20171116T095914Z
UID:10000027-1511294400-1511301600@wirundjetzt.org
SUMMARY:Nachhaltiges Wirtschaften am Beispiel VAUDE
DESCRIPTION:Nachhaltiges Wirtschaften am Beispiel VAUDE\n\nLisa Fiedler / Unternehmensentwicklungund Nachhaltigkeit VAUDE SportDerOutdoor-Ausrüster VAUDE verfolgt seit Jahren mit großem Engagement dasZiel\, Textilien fair\, nachhaltig und umweltschonend zu produzieren. Dafürwird das Familienunternehmen aus Obereisenbach bei Tettnang immer wiedermit hochkarätigen Preisen ausgezeichnet. Lisa Fiedler gibt uns Einblickin die Wirtschaftsweise des Unternehmens und in aktuelle Entwicklungenund Probleme.Di\, 21.11.2017 / 20:00 Uhr / EKHG / Weingarten \n 
URL:https://wirundjetzt.org/event/nachhaltiges-wirtschaften-am-beispiel-vaude/
CATEGORIES:Gesprächsrunde,Vortrag
ATTACH;FMTTYPE=image/jpeg:https://wirundjetzt.org/wp-content/uploads/2017/11/vaude.jpg
END:VEVENT
BEGIN:VEVENT
DTSTART;TZID=Europe/Berlin:20171126T100000
DTEND;TZID=Europe/Berlin:20171126T160000
DTSTAMP:20260424T195047
CREATED:20171114T120643Z
LAST-MODIFIED:20171114T120742Z
UID:10000026-1511690400-1511712000@wirundjetzt.org
SUMMARY:Großer TALENTE Herbstmarkt im BSBZ Hohenems
DESCRIPTION:Großer TALENTE Herbstmarkt im BSBZ Hohenems \n\nDatum und Zeit: 26. November 2017 – 10:00 bis 16:00Ort: Bäuerliches Schul- und Bildungszentrum Rheinhofstraße 16 6845 Hohenems60 talentierte Aussteller präsentieren ihr kreatives Schaffen. Köstlichkeiten aus Küche und Garten\, Gefilztes\, Gestricktes\, Genähtes\, Puppen und Holzspielzeug\, ebenso werden Produkte aus Zirbenholz angeboten. Für die Unterhaltung der Kleinen wird mit Spiel und Spaß gesorgt. Für das leibliche Wohl wird vegetarisch als auch nicht vegetarisch ausreichend geboten. Kaffee\, Tee\, Limo und köstliche Kuchen laden zum Genießen ein
URL:https://wirundjetzt.org/event/grosser-talente-herbstmarkt-im-bsbz-hohenems/
CATEGORIES:Nachhaltigkeit
ATTACH;FMTTYPE=image/jpeg:https://wirundjetzt.org/wp-content/uploads/2017/11/tt1711-markt-webbanner.jpg
END:VEVENT
BEGIN:VEVENT
DTSTART;TZID=Europe/Berlin:20171129T093000
DTEND;TZID=Europe/Berlin:20171129T163000
DTSTAMP:20260424T195047
CREATED:20171114T112758Z
LAST-MODIFIED:20171114T113638Z
UID:10000024-1511947800-1511973000@wirundjetzt.org
SUMMARY:Kommunaler Klimaschutz Kongress 2017
DESCRIPTION:Kommunaler Klimaschutzkongress 2017\n\nFür Einsteiger und Fortgeschrittene in Klimaschutz und Klimafolgenanpassung \nKreise\, Städte und Gemeinden haben einen herausragenden Stellenwert beim Kampf gegen den Klimawandel. Der Kommunale Klimaschutzkongress setzt neue Impulse für den Klimaschutz in Baden-Württemberg.  Melden Sie sich bis 24. November hier an! \n29. November 2017 | 9.30 – 16.30 Uhr | Rathaus Stuttgart  \nDas Programm finden Sie hier. \nStaatssekretär Dr. Andre Baumann spricht über die Situation des Klimaschutzes in Kommunen und gibt einen Ausbilck. Im Plenum steht die Weiterentwicklung der kommunalen Klimaschutzaktivitäten bis 2050 zur Diskussion. Best-Practice-Beispiel ist ein Projekt der Stadt Basel. Praxisnahe Foren widmen sich der Klimafolgenanpassung\, einem Erfahrungsaustausch zum Programm Klimaschutz mit System sowie den Fragen\, wie der Einstieg in den kommunalen Klimaschutz gelingen kann und wie sich Mitstreiter leichter gewinnen lassen. In der Begleitausstellung freuen sich Vertreterinnen und Vertreter nicht-kommerzieller Beratungseinrichtungen auf Gespräche mit Ihnen. \nDer Kongress richtet sich an Vertreterinnen und Vertreter von Gemeinden\, Städten und Landkreisen und ist auch für alle anderen Interessierten offen. \nDer Kommunale Klimaschutzkongress 2017 ist kostenfrei. Eine Anmeldung bis zum 24. November ist erforderlich. \n 
URL:https://wirundjetzt.org/event/kommunaler-klimaschutz-kongress-2017/
CATEGORIES:Konferenz
ATTACH;FMTTYPE=image/gif:https://wirundjetzt.org/wp-content/uploads/2017/11/komklikon.gif
END:VEVENT
BEGIN:VEVENT
DTSTART;TZID=Europe/Berlin:20171129T190000
DTEND;TZID=Europe/Berlin:20171129T210000
DTSTAMP:20260424T195047
CREATED:20171101T112108Z
LAST-MODIFIED:20171101T113412Z
UID:10000173-1511982000-1511989200@wirundjetzt.org
SUMMARY:„Beuys“ – Der Berlinale-Film
DESCRIPTION:„Beuys“ – Der Berlinale-Film\n\n„Beuys“ – Der Berlinale-Film von Andres Veiel (Wettbewerb 2017) \nIm Anschluss daran findet ein Gespräch mit dem Dokumentarfilmer statt. \nIn Kooperation mit dem artsprogram der Zeppelin Universität & Verein Soziale Skulptur\, Achberg \nBeuys. Der Mann mit dem Hut\, dem Filz und der Fettecke. 30 Jahre nach seinem Tod  erscheint  er  uns  als  Visionär\,  der  seiner Zeit voraus war. Geduldig versuchte er schon damals zu  erklären\, dass  „Geld  keine  Ware  sein  darf“.  Er wusste\, dass der Geld-handel die Demokratie unterwandern würde. Doch mehr als das. Beuys boxt\, parliert\, doziert und erklärt dem toten Hasen die Kunst. Sein erweiterter Kunstbegriff führte ihn mitten in den Kern auch heute relevanter gesellschaftlicher Debatten. Regisseur Andres Veiel zeichnet in furiosen\, klugen Collage oftmals bisher unerschlossener Bild- und Tondokumente das Bild eines einzigartigen Menschen\, der in seiner rastlosen Kreativität Grenzen sprengte. BEUYS ist kein klassisches Porträt\, sondern eine intime Betrachtung des Menschen\, seiner Kunst und seiner Ideenräume\, mitreißend\, provozierend und verblüffend gegenwärtig. \n 
URL:https://wirundjetzt.org/event/beuys-der-berlinale-film/
CATEGORIES:Film,Gesprächsrunde
ATTACH;FMTTYPE=image/jpeg:https://wirundjetzt.org/wp-content/uploads/2017/11/beuys-film-index-hg-1180x800-blau.jpg
END:VEVENT
BEGIN:VEVENT
DTSTART;TZID=Europe/Berlin:20171129T193000
DTEND;TZID=Europe/Berlin:20171129T220000
DTSTAMP:20260424T195047
CREATED:20171116T101826Z
LAST-MODIFIED:20171116T101826Z
UID:10000029-1511983800-1511992800@wirundjetzt.org
SUMMARY:Transformation zu einem nachhaltigen Finanzsystem – Utopie oder Realität?
DESCRIPTION:Transformation zu einem nachhaltigen Finanzsystem – Utopie oder Realität?\n\nAntoinette Hunziker-Ebneter\, CEO von Forma Futura Invest AG und VRP der BEKB verfügt über 30 Jahre Erfahrung im Finanz- und Risikomanagement. Vor 11 Jahren beschritt die ehemalige Börsenchefin neue Wege in Richtung Transformation zu einem nachhaltigen Finanzsystem mit der Gründung und Leitung der unabhängigen Vermögensverwaltung Forma Futura. \n«Geld ist eine zentrale Ressource – der Einsatz von Geld bewegt die Welt. Wir müssen kritische Fragen stellen und uns unserer Verantwortung bewusst sein.» \nWie kann verantwortungsbewusst investiert werden? \nRentieren nachhaltige Anlagen? \nWie wirkt sich die Digitalisierung auf die Nachhaltigkeit aus? \nMittwoch\, 29. November 2017 – 19:30 bis 22:00 ​​ \nTüröffnung: 19:00 UhrBeginn: 19:30 UhrEintritt: CHF 20.– / mit Ausweis 15.–\,Standort: OSTTOR\, Äusserer Rettenbachweg 4\, 8400 Winterthur \n  \n  \n 
URL:https://wirundjetzt.org/event/transformation-zu-einem-nachhaltigen-finanzsystem-utopie-oder-realitaet/
CATEGORIES:Gesprächsrunde,Vortrag
ATTACH;FMTTYPE=image/jpeg:https://wirundjetzt.org/wp-content/uploads/2017/11/aufbruch.jpg
END:VEVENT
BEGIN:VEVENT
DTSTART;TZID=Europe/Berlin:20171130T100000
DTEND;TZID=Europe/Berlin:20171130T120000
DTSTAMP:20260424T195047
CREATED:20171101T113212Z
LAST-MODIFIED:20171101T113239Z
UID:10000175-1512036000-1512043200@wirundjetzt.org
SUMMARY:Welche Zukunft?
DESCRIPTION:Welche Zukunft?\n\nWorkshop & Frühstück mit Andres Veiel –  W e l c h e  Z u k u n f t ? Was heißt das: für die Zukunft gewappnet sein? Mit Andres Veiel\, Rainer Rappmann\, Rhea Thönges\,  Club o International Politics (ZU-Initiative)\, ZU-Wissenschaftlern\, Zukunftswerkstatt (Vorarlberg) \n  \n 
URL:https://wirundjetzt.org/event/welche-zukunft/
CATEGORIES:Gesprächsrunde
ATTACH;FMTTYPE=image/png:https://wirundjetzt.org/wp-content/uploads/2017/11/zu.png
END:VEVENT
BEGIN:VEVENT
DTSTART;TZID=Europe/Berlin:20171130T183000
DTEND;TZID=Europe/Berlin:20171130T213000
DTSTAMP:20260424T195047
CREATED:20171126T130826Z
LAST-MODIFIED:20171126T131348Z
UID:10000186-1512066600-1512077400@wirundjetzt.org
SUMMARY:FairCoop: "Das globale kooperative Ökosystem für eine faire Wirtschaft"
DESCRIPTION:FairCoop: "Das globale kooperative Ökosystem für eine faire Wirtschaft" \n\nEinladung zur Vorstellung der FairCoop: „Das globale kooperative Ökosystem für eine faire Wirtschaft“  Ein selbstverwaltetes\, sozial-ökologisches Wirtschaftssystem\, für den Übergang in eine postkaptialistische\, gleichberechtigte und gerechte Welt. Die Einladenden sind: Der lokale Knoten „Rital“ für die Region Liechtenstein/Vorarlberg. Der Informationsabend ist inklusive einem Snack gratis. Spenden mit FairCoins willkommen. Mehr zu FairCoop gibt es hier: http://fair.coop/ \n  \n 
URL:https://wirundjetzt.org/event/faircoop-das-globale-kooperative-oekosystem-fuer-eine-faire-wirtschaft/
CATEGORIES:Gesprächsrunde,Seminar,Vortrag
ATTACH;FMTTYPE=image/jpeg:https://wirundjetzt.org/wp-content/uploads/2017/11/faircoop.jpg
END:VEVENT
END:VCALENDAR