BEGIN:VCALENDAR
VERSION:2.0
PRODID:-//»wirundjetzt« - ECPv6.15.17.1//NONSGML v1.0//EN
CALSCALE:GREGORIAN
METHOD:PUBLISH
X-ORIGINAL-URL:https://wirundjetzt.org
X-WR-CALDESC:Veranstaltungen für »wirundjetzt«
REFRESH-INTERVAL;VALUE=DURATION:PT1H
X-Robots-Tag:noindex
X-PUBLISHED-TTL:PT1H
BEGIN:VTIMEZONE
TZID:Europe/Berlin
BEGIN:DAYLIGHT
TZOFFSETFROM:+0100
TZOFFSETTO:+0200
TZNAME:CEST
DTSTART:20160327T010000
END:DAYLIGHT
BEGIN:STANDARD
TZOFFSETFROM:+0200
TZOFFSETTO:+0100
TZNAME:CET
DTSTART:20161030T010000
END:STANDARD
BEGIN:DAYLIGHT
TZOFFSETFROM:+0100
TZOFFSETTO:+0200
TZNAME:CEST
DTSTART:20170326T010000
END:DAYLIGHT
BEGIN:STANDARD
TZOFFSETFROM:+0200
TZOFFSETTO:+0100
TZNAME:CET
DTSTART:20171029T010000
END:STANDARD
BEGIN:DAYLIGHT
TZOFFSETFROM:+0100
TZOFFSETTO:+0200
TZNAME:CEST
DTSTART:20180325T010000
END:DAYLIGHT
BEGIN:STANDARD
TZOFFSETFROM:+0200
TZOFFSETTO:+0100
TZNAME:CET
DTSTART:20181028T010000
END:STANDARD
END:VTIMEZONE
BEGIN:VEVENT
DTSTART;TZID=Europe/Berlin:20170715T193000
DTEND;TZID=Europe/Berlin:20170715T233000
DTSTAMP:20260426T060521
CREATED:20170715T124401Z
LAST-MODIFIED:20170716T103335Z
UID:10000070-1500147000-1500161400@wirundjetzt.org
SUMMARY:Sommerkino auf dem Lorenzhof
DESCRIPTION:Liebe Freunde\, Kollegen und Bekannte vom Lorenzhof\, \nDer schöne Sommer lockt und macht uns Laune auf Sommerkino mit Euch. Herzlich willkommen bei jedem Wetter. In diesem Jahr zeigen wir am Freitag\, den 14.Juli die Dokumentation »Bauer unser«. Ein spannender Film der zeigt\, wie es auf Bauernhöfen unserer Zeit zugeht. Eine Doku die Lust macht\, mal zu schauen wie der Bauer nebenan so wirtschaftet. \nAm Samstag\, den 15. Juli zeigen wir den charmanten französischen Spielfilm »Birnenkuchen mit Lavendel«. Wie in den letzten Jahren gibt es auch wieder was zum Snacken und Schlecken und vor allem gemütliches Zusammensein. \nWir freuen uns auf Euch\, Eure Lorenzhöfler
URL:https://wirundjetzt.org/event/sommerkino-auf-dem-lorenzhof/
CATEGORIES:Film,Kultur,Sommerfest
ATTACH;FMTTYPE=image/jpeg:https://wirundjetzt.org/wp-content/uploads/2017/07/BAuer-klein.jpg
END:VEVENT
BEGIN:VEVENT
DTSTART;TZID=Europe/Berlin:20170721T160000
DTEND;TZID=Europe/Berlin:20170721T183000
DTSTAMP:20260426T060521
CREATED:20170714T144657Z
LAST-MODIFIED:20170716T172422Z
UID:10000080-1500652800-1500661800@wirundjetzt.org
SUMMARY:WIR. Themenexkursion »Bio-Bier-Würze«
DESCRIPTION:Hopfen ist als Würze beim Brauen von Bier seit Jahrhunderten in aller Welt gefragt. Ihn in Bio-Qualität anzubauen ist allerdings eine Kunst für sich.  \nDenn die schnellwachsende Kletterpflanze\, die sich über acht Meter emporwindet\, ist ein empfindliches Gewächs\, das volle Aufmerksamkeit verlangt.  \nDie Familie Bentele in Wellmutsweiler bewirtschaftet den einzigen Bio-Hopfen-Hof im international bekannten Anbaugebiet um Tettnang. Mit ihrem»grünen Gold« – erzeugt nach den strengen Richtlinien des Demeter-Verbands – beliefern die Benteles vor allem Brauereien in der Region.  \nSo gibt ihr Hopfen Spezialitäten wie dem »Tettnanger Kellerpils« oder dem »Fidelio Naturtrüb« den besonderen Geschmack. \nIm Rahmen des Netzwerks WIR. Bio Power Bodensee lädt der Demeterhof Bentele zu einer Themenexkursion ein.  \nAuf einem Spaziergang durch die blühenden Felder tauchen Sie ganz in den Hopfenduft ein und erleben\, worauf es beim Bio-Hopfenbau ankommt. Und bei einer kleinen Bierprobe können Sie den Hopfen schließlich auch im Glas genießen. \nProgramm:\n– Begrüßung & Hofrundgang\n– Erkennen von Sorten & Infos zur Pflanzenpflege beim Spaziergang durch blühende Hopfenfelder\n– Duftprobe mit Hopfendolden verschied. Sorten\n– kleine Bierprobe mit Zeit für weitere Fragen \nAnmeldung:\nMöchten Sie dabei sein? Gerne auch mit Ihrer Familie\, Freunden oder Kollegen? \nDann melden Sie sich am besten gleich an per Email an » \nDie Teilnahme ist kostenfrei\, die Teilnehmerzahl auf 30 Personen begrenzt. \nWeitere Infos über Simon Neitzel\, Tel. 0151 / 21 61 59 68.
URL:https://wirundjetzt.org/event/wir-themenexkursion-bio-bier-wuerze/
CATEGORIES:Bio,Nachhaltigkeit,Ökologie
END:VEVENT
BEGIN:VEVENT
DTSTART;TZID=Europe/Berlin:20170724T190000
DTEND;TZID=Europe/Berlin:20170724T210000
DTSTAMP:20260426T060521
CREATED:20170714T135251Z
LAST-MODIFIED:20170724T161320Z
UID:10000101-1500922800-1500930000@wirundjetzt.org
SUMMARY:Fluchtursachen wirksam bekämpfen
DESCRIPTION:Attac Tettnang möchte ich mit dieser mail auf eine öffentliche Gesprächsrunde am Montag den 24.07.17 um 19:00 Uhr in Tettnang im Kath. Gemeindezentrum St. Gallus aufmerksam machen: \n»Fluchtursachen wirksam bekämpfen am Beispiel afrikanischer Länder«\nmit Anette Groth(MdB)  Expertin für Menschenrechte und Entwicklungshilfe.
URL:https://wirundjetzt.org/event/fluchtursachen-wirksam-bekaempfen-am-beispiel-afrikanischer-laender/
END:VEVENT
BEGIN:VEVENT
DTSTART;TZID=Europe/Berlin:20170725T190000
DTEND;TZID=Europe/Berlin:20170725T213000
DTSTAMP:20260426T060521
CREATED:20170718T134714Z
LAST-MODIFIED:20170724T162816Z
UID:10000057-1501009200-1501018200@wirundjetzt.org
SUMMARY:»Cradle to Cradle« – Eine Welt ohne Abfall
DESCRIPTION:Liebe »Cradle to Cradle«-Freunde am Bodensee\,\nwir laden Euch herzlich zu unserem öffentlichen Vortrag und zum nächsten Treffen der C2C Regionalgruppe Bodensee am Dienstag\, den 25.07.2017 in Überlingen ein. Wir haben die Möglichkeit bekommen in den Räumen der Klinik Buchinger Wilhelmi in Überlingen einen öffentlichen Vortrag zum Thema Cradle to Cradle zu halten. \nIm Anschluss daran werden wir uns als Regionalgruppe zusammensetzen. Auch hier können weitere Interessierte gerne dazu kommen. \n  \n19:15 Uhr: Öffentlicher Vortrag Cradle to Cradle – Eine Welt ohne Abfall – Alles ist Nährstoff 20:30 Uhr: Treffen der C2C-Regionalgruppe Bodensee \n  \nDienstag\, 25.07.17 Klinik Buchinger Wilhelmi Wilhelm-Beck-Strasse 27 88662 Überlingen \nMehr lesen »
URL:https://wirundjetzt.org/event/cradle-to-cradle/
CATEGORIES:Vortrag
ATTACH;FMTTYPE=image/jpeg:https://wirundjetzt.org/wp-content/uploads/2017/07/craddle.jpg
END:VEVENT
BEGIN:VEVENT
DTSTART;VALUE=DATE:20170727
DTEND;VALUE=DATE:20170803
DTSTAMP:20260426T060521
CREATED:20170714T142355Z
LAST-MODIFIED:20170724T165143Z
UID:10000460-1501113600-1501718399@wirundjetzt.org
SUMMARY:Code of Survival
DESCRIPTION:Bertram Verhaag beschäftigt sich in seiner neuen Dokumentation »Code of Survival – Die Geschichte vom Ende der Gentechnik« mit dem umstrittenenen Unkrautbekämpfungsmittel Glyphosat. \nMillionen Tonnen von Monsantos »Roundup«\, mit seinem Hauptwirkstoff Glyphosat\, werden Jahr für Jahr weltweit auf Felder ausgebracht. \nDiese Giftwaffe wird jedoch stumpf\, denn die Natur bildet resistente Unkräuter\, die sich in biblischen Ausmaßen vermehren und nun ein Superwachstum an den Tag legen\, das Nutzpflanzen überwuchert und abtötet. \nDieser Form der zerstörerischen Landwirtschaft setzen wir drei nachhaltige Projekte entgegen: Die Teeplantage AMBOOTIA in Indien\, in der überwältigenden Landschaft von Darjeeling/Himalaya. In 2000m Höhe erleben wir\, wie nachhaltige ökologische Landwirtschaft eine ganze Region rettet. \nDie ökologische Anbauweise verhindert das Abrutschen der durch den Kunstdüngereinsatz erkrankten Teegärten. \nDas Projekt SEKEM des alternativen Nobelpreisträgers Ibrahim Abouleish\, der vor 40 Jahren inmitten der Wüste seine biologische Farm gründete. SEKEM beweist eindrücklich\, wie man Wüste in fruchtbaren Boden verwandeln kann und wir zeigen wie es funktioniert. \nDer unbeugsame Bayer FRANZ AUNKOFER war einer der ersten Biobauern Deutschlands – auf alle Fälle aber der erste biologische Schweinemäster. \nDurch seine Pionierarbeit erwirtschaftet er inzwischen denselben Ertrag\, wie im konventionellen Anbau – ohne einen Tropfen Gift. \nNur der Bauer sollte an der Landwirtschaft verdienen und nicht die Chemiegiganten. In der eindrücklichen Montage konfrontieren wir die heilenden Kraft der ökologischen Landwirtschaft mit den Auswirkungen des giftgestützten Anbaus. \nWir werfen die Frage auf: In welcher Art von Landwirtschaft liegt der CODE OF SURVIVAL auf unserem Planeten. \n\n\n\n\n\n\nInfo-Stand der SOLAWI Ravensburg beim Film Code of survival\, die Geschichte vom Ende der Gentechnik
URL:https://wirundjetzt.org/event/code-of-survival/
LOCATION:Kulturzentrum Linse\, Weingarten\, Lieb­frau­en­str. 58\, Weingarten\, 88250\, Deutschland
CATEGORIES:Film,Nachhaltigkeit,Ökologie
ATTACH;FMTTYPE=image/jpeg:https://wirundjetzt.org/wp-content/uploads/2017/07/codeofsurvival.jpg
GEO:47.8044767;9.6370121
X-APPLE-STRUCTURED-LOCATION;VALUE=URI;X-ADDRESS=Kulturzentrum Linse Weingarten Lieb­frau­en­str. 58 Weingarten 88250 Deutschland;X-APPLE-RADIUS=500;X-TITLE=Lieb­frau­en­str. 58:geo:9.6370121,47.8044767
END:VEVENT
BEGIN:VEVENT
DTSTART;TZID=Europe/Berlin:20170728T150000
DTEND;TZID=Europe/Berlin:20170730T170000
DTSTAMP:20260426T060521
CREATED:20170606T132545Z
LAST-MODIFIED:20170715T141339Z
UID:10000097-1501254000-1501434000@wirundjetzt.org
SUMMARY:Algeria Sommerfestival
DESCRIPTION:Alle Sommer wieder!\n\nWeil unser Sommerfest im letzten Jahr so gut angenommen wurde und uns viele schöne\, beschwingende und überraschende Momente geschenkt hat\, wollen wir daran anknüpfen… \nLasst uns inmitten des Sommers wieder gemeinsam eintauchen in den Moment\, eigenen schöpferischen Impulsen folgen\, uns mitreißen lassen von den Impulsen der anderen und hier am Haslachhof eine kleine Welt auf Zeit erschaffen\, in der wir freudig unsere Vielfalt feiern und unser kreatives Potenzial erblühen lassen! \n\nMusizieren\nWildkräuter sammeln\nSpielen\nSchaukeln\nLöffel brennen\nMalen\nChillen\nJonglieren\nWorkshops\nTrampolinhüpfen\nWerkeln\nGedichte\nam Lagerfeuer sitzen\nSchlemmen\nKinderlachen\nZusammensein\nSingen * Meditation\nSternschnuppen zählen\nFeuerspielen * Landart\nauf der Wiese liegen\nStraßenmusik\nGeschichten erzählen\n\nWir freuen uns wieder auf eure vielfältigen Ideen und Mitmach-Angebote! \nEssen\nEs wird einen Essensstand geben\, der leckere Speisen zu fairen Preisen anbietet. Du kannst dich natürlich auch gerne selbst verpflegen. \nÜbernachtung\nAuf der Campingwiese der Haslachhof-Gemeinschaft (5 – 15 € nach Selbsteinschätzung). Wir sind eine Gemeinschaft in Aufbau und leben in einfachen Verhältnissen. Dein Beitrag dient auch dem Aufbau der Gemeinschaft. \nAnmeldung\nJoachim LangE-Mail: joachim.lang@gmx.de \nSehr gerne schon mit euren konkreten Ideen und Angeboten zum Mitmachen! \n \n 
URL:https://wirundjetzt.org/event/alegria-sommerfestival/
LOCATION:Haslachhof\, Haslachhof 1\, Deggenhausertal\, Baden-Württemberg\, 88693\, Deutschland
CATEGORIES:Festival,Kultur,Musik,Sommerfest
ATTACH;FMTTYPE=image/jpeg:https://wirundjetzt.org/wp-content/uploads/2017/06/haslachhof.jpg
ORGANIZER;CN="Haslachhof":MAILTO: joachim.lang@gmx.de
GEO:47.7779168;9.4083337
X-APPLE-STRUCTURED-LOCATION;VALUE=URI;X-ADDRESS=Haslachhof Haslachhof 1 Deggenhausertal Baden-Württemberg 88693 Deutschland;X-APPLE-RADIUS=500;X-TITLE=Haslachhof 1:geo:9.4083337,47.7779168
END:VEVENT
BEGIN:VEVENT
DTSTART;TZID=Europe/Berlin:20170728T160000
DTEND;TZID=Europe/Berlin:20170801T130000
DTSTAMP:20260426T060521
CREATED:20170716T111925Z
LAST-MODIFIED:20170724T113052Z
UID:10000051-1501257600-1501592400@wirundjetzt.org
SUMMARY:SummerCamp - Konferenz - 2017
DESCRIPTION:Gemeinschaften und Ökodörfer forschen an neuen Formen friedlichen und nachhaltigem Zusammenlebens\, Wahrhaftigkeit und Erneuerung in allen wesentlichen Bereichen des Lebens… und sind dabei nicht alleine. \nÜberall in der Schweiz gibt es Menschen\, die sich täglich für einen positiven Wandel einsetzen. Es existieren unzählige Grassroot-Projekte. Diese laden wir ein\, sich am Summer Camp zu präsentieren. \nDie Location liegt in der Zentralschweiz\, im und um das Jurtendorf. www.jurtendorf.ch \nDer Vorstand ist dabei das Programm zu entwerfen. Die Themenschwerpunkte zeichnen sich bereits wie folgt ab: \nVormittags: \n\nGemeinschaften\, Netzwerke und Projekte stellen sich vor.\n\nBislang angemeldete sind: Schweibenalp\, Zäme\, Transition Zürich. \nStellst auch du dein Projekt vor? Melde dich unter anmelden@gen-suisse.ch. \nNachmittags: \n\nWorkshops & OpenSpace zum Arbeiten an gemeinsamen Themen\n\nBereits angemeldet sind Gemeinschaftsaufbau & Forum.\nHast auch du Lust einen Workshop anzubieten als Beitrag zu der positiven Gesellschaftswende? – Melde dich unter anmelden@gen-suisse.ch. \nWeitere Aktivitäten: Musik\, Singen\, Tanzen\, freie Zeiten für Kontakt und Austausch. \n\n\n\n\n\n\n\n\n\n\nTeilnahme Infos:\nAnmeldung: https://doodle.com/poll/sy5kbzukdveunk6e\n(Jurtenplätze für Schnellbucherinnen) \nKonferenzgebühr Richtpreis: Fr. 40.-\, ganzer Anlass \nLogis: ca. Fr. 25.- / Nacht\nKost: ungefähr 15.- / Tag \nEssen ist vegan. Falls du Allergien (Gluten\,…) hast\, bitte im Doodle anmerken. \nBitte mitbringen: Teller\, Tasse und Besteck!!\, Zelt\, Schlafmatte\, Schlafsack\, Vision\, Projektidee\, Musikinstrumente. \nhttps://www.facebook.com/events/1526806264279802/ \n 
URL:https://wirundjetzt.org/event/summercamp-konferenz-2017/
CATEGORIES:Konferenz,Ökologie,Transition
ATTACH;FMTTYPE=image/jpeg:https://wirundjetzt.org/wp-content/uploads/2017/07/Supercamp-1.jpg
ORGANIZER;CN="Global Ecovillage Network - Suisse":MAILTO:https://gen-suisse.ch/contact-2/
END:VEVENT
END:VCALENDAR