BEGIN:VCALENDAR
VERSION:2.0
PRODID:-//»wirundjetzt« - ECPv6.15.17.1//NONSGML v1.0//EN
CALSCALE:GREGORIAN
METHOD:PUBLISH
X-WR-CALNAME:»wirundjetzt«
X-ORIGINAL-URL:https://wirundjetzt.org
X-WR-CALDESC:Veranstaltungen für »wirundjetzt«
REFRESH-INTERVAL;VALUE=DURATION:PT1H
X-Robots-Tag:noindex
X-PUBLISHED-TTL:PT1H
BEGIN:VTIMEZONE
TZID:Europe/Berlin
BEGIN:DAYLIGHT
TZOFFSETFROM:+0100
TZOFFSETTO:+0200
TZNAME:CEST
DTSTART:20250330T010000
END:DAYLIGHT
BEGIN:STANDARD
TZOFFSETFROM:+0200
TZOFFSETTO:+0100
TZNAME:CET
DTSTART:20251026T010000
END:STANDARD
BEGIN:DAYLIGHT
TZOFFSETFROM:+0100
TZOFFSETTO:+0200
TZNAME:CEST
DTSTART:20260329T010000
END:DAYLIGHT
BEGIN:STANDARD
TZOFFSETFROM:+0200
TZOFFSETTO:+0100
TZNAME:CET
DTSTART:20261025T010000
END:STANDARD
BEGIN:DAYLIGHT
TZOFFSETFROM:+0100
TZOFFSETTO:+0200
TZNAME:CEST
DTSTART:20270328T010000
END:DAYLIGHT
BEGIN:STANDARD
TZOFFSETFROM:+0200
TZOFFSETTO:+0100
TZNAME:CET
DTSTART:20271031T010000
END:STANDARD
END:VTIMEZONE
BEGIN:VEVENT
DTSTART;TZID=Europe/Berlin:20260502T083000
DTEND;TZID=Europe/Berlin:20260502T130000
DTSTAMP:20260421T064313
CREATED:20260417T083232Z
LAST-MODIFIED:20260417T083232Z
UID:10001502-1777710600-1777726800@wirundjetzt.org
SUMMARY:Jungpflanzen und MitMachMarkt
DESCRIPTION:Beim Jungpflanzenmarkt beim Biohof Marktanner können Jungpflanzen aller Art (auch Tomaten\, Gurken\, Kräuter\, Stauden usw.) erworben und getauscht werden. Es gibt einerseits einen Verkauf von Pflanzen aus eigener Anzucht des Betriebs\, ein weiterer Teil ist von den Jungpflanzenlieferanten des Betriebs.\nZusätzlich gibt es die Pflanzenbörse\, bei der jede/r Ableger\, übrige Pflanzen aus dem eigenen Garten mitbringen und wie auf einem Flohmarkt selber verkaufen oder eintauschen kann.\nDaneben gibt es auch wieder die Möglichkeit\, einen Platz für den MitMachMarkt zu reservieren. Hier können selbst gemachte Schätze aus Werkstatt\, Küche oder Garten im schönen Innenhof verkauft werden!\nFür das leibliche Wohl ist gesorgt!
URL:https://wirundjetzt.org/event/jungpflanzen-und-mitmachmarkt/
LOCATION:Hof Marktanner\, Marktanner 1\, Vogt\, Baden-Württemberg\, 88267\, Germany
CATEGORIES:Bio,Markt
END:VEVENT
BEGIN:VEVENT
DTSTART;TZID=Europe/Berlin:20260502T100000
DTEND;TZID=Europe/Berlin:20260502T120000
DTSTAMP:20260421T064313
CREATED:20251205T184901Z
LAST-MODIFIED:20251205T184901Z
UID:10001455-1777716000-1777723200@wirundjetzt.org
SUMMARY:Tauschtreffen von Talente Allgäu-Bodensee Regionaltreffen Überlingen
DESCRIPTION:2.  Mai 2026 10:00 Uhr  Tauschtreffen von TALBO in der SeeOase Altbirnau e.V.\, Rengoldshauserstr. 51\, 88662 Überlingen \n\n\nDer Tauschring Talente Allgäu-Bodensee bietet eine Plattform zum Austausch von Dienstleistungen und Waren.\nMitmachen können alle\, die die Grundsätze akzeptieren\, egal welchen Alters und mit welchen Fähigkeiten.\nDer Tausch wird ohne gesetzliche Zahlungsmittel durchgeführt\, jedoch auf entsprechenden Konten transparent dokumentiert.\nDie Verrechnungseinheit ist ein Talent.\nTalente Allgäu Bodensee basiert auf: \n\ngelebter Menschlichkeit\neiner Gemeinschaft von Menschen\, Organisationen\, Institutionen und Unternehmen\,\ndie lokale Nachbarschaftshilfe fördern\nRegionalität\, Nachhaltigkeit\nAustausch von Erfahrung und Wissen\nreparieren statt wegwerfen
URL:https://wirundjetzt.org/event/tauschtreffen-von-talente-allgaeu-bodensee-regionaltreffen-ueberlingen-3/
LOCATION:Baden-Württemberg
CATEGORIES:Tauschtreffen
END:VEVENT
END:VCALENDAR