BEGIN:VCALENDAR
VERSION:2.0
PRODID:-//»wirundjetzt« - ECPv6.15.17.1//NONSGML v1.0//EN
CALSCALE:GREGORIAN
METHOD:PUBLISH
X-WR-CALNAME:»wirundjetzt«
X-ORIGINAL-URL:https://wirundjetzt.org
X-WR-CALDESC:Veranstaltungen für »wirundjetzt«
REFRESH-INTERVAL;VALUE=DURATION:PT1H
X-Robots-Tag:noindex
X-PUBLISHED-TTL:PT1H
BEGIN:VTIMEZONE
TZID:Europe/Berlin
BEGIN:DAYLIGHT
TZOFFSETFROM:+0100
TZOFFSETTO:+0200
TZNAME:CEST
DTSTART:20250330T010000
END:DAYLIGHT
BEGIN:STANDARD
TZOFFSETFROM:+0200
TZOFFSETTO:+0100
TZNAME:CET
DTSTART:20251026T010000
END:STANDARD
BEGIN:DAYLIGHT
TZOFFSETFROM:+0100
TZOFFSETTO:+0200
TZNAME:CEST
DTSTART:20260329T010000
END:DAYLIGHT
BEGIN:STANDARD
TZOFFSETFROM:+0200
TZOFFSETTO:+0100
TZNAME:CET
DTSTART:20261025T010000
END:STANDARD
BEGIN:DAYLIGHT
TZOFFSETFROM:+0100
TZOFFSETTO:+0200
TZNAME:CEST
DTSTART:20270328T010000
END:DAYLIGHT
BEGIN:STANDARD
TZOFFSETFROM:+0200
TZOFFSETTO:+0100
TZNAME:CET
DTSTART:20271031T010000
END:STANDARD
END:VTIMEZONE
BEGIN:VEVENT
DTSTART;TZID=Europe/Berlin:20260424T180000
DTEND;TZID=Europe/Berlin:20260426T140000
DTSTAMP:20260426T012731
CREATED:20260325T113626Z
LAST-MODIFIED:20260325T150321Z
UID:10001497-1777053600-1777212000@wirundjetzt.org
SUMMARY:Workshop: bio-logisch!  – Die Logik der Natur verstehen lernen
DESCRIPTION:Natürliche Entwicklungen und Prozesse laufen nach logischen Prinzipien ab.\nDoch in den nunmehr dreißig Jahren die mich mit naturnaher Landbewirtschaftung\, Agroforst und Permakultur beschäftige\, musste ich immer wieder feststellen\, dass die natürliche Logik in vielen Fällen nicht meiner menschlichen Denkweise oder meinen Wunschvorstellungen entspricht. \nDie Idee zu diesem Workshop entstand aus der Beobachtung heraus\, dass es viele Menschen gibt die in Land- und Forstwirtschaft oder auch als Hobby nach naturnahen Wegen zum Anbau von Lebensmitteln\, in der Tierhaltung oder in der Waldwirtschaft suchen. Anleitungen \, BeraterInnen\, Kurse und Filme gibt es zu diesen Themen mehr als genug. Trotzdem geben viele ihre Projekte wieder frustriert auf. \nGründe dafür sind oft falsche Erwartungen\, ein romantisiertes Naturbild und die unreflektierte Übernahme von „Universalrezepten“.\nDer Workshop möchte keine vorgefertigten Lösungsansätze anbieten\, sondern soll die eigene Wahrnehmungsfähigkeit schulen\, die Möglichkeit zum Austausch mit anderen geben und anhand von Anschauungsbeispielen zu eigenen Plänen inspirieren.\nUm Gemüse zu ziehen und Erkenntnisse über natürliche Zusammenhänge zu gewinnen reicht ein Balkonkasten. Deshalb ist Landbesitz keine Voraussetzung für diesen Workshop\, sondern es sollen sich alle angesprochen fühlen\, die Lust am Lernen in der Natur haben.\nDieser Workshop ist an sich ein Experiment\, das sich mit euch entwickelt. \nDer grobe Rahmen ist wie folgt vorgesehen:\nFr. 24. 4.2026\nBeginn 18.00 Uhr bis ca. 21.00 Uhr \nSa. 25.4.2026\nBeginn 9.00 Uhr Ende gegen 18.00 Uhr oder auch später nach Absprache\nWir werden an diesem Tag viel draußen sein und auch mehrere Kilometer zu Fuß durch Wald und Flur unterwegs sein um Eindrücke sammeln und Beispiele anzuschauen. \nSo. 26.4.2026\nBeginn 10.00 Uhr bis ca. 14.00 Uhr \nIn den Seminargebühren sind Getränke und ein einfacher Imbiss während der Seminarzeiten enthalten. Wenn wir die gemeinsamen Mahlzeiten ausbauen möchten besteht die Möglichkeit gemeinsam zu kochen.\nFür die Verpflegung außerhalb der Seminarzeiten sowie die Unterkunft muss selbst gesorgt werden. \nKursgebühren: 250.- €\nOrganisation: Jörg Bäurle\nKursort: Wieser 3 88279 Amtzell\nAnmeldung bis Mo. 13.4. 2026 unter Tel: 07520/9665800 oder Email ja.baeurle@tdmail.de
URL:https://wirundjetzt.org/event/workshop-bio-logisch-die-logik-der-natur-verstehen-lernen/
LOCATION:jörg bäuerle\, Wieser 3\, Amtzell\, 88279
CATEGORIES:Ökologie,Workshop
ORGANIZER;CN="j%C3%B6rg b%C3%A4uerle":MAILTO:ja.baeurle@tdmail.de
END:VEVENT
BEGIN:VEVENT
DTSTART;TZID=Europe/Berlin:20260426T100000
DTEND;TZID=Europe/Berlin:20260426T150000
DTSTAMP:20260426T012731
CREATED:20260330T133347Z
LAST-MODIFIED:20260330T133347Z
UID:10001498-1777197600-1777215600@wirundjetzt.org
SUMMARY:Tag der offenen Gartentür bei der Bio-Gärtnerei Schauwies
DESCRIPTION:Die Bio-Gärtnerei Schauwies in der Kulisse der Bio-Musterregion Ravensburg lädt am 26. April 2026 herzlich zum diesjährigen Tag der offenen Gartentür ein. \nDer Höhepunkt der Veranstaltung ist neben der Führung durch die Gärtnerei der Jungpflanzenmarkt\, der wieder stattfindet. Gartenfreunde können sich auf eine bunte Auswahl an Gemüsesorten\, Kräuterstauden und Küchenkräuter freuen. Bei der Führung erhalten Besucherinnen und Besucher exklusive Einblicke in die Arbeit und Philosophie der Bio-Gärtnerei. Und wer noch mehr wissen will\, findet auch die passende Gartenliteratur. Des Weiteren präsentiert der Bio-Imker seine hochwertigen Naturprodukte. Honigliebhaber kommen hier voll auf Ihre Kosten.
URL:https://wirundjetzt.org/event/tag-der-offenen-gartentuer-bei-der-bio-gaertnerei-schauwies/
LOCATION:Bio-Gärtnerei Schauwies\, Schauwies 7\, Wangen im Allgäu\, Baden-Württemberg\, 88239\, Germany
CATEGORIES:Betriebsbesichtigung,Bio,Markt,Veranstaltung
END:VEVENT
BEGIN:VEVENT
DTSTART;TZID=Europe/Berlin:20260426T140000
DTEND;TZID=Europe/Berlin:20260426T170000
DTSTAMP:20260426T012731
CREATED:20260310T091150Z
LAST-MODIFIED:20260310T091829Z
UID:10001493-1777212000-1777222800@wirundjetzt.org
SUMMARY:Tag der Streuobstwiese\, Mosterei Kopp
DESCRIPTION:Tag der Streuobstwiese: Spiel\, Spaß und Genuss in der\nStreuobstwiese der Mosterei Kopp\n\nDatum: Sonntag\, 26. April 2026\nUhrzeit: 14.00 Uhr – 17.00 Uhr\nOrt: Mosterei Kopp\, Zur Kelter 16\, 88693 Deggenhausertal\n  \nAm letzten Aprilwochenende wird europaweit der Tag der Streuobstwiese gefeiert – ein Tag\, der die Bedeutung dieser wertvollen Kulturlandschaft in den Mittelpunkt stellt. Streuobstwiesen bieten nicht nur Lebensraum für zahlreiche Tier- und Pflanzenarten\, sondern sind auch von großer kultureller und kulinarischer Bedeutung. \nDie Mosterei Kopp beteiligt sich auch dieses Jahr wieder an diesem besonderen Tag und lädt Familien und alle Interessierten zu einem bunten Erlebnis-Nachmittag in ihrer Streuobstwiese ein. \nDie Streuobstwiese darf mit allen Sinnen erlebt werden. Es wird gespielt\, ertastet\, gebastelt\, gelauscht und probiert. Hauseigene Spezialitäten und Produkte aus Streuobst stehen zur Verkostung bereit. Wir freuen uns auf einen bunten Nachmittag mit Fragen und Austausch rund um die Streuobstwiese! \n  \nMosterei Kopp\nZur Kelter 16\, 88693 Deggenhausertal\nTelefon 07555 298\nwww.mosterei-kopp.de \ninfo@mosterei-kopp.de
URL:https://wirundjetzt.org/event/tag-der-streuobstwiese-mosterei-kopp/
LOCATION:Mosterei Kopp\, Zur Kelter 16\, Deggenhausertal\, Baden-Württemberg\, 88693
CATEGORIES:Austausch,Begegnung,Besichtigung,Ökologie
END:VEVENT
END:VCALENDAR