BEGIN:VCALENDAR
VERSION:2.0
PRODID:-//»wirundjetzt« - ECPv6.15.17.1//NONSGML v1.0//EN
CALSCALE:GREGORIAN
METHOD:PUBLISH
X-WR-CALNAME:»wirundjetzt«
X-ORIGINAL-URL:https://wirundjetzt.org
X-WR-CALDESC:Veranstaltungen für »wirundjetzt«
REFRESH-INTERVAL;VALUE=DURATION:PT1H
X-Robots-Tag:noindex
X-PUBLISHED-TTL:PT1H
BEGIN:VTIMEZONE
TZID:Europe/Berlin
BEGIN:DAYLIGHT
TZOFFSETFROM:+0100
TZOFFSETTO:+0200
TZNAME:CEST
DTSTART:20250330T010000
END:DAYLIGHT
BEGIN:STANDARD
TZOFFSETFROM:+0200
TZOFFSETTO:+0100
TZNAME:CET
DTSTART:20251026T010000
END:STANDARD
BEGIN:DAYLIGHT
TZOFFSETFROM:+0100
TZOFFSETTO:+0200
TZNAME:CEST
DTSTART:20260329T010000
END:DAYLIGHT
BEGIN:STANDARD
TZOFFSETFROM:+0200
TZOFFSETTO:+0100
TZNAME:CET
DTSTART:20261025T010000
END:STANDARD
BEGIN:DAYLIGHT
TZOFFSETFROM:+0100
TZOFFSETTO:+0200
TZNAME:CEST
DTSTART:20270328T010000
END:DAYLIGHT
BEGIN:STANDARD
TZOFFSETFROM:+0200
TZOFFSETTO:+0100
TZNAME:CET
DTSTART:20271031T010000
END:STANDARD
END:VTIMEZONE
BEGIN:VEVENT
DTSTART;TZID=Europe/Berlin:20260225T180000
DTEND;TZID=Europe/Berlin:20260225T190000
DTSTAMP:20260421T064307
CREATED:20260225T105037Z
LAST-MODIFIED:20260225T105442Z
UID:10001479-1772042400-1772046000@wirundjetzt.org
SUMMARY:Transition-Netzwerk-Calls
DESCRIPTION:Für unsere Netzwerk-Calls steht ein tolles Programm für die nächsten Monate. Das erwartet dich in 2026: \n\n25. FEBRUAR: Diversität & Inklusion\n25. MÄRZ: Energie-Transformation & Bereitstellung von Energie: Stellar-Ökonomie;\nhier geht es auch um die Energie-Wende von unten\, Balkon-Kraftwerke u.v.m.\n22. APRIL: Solidarität in der Transformation – solidarische Perspektiven auf Transformation\n27. MAI: Industrie-Politik als Teil der Transformation – wo gibt es Berührungspunkte vor Ort?\nUnd das Projekt WIR wie WIRtschaft\n24. JUNI: Postwachstum & Transformation\nNatürlich gibt es auch wieder Raum für offenen Austausch:Was bewegt dich gerade? Welche Themen möchtest du teilen?Hier kommt nochmal der Link: \nhttps://us02web.zoom.us/j/88522368265?pwd=NWprY3Zqa3h0ZW9NZU1RSjFCRUYrQT09 \nMeeting-ID: 885 2236 8265 // Kenncode: 9126\n\ninfo@transition-initiativen.org
URL:https://wirundjetzt.org/event/transition-netzwerk-calls/2026-02-25/
LOCATION:online
CATEGORIES:Arbeitstreffen,Austausch,Begegnung
ATTACH;FMTTYPE=image/png:https://wirundjetzt.org/wp-content/uploads/2026/02/Transition-Call.png
END:VEVENT
END:VCALENDAR