BEGIN:VCALENDAR
VERSION:2.0
PRODID:-//»wirundjetzt« - ECPv6.15.17.1//NONSGML v1.0//EN
CALSCALE:GREGORIAN
METHOD:PUBLISH
X-ORIGINAL-URL:https://wirundjetzt.org
X-WR-CALDESC:Veranstaltungen für »wirundjetzt«
REFRESH-INTERVAL;VALUE=DURATION:PT1H
X-Robots-Tag:noindex
X-PUBLISHED-TTL:PT1H
BEGIN:VTIMEZONE
TZID:Europe/Berlin
BEGIN:DAYLIGHT
TZOFFSETFROM:+0100
TZOFFSETTO:+0200
TZNAME:CEST
DTSTART:20240331T010000
END:DAYLIGHT
BEGIN:STANDARD
TZOFFSETFROM:+0200
TZOFFSETTO:+0100
TZNAME:CET
DTSTART:20241027T010000
END:STANDARD
BEGIN:DAYLIGHT
TZOFFSETFROM:+0100
TZOFFSETTO:+0200
TZNAME:CEST
DTSTART:20250330T010000
END:DAYLIGHT
BEGIN:STANDARD
TZOFFSETFROM:+0200
TZOFFSETTO:+0100
TZNAME:CET
DTSTART:20251026T010000
END:STANDARD
BEGIN:DAYLIGHT
TZOFFSETFROM:+0100
TZOFFSETTO:+0200
TZNAME:CEST
DTSTART:20260329T010000
END:DAYLIGHT
BEGIN:STANDARD
TZOFFSETFROM:+0200
TZOFFSETTO:+0100
TZNAME:CET
DTSTART:20261025T010000
END:STANDARD
END:VTIMEZONE
BEGIN:VEVENT
DTSTART;TZID=Europe/Berlin:20250926T143000
DTEND;TZID=Europe/Berlin:20250926T153000
DTSTAMP:20260421T050750
CREATED:20250425T072113Z
LAST-MODIFIED:20250916T113248Z
UID:10001382-1758897000-1758900600@wirundjetzt.org
SUMMARY:Hofführung und Genuss-Tour auf dem Rösslerhof
DESCRIPTION:Der Rösslerhof in Schlier öffnet seine Tore für eine besondere Hofführung mit Verkostung. Im Rahmen der Öko-Aktionswochen Baden-Württemberg können Besucher/innen spannende Einblicke in die ökologische Landwirtschaft und nachhaltige Lebensmittelproduktion gewinnen. \nDie einstündige Führung umfasst verschiedene Bereiche des Hofes: Von der artgerechten Milchviehhaltung und Kälberaufzucht\, über den ökologischen Ackerbau mit den Kulturen Dinkel\, Weizen\, Lein\, Flachs und Mais\, bis hin zum Streuobst und der hofeigenen Vermarktung. Im Anschluss werden im Hofladen der hauseigene Apfelbalsamico und der Emmentaler aus der eigenen Milch verköstigt. \nEine Anmeldung ist erforderlich. Bitte per Mail an cafe-laden@roesslerhof.de.
URL:https://wirundjetzt.org/event/hoffuehrung-und-genuss-tour-auf-dem-roesslerhof/2025-09-26/
LOCATION:Rösslerhof\, Rößler 1\, Schlier\, Baden-Württemberg\, 88281\, Deutschland
CATEGORIES:Bio,Führung
ORGANIZER;CN="R%C3%B6sslerhof":MAILTO:cafe-laden@roesslerhof.de
END:VEVENT
BEGIN:VEVENT
DTSTART;TZID=Europe/Berlin:20250926T160000
DTEND;TZID=Europe/Berlin:20250926T180000
DTSTAMP:20260421T050750
CREATED:20250813T130418Z
LAST-MODIFIED:20250813T130418Z
UID:10001394-1758902400-1758909600@wirundjetzt.org
SUMMARY:Öffentliche Führung durch die Adrian Manufaktur der vomFASS AG
DESCRIPTION:Im Rahmen der Öko-Aktionswochen bietet die Adrian Manufaktur der vomFASS AG fünf öffentliche Führungen an. Am 13. und 26. September sowie am 11.\, 17. und 24. Oktober 2025 können Interessierte den Weg vom BIOLAND-Streuobstapfel bis zum fertigen Produkt kennenlernen. \nInteressierte erhalten bei der Führung im 4D Kino einen Einblick in die Verarbeitung der Streuobstwiesen-Äpfel Oberschwabens. Anschließend werden die einzelnen Produktionsstufen erläutert\, von der Herstellung des Safts über Apfelwein bis hin zum BIOLAND-Apfel-Balsamessig. Die letzte Station der Tour ist der Gewölbekeller\, wo Essige und Schaumweine gelagert werden. Die Dauer der Führung beträgt 90 Minuten und weitere etwa 30 Minuten im Laden. \nFür die Führungen ist vorab eine Anmeldung erforderlich\, die Teilnahme kostet 7€ pro Person. Anmeldungen sind telefonisch unter 07529/974516 oder per Mail an event@vomfass.de möglich.
URL:https://wirundjetzt.org/event/oeffentliche-fuehrung-durch-die-adrian-manufaktur-der-vomfass-ag/2025-09-26/
LOCATION:Adrian Manufaktur\, Am Langholz 17\, Waldburg\, Baden-Württemberg\, 88289\, Deutschland
CATEGORIES:Bio,Führung
END:VEVENT
BEGIN:VEVENT
DTSTART;TZID=Europe/Berlin:20250926T180000
DTEND;TZID=Europe/Berlin:20250926T213000
DTSTAMP:20260421T050750
CREATED:20250726T161503Z
LAST-MODIFIED:20250924T123957Z
UID:10001388-1758909600-1758922200@wirundjetzt.org
SUMMARY:Karte der Verbundenheit für das Deggenhausertal
DESCRIPTION:Karte der Verbundenheit für das Deggenhausertal\nTreffen am Freitag\, 26.09.2025 im Feuerwehrgerätehaus in 88693 Deggenhausertal-Wittenhofen\, Schulweg 9\, 18.00 – 21.30 Uhr.\nGemeinsam das Geheimnis unseres Tales erforschen! \nEine Veranstaltung mit Impulsen von Susanne Fischer-Rizzi. \nIm Deggenhausertal wohnen viele Familien schon über Generationen\, haben vieles bewegt\, entwickelt und viel(e) Geschichte(n) erlebt und geschrieben. Andere sind mit frischem Blick und vielfältiger Expertise zugezogen. Wenn wir gemeinsam all das Wissen über die Geschichte\, die Tiere\, die Pflanzen\, den Boden und die Besonderheiten unseres Tales zusammentragen\, entsteht eine Karte der Verbundenheit. \nAuf Grundlage der Wanderkarte 1:25000 von unserer Gemeinde\, werden wir in 4 Themen arbeiten:  \n1.Tiere\n2. Pflanzen\, Historie/Geschichte\n3. Heilige Orte\n4. Mythen/Legenden/Sagen.  \nFür jedes Thema wird es einen Tisch geben\, der moderiert wird. \nUnser Tal – unsere Schatzkarte.\nWir freuen uns\, diesen Schatz gemeinsam mit allen Gästen zu heben. Sei dabei\, Dein Wissen ist wichtig. \nAnsprechpartnerin:     Andrea Wolter\,   E-Mail: wolterin@web.de \nHerzlichen Dank für die Unterstützung und Förderung des Projekts “Mitmach-Region Deggenhausertal – eine ModellRegion” durch die Postcode Lotterie und unsere Partner. \n   
URL:https://wirundjetzt.org/event/karte-der-verbundenheit-fuer-das-deggenhausertal/
LOCATION:Feuerwehrgerätehaus in Wittenhofen\, Deutschland
CATEGORIES:Mitmach-Region Deggenhausertal,Projekt der Mitmach-Region Deggenhausertal
END:VEVENT
END:VCALENDAR