BEGIN:VCALENDAR
VERSION:2.0
PRODID:-//»wirundjetzt« - ECPv6.15.17.1//NONSGML v1.0//EN
CALSCALE:GREGORIAN
METHOD:PUBLISH
X-WR-CALNAME:»wirundjetzt«
X-ORIGINAL-URL:https://wirundjetzt.org
X-WR-CALDESC:Veranstaltungen für »wirundjetzt«
REFRESH-INTERVAL;VALUE=DURATION:PT1H
X-Robots-Tag:noindex
X-PUBLISHED-TTL:PT1H
BEGIN:VTIMEZONE
TZID:Europe/Berlin
BEGIN:DAYLIGHT
TZOFFSETFROM:+0100
TZOFFSETTO:+0200
TZNAME:CEST
DTSTART:20220327T010000
END:DAYLIGHT
BEGIN:STANDARD
TZOFFSETFROM:+0200
TZOFFSETTO:+0100
TZNAME:CET
DTSTART:20221030T010000
END:STANDARD
BEGIN:DAYLIGHT
TZOFFSETFROM:+0100
TZOFFSETTO:+0200
TZNAME:CEST
DTSTART:20230326T010000
END:DAYLIGHT
BEGIN:STANDARD
TZOFFSETFROM:+0200
TZOFFSETTO:+0100
TZNAME:CET
DTSTART:20231029T010000
END:STANDARD
BEGIN:DAYLIGHT
TZOFFSETFROM:+0100
TZOFFSETTO:+0200
TZNAME:CEST
DTSTART:20240331T010000
END:DAYLIGHT
BEGIN:STANDARD
TZOFFSETFROM:+0200
TZOFFSETTO:+0100
TZNAME:CET
DTSTART:20241027T010000
END:STANDARD
END:VTIMEZONE
BEGIN:VEVENT
DTSTART;TZID=Europe/Berlin:20230901T170000
DTEND;TZID=Europe/Berlin:20230903T150000
DTSTAMP:20260423T193807
CREATED:20230530T223703Z
LAST-MODIFIED:20230626T200944Z
UID:10000877-1693587600-1693753200@wirundjetzt.org
SUMMARY:JA! Umarme das Leben
DESCRIPTION:Deine Auszeit für mehr Lebendigkeit\n…weil Leben so viel mehr ist!\nHast du das Gefühl\, dein Leben besteht überwiegend aus To-Do-Listen und die meiste Zeit des Tages bist du in irgendwelchen Gedankenschleifen unterwegs? Hast du die leise Ahnung\, dass da mehr ist als nur Funktionieren müssen? Nimmst du dein Leben wie durch einen Schleier wahr\, der deine Lebendigkeit ziemlich runterfährt? \nDann sei herzlich eingeladen zur Auszeit und erfahre\, dass auch du dich lebendig und verbunden fühlen kannst. Was es dazu braucht\, ist ein geschützter Raum\, in dem du die erlauben darfst\, alles fallen zu lassen – und einfach nur zu SEIN. \nHier bist du richtig\, wenn du…\n\nmal wieder richtig durchatmen und dich spüren möchtest\nerfahren möchtest\, dass es völlig ausreicht\, einfach nur da zu SEIN\ndeinen Körper als kostbares Werkzeug für mehr Lebendigkeit kennenlernen willst\nerleben magst\, wie sich in der Langsamkeit und der Stille der Raum für neue Ideen und Impulse öffnet\nangebunden an die Kraft der Natur wieder mehr in deine eigene Kraft kommen willst\ngetragen von einer Gemeinschaft die heilsame Wirkung von Miteinander erleben möchtest\n\nDas erwartet dich\n\nEmbodiment\nSelbsterforschung\nDyaden Meditationen\nBewegungsmeditationen\nNaturerfahrung\nIntuitives Schreiben\nStille\n\nSo bist du dabei:\nDu findest alle Details und die Anmeldung auf meiner Webseite. \nAlle Infos und Anmeldung
URL:https://wirundjetzt.org/event/ja-umarme-das-leben/2023-09-01/
LOCATION:Gemeinschaftsgarten am Hohlenstein\,\, Hohlenstein 34\, Deggenhausertal\, 88693
CATEGORIES:Begegnung,Bewusstsein,Seminar,Workshop
ATTACH;FMTTYPE=image/jpeg:https://wirundjetzt.org/wp-content/uploads/2023/05/yu-seminareinladung.jpg
ORGANIZER;CN="yvonne unger":MAILTO:freude@yvonne-unger.de
GEO:47.8051976;9.3675506
X-APPLE-STRUCTURED-LOCATION;VALUE=URI;X-ADDRESS=Gemeinschaftsgarten am Hohlenstein Hohlenstein 34 Deggenhausertal 88693;X-APPLE-RADIUS=500;X-TITLE=Hohlenstein 34:geo:9.3675506,47.8051976
END:VEVENT
END:VCALENDAR