BEGIN:VCALENDAR
VERSION:2.0
PRODID:-//»wirundjetzt« - ECPv6.15.17.1//NONSGML v1.0//EN
CALSCALE:GREGORIAN
METHOD:PUBLISH
X-ORIGINAL-URL:https://wirundjetzt.org
X-WR-CALDESC:Veranstaltungen für »wirundjetzt«
REFRESH-INTERVAL;VALUE=DURATION:PT1H
X-Robots-Tag:noindex
X-PUBLISHED-TTL:PT1H
BEGIN:VTIMEZONE
TZID:Europe/Berlin
BEGIN:DAYLIGHT
TZOFFSETFROM:+0100
TZOFFSETTO:+0200
TZNAME:CEST
DTSTART:20220327T010000
END:DAYLIGHT
BEGIN:STANDARD
TZOFFSETFROM:+0200
TZOFFSETTO:+0100
TZNAME:CET
DTSTART:20221030T010000
END:STANDARD
BEGIN:DAYLIGHT
TZOFFSETFROM:+0100
TZOFFSETTO:+0200
TZNAME:CEST
DTSTART:20230326T010000
END:DAYLIGHT
BEGIN:STANDARD
TZOFFSETFROM:+0200
TZOFFSETTO:+0100
TZNAME:CET
DTSTART:20231029T010000
END:STANDARD
BEGIN:DAYLIGHT
TZOFFSETFROM:+0100
TZOFFSETTO:+0200
TZNAME:CEST
DTSTART:20240331T010000
END:DAYLIGHT
BEGIN:STANDARD
TZOFFSETFROM:+0200
TZOFFSETTO:+0100
TZNAME:CET
DTSTART:20241027T010000
END:STANDARD
END:VTIMEZONE
BEGIN:VEVENT
DTSTART;TZID=Europe/Berlin:20230628T140000
DTEND;TZID=Europe/Berlin:20230628T173000
DTSTAMP:20260423T080109
CREATED:20230531T132727Z
LAST-MODIFIED:20230531T132727Z
UID:10000879-1687960800-1687973400@wirundjetzt.org
SUMMARY:workshop zu "Bio kann jeder in der Kita- und Schulverpflegung" in Friedrichshafen
DESCRIPTION:Der Verein Acker e.V. veranstaltet gemeinsam mit dem ILE-Bodensee e. V./BLE einen Praxis-Workshop\, der sich an pädagogische und hauswirtschaftliche Fachkräfte an Schulen/in Kitas\, Schul- und Kitaleitungen\, Küchenleitungen\, Küchenkräfte\, Mitarbeitende von Einrichtungsträgern\, Lehrkräfte\, Erzieherinnen und Erzieher\, Verantwortliche für die Vergabe von Verpflegungsleistungen\, Elternvertreter richtet. \n\n\n\n\nDer Trend zu vegetarischen Alternativen ist mittlerweile auch in der Kita- und Schulverpflegung angekommen. Kreativität\, neue Ideen und Abwechslung sind gefragt. Gemeinsam wird ergründet\, wie „Ackern mit Kindern“ ganz praktisch in die Bildungsarbeit in Kitas auch ganz praktisch integriert und umgesetzt werden kann. Praktische Erfahrungsberichte sowie Anleitungen und Tipps zur praktischen Umsetzung erwarten Euch aus dem spannenden Bildungsangebot „GemüseAckerdemie“ an diesem Tag. Eigene Erfahrungen können ausgetauscht werden. \n\n\n\n\n\n\n\n\nWeitere Informationen und die Anmeldung bis 25.6. unter: \nMichael Baldenhofer\, michael.baldenhofer@ile-bodensee.de\, Tel.: 07771 / 916244-4 \nBLE_Biokannjeder_Einladung 28-06-2023 \n  \n\n\n\n\n 
URL:https://wirundjetzt.org/event/workshop-zu-bio-kann-jeder-in-der-kita-und-schulverpflegung-in-friedrichshafen/
LOCATION:Katholisch Kindertagesstätte St. Antonius\, Fröbelweg 25\, Friedrichshafen\, 88045
CATEGORIES:Workshop
END:VEVENT
BEGIN:VEVENT
DTSTART;TZID=Europe/Berlin:20230628T160000
DTEND;TZID=Europe/Berlin:20230628T160000
DTSTAMP:20260423T080109
CREATED:20230313T200106Z
LAST-MODIFIED:20230313T200106Z
UID:10000502-1687968000-1687968000@wirundjetzt.org
SUMMARY:Einführung in die Nachhaltigkeit an der Hochschule Ravensburg-Weingarten - wöchentlich
DESCRIPTION:An der Hochschule Ravensbrug-Weingarten hält Prof. Wolfgang Ertel vom Institut für Künstliche Intelligenz wöchentlich ab dem 15.3.23\, immer Mittwochs frei für alle Bürger*innen eine Vorlesung „Einführung in die Nachhaltigkeit“. Die Teilnahme ist kostenfrei. \nBasierend auf wissenschaftlichen Fakten stellt Prof. Wolfgang Ertel Modelle für Nachhaltigkeit\, Klimaneutralität und erneuerbare Energievorsorgung in Wirtschaft und Gesellschaft vor. Begleitet wird die Vorlesung von der Climate Challenge\, bei der die Teilnehmer*innen versuchen\, Lebensqualität und Umweltschutz im Alltag zu verbessern. \nNähere Informationen auf hs-weingarten.de/~ertel
URL:https://wirundjetzt.org/event/einfuehrung-in-die-nachhaltigkeit-an-der-hochschule-ravensburg-weingarten-woechentlich/2023-06-28/
LOCATION:Hochschule\, Raum M107\, Lazarettstraße 5\, Ravensburg\, Deutschland
CATEGORIES:Vorlesung
END:VEVENT
BEGIN:VEVENT
DTSTART;TZID=Europe/Berlin:20230628T180000
DTEND;TZID=Europe/Berlin:20230628T193000
DTSTAMP:20260423T080109
CREATED:20230619T205657Z
LAST-MODIFIED:20230622T125644Z
UID:10000866-1687975200-1687980600@wirundjetzt.org
SUMMARY:WIRtuelle Infoveranstaltung zu wirundjetzt & den Förderungen der DSEE
DESCRIPTION:Transform D goes Gemeinwohl-Café\n \nDie Deutsche Stiftung für Engagement und Ehrenamt (DSEE) stellt ihre Förderprogramme in der WIRtuellen Welt von wirundjetzt vor. \nSeit 2021 unterstützt die DSEE bundesweit Engagement und Ehrenamt mit Service- und Bildungsangeboten. \nSie fördert zudem gemeinnützige Organisationen in verschiedenen Förderprogrammen. \nBei diesem Get-together stellt sich die Stiftung vor und beantwortet eure Fragen. \nAls praktisches Beispiel\, was durch eine Förderung der DSEE entstehen kann\, stellt wirundjetzt e.V. seine neu geschaffene WIRtuelle Welt vor. \n  \nSei dabei – ZOOM Link hier:\n  \n   
URL:https://wirundjetzt.org/event/wirtuelle-infoveranstaltung-zu-wirundjetzt-den-foerderungen-der-dsee/
CATEGORIES:zoommeeting,»wirundjetzt«-Veranstaltung
END:VEVENT
END:VCALENDAR