BEGIN:VCALENDAR
VERSION:2.0
PRODID:-//»wirundjetzt« - ECPv6.15.17.1//NONSGML v1.0//EN
CALSCALE:GREGORIAN
METHOD:PUBLISH
X-ORIGINAL-URL:https://wirundjetzt.org
X-WR-CALDESC:Veranstaltungen für »wirundjetzt«
REFRESH-INTERVAL;VALUE=DURATION:PT1H
X-Robots-Tag:noindex
X-PUBLISHED-TTL:PT1H
BEGIN:VTIMEZONE
TZID:Europe/Berlin
BEGIN:DAYLIGHT
TZOFFSETFROM:+0100
TZOFFSETTO:+0200
TZNAME:CEST
DTSTART:20220327T010000
END:DAYLIGHT
BEGIN:STANDARD
TZOFFSETFROM:+0200
TZOFFSETTO:+0100
TZNAME:CET
DTSTART:20221030T010000
END:STANDARD
BEGIN:DAYLIGHT
TZOFFSETFROM:+0100
TZOFFSETTO:+0200
TZNAME:CEST
DTSTART:20230326T010000
END:DAYLIGHT
BEGIN:STANDARD
TZOFFSETFROM:+0200
TZOFFSETTO:+0100
TZNAME:CET
DTSTART:20231029T010000
END:STANDARD
BEGIN:DAYLIGHT
TZOFFSETFROM:+0100
TZOFFSETTO:+0200
TZNAME:CEST
DTSTART:20240331T010000
END:DAYLIGHT
BEGIN:STANDARD
TZOFFSETFROM:+0200
TZOFFSETTO:+0100
TZNAME:CET
DTSTART:20241027T010000
END:STANDARD
END:VTIMEZONE
BEGIN:VEVENT
DTSTART;TZID=Europe/Berlin:20230518T180000
DTEND;TZID=Europe/Berlin:20230521T120000
DTSTAMP:20260423T063312
CREATED:20230508T112432Z
LAST-MODIFIED:20230508T112522Z
UID:10000512-1684432800-1684670400@wirundjetzt.org
SUMMARY:Kompostwerkstatt
DESCRIPTION:An alle Freunde des Bodens\, der Pflanzen\, der Tiere und der Gesundheit \nEinladung zur Kompostwerkstatt \nVoraussetzung:\nLiebe zur Schöpfung \nVermittelt wird:\n• Umgang mit organischem Abfall z.B. in der Küche\, der Biotonne und im Stall\n• Unterschiedliche Kompostierungsverfahren der aeroben und anaeroben Fermentation\n• Aufbau von fruchtbaren\, gesunden Böden in 2 bis 10 Jahren\nim Blumentopf\, Kleingarten bis hin zum Acker und Wald\n• Animpfen des Bodens mit gesundem Kompost und/oder symbiontisiertem Saatgut  \n Wann:\nDonnerstag: 18.05.2023\, Anreise bis 18:00 Uhr\nFreitag\, 19.05.2023\, Theorie\, 8:30 – 17:30 Uhr\nSamstag\, 20.05.2023\, Praxis\, 8:30 – 17:30 Uhr\nSonntag: 21.05.2023\, Abreise bis 12:00 Uhr  \nWo:  \n Thurgau/Schweiz am Bodensee \n Infos und Anmeldung:\nper E-Mail bei Mirela Simaga: simagmir@gmail.com\nTel.: +41 78 828 34 00
URL:https://wirundjetzt.org/event/kompostwerkstatt/
END:VEVENT
END:VCALENDAR