BEGIN:VCALENDAR
VERSION:2.0
PRODID:-//»wirundjetzt« - ECPv6.15.17.1//NONSGML v1.0//EN
CALSCALE:GREGORIAN
METHOD:PUBLISH
X-ORIGINAL-URL:https://wirundjetzt.org
X-WR-CALDESC:Veranstaltungen für »wirundjetzt«
REFRESH-INTERVAL;VALUE=DURATION:PT1H
X-Robots-Tag:noindex
X-PUBLISHED-TTL:PT1H
BEGIN:VTIMEZONE
TZID:Europe/Berlin
BEGIN:DAYLIGHT
TZOFFSETFROM:+0100
TZOFFSETTO:+0200
TZNAME:CEST
DTSTART:20220327T010000
END:DAYLIGHT
BEGIN:STANDARD
TZOFFSETFROM:+0200
TZOFFSETTO:+0100
TZNAME:CET
DTSTART:20221030T010000
END:STANDARD
BEGIN:DAYLIGHT
TZOFFSETFROM:+0100
TZOFFSETTO:+0200
TZNAME:CEST
DTSTART:20230326T010000
END:DAYLIGHT
BEGIN:STANDARD
TZOFFSETFROM:+0200
TZOFFSETTO:+0100
TZNAME:CET
DTSTART:20231029T010000
END:STANDARD
BEGIN:DAYLIGHT
TZOFFSETFROM:+0100
TZOFFSETTO:+0200
TZNAME:CEST
DTSTART:20240331T010000
END:DAYLIGHT
BEGIN:STANDARD
TZOFFSETFROM:+0200
TZOFFSETTO:+0100
TZNAME:CET
DTSTART:20241027T010000
END:STANDARD
END:VTIMEZONE
BEGIN:VEVENT
DTSTART;TZID=Europe/Berlin:20230517T093000
DTEND;TZID=Europe/Berlin:20230517T170000
DTSTAMP:20260423T063317
CREATED:20230507T195032Z
LAST-MODIFIED:20230507T195032Z
UID:10000484-1684315800-1684342800@wirundjetzt.org
SUMMARY:Mitmachkonferenz in Radolfzell
DESCRIPTION:Erstmals findet die Mitmach-Konferenz in Radolfzell statt. \nDas Ziel ist klar: Mitmachen! \nAlle Bürgerinnen und Bürger sind eingeladen\, sich aktiv einzubringen. Die idealen Bedingungen dafür schafft Initiator Thorsten Räffle mit seinem ehrenamtlichen Kernteam\, der auch Oberbürgermeister Simon Gröger als Schirmherrn für sein Projekt gewinnen konnte. \nAn diversen Thementischen haben die Teilnehmer/innen die Möglichkeit\, das für sie passende Projekt zu finden und direkt ins Thema einzusteigen\, um im Anschluss erste Ideen und Konzepte zu entwerfen. Begleitet werden die Projekte jeweils von Nachhaltigkeits-Akteuren aus der Region. Vorgestellt werden: \nBalkonmodule sowie Klimawendehelfer von der Energieagentur Konstanz und der Fa. Sunny Solartechnik GmbH\, Konzepte für Fahrgemeinschaften und neuer Mobilität mit dem Amt für Klimaschutz und Kreisentwicklung Konstanz\, eine Bürgerbeteiligung zum Bau einer Photovoltaik-Anlage mit den Stadtwerken Radolfzell\, Aktivitäten und Mitmachmöglichkeiten der neu gegründeten Bürgerinitiative BLEIB in Böhringen (Besser Leben In Böhringen)\, Vorstellung des neuartigen Konzeptes „www.klimabonus.info für Kommunen und engagiert Nachhaltigkeitsakteure“\, Vorstellung von Klimawendeberufen durch die Handwerkskammer für Schüler des Berufsschulzentrums\, Vorstellung des Konzeptes der Solidarischen Landwirtschaft durch die SoLaWi Konstanz. An allen Projekten wird es die Möglichkeit zur aktiven Einbringung der Teilnehmer/innen geben. Auch können sich die Teilnehmer Ihren individuellen CO²-Abdruck berechnen lassen. \nZiel ist\, in eine gemeinschaftliche Handlung zu kommen und auch die Vernetzung und Mitarbeit für eine lebenswerte\, enkeltaugliche und innovative Region Konstanz zu stärken. Zahlreiche regionale Institutionen\, Initiativen\, Vereine und Unternehmen engagieren sich seit Jahren unabhängig voneinander auf unterschiedliche Weise für einen sozial-ökologischen Wandel. \nDie Mitmach-Konferenz bietet allen Akteuren einen professionellen Raum und die Plattform\, gemeinsam eine noch höhere Wirkung für die Region zu entfalten. Dabei werden in regionalen Projekten die jeweiligen Herausforderungen in entstehenden Aktionsgruppen bearbeitet sowie Synergien und Potentiale des gemeinschaftlichen Handelns geschaffen. Rund 80 Aktive aus der Zivilgesellschaft\, (Land-)Wirtschaft\, Politik und Verwaltung werden bei der „Mitmach-Konferenz Radolfzell“ erwartet. \nWeitere Informationen und Anmeldung unter: \nradolfzell-am-bodensee@mitmach-region.org
URL:https://wirundjetzt.org/event/mitmachkonferenz-in-radolfzell/
LOCATION:Milchwerk Radolfzell\, Werner-Messmer-Straße 14\, Radolfzell\, 78315\, Deutschland
CATEGORIES:Konferenz
GEO:47.741805;8.973786
X-APPLE-STRUCTURED-LOCATION;VALUE=URI;X-ADDRESS=Milchwerk Radolfzell Werner-Messmer-Straße 14 Radolfzell 78315 Deutschland;X-APPLE-RADIUS=500;X-TITLE=Werner-Messmer-Straße 14:geo:8.973786,47.741805
END:VEVENT
BEGIN:VEVENT
DTSTART;TZID=Europe/Berlin:20230517T160000
DTEND;TZID=Europe/Berlin:20230517T160000
DTSTAMP:20260423T063317
CREATED:20230313T200106Z
LAST-MODIFIED:20230313T200106Z
UID:10000496-1684339200-1684339200@wirundjetzt.org
SUMMARY:Einführung in die Nachhaltigkeit an der Hochschule Ravensburg-Weingarten - wöchentlich
DESCRIPTION:An der Hochschule Ravensbrug-Weingarten hält Prof. Wolfgang Ertel vom Institut für Künstliche Intelligenz wöchentlich ab dem 15.3.23\, immer Mittwochs frei für alle Bürger*innen eine Vorlesung „Einführung in die Nachhaltigkeit“. Die Teilnahme ist kostenfrei. \nBasierend auf wissenschaftlichen Fakten stellt Prof. Wolfgang Ertel Modelle für Nachhaltigkeit\, Klimaneutralität und erneuerbare Energievorsorgung in Wirtschaft und Gesellschaft vor. Begleitet wird die Vorlesung von der Climate Challenge\, bei der die Teilnehmer*innen versuchen\, Lebensqualität und Umweltschutz im Alltag zu verbessern. \nNähere Informationen auf hs-weingarten.de/~ertel
URL:https://wirundjetzt.org/event/einfuehrung-in-die-nachhaltigkeit-an-der-hochschule-ravensburg-weingarten-woechentlich/2023-05-17/
LOCATION:Hochschule\, Raum M107\, Lazarettstraße 5\, Ravensburg\, Deutschland
CATEGORIES:Vorlesung
END:VEVENT
BEGIN:VEVENT
DTSTART;TZID=Europe/Berlin:20230517T183000
DTEND;TZID=Europe/Berlin:20230517T183000
DTSTAMP:20260423T063317
CREATED:20230509T114334Z
LAST-MODIFIED:20230509T114334Z
UID:10000518-1684348200-1684348200@wirundjetzt.org
SUMMARY:Film- und Themenabend mit Ackerführung - Solawi Ravensburg
DESCRIPTION:Am 17.05. laden wir Euch ganz herzlich zu uns auf den Acker zu einem vielfältigen Abend ein. Los geht es mit einer Ackerführung um 18:30 Uhr. Um 19:30 Uhr folgt dann das Scheunenkino (bitte warm anziehen und evtl. eine Decke mitbringen) mit dem Film „Unser Boden\, Unser Erbe“. Anschließend gibt es die Möglichkeit an der Feuerschale über den Film ins Gespräch zu kommen. „Unser Boden\, Unser Erbe“ \nDarum geht es: \nWie wollen wir in Zukunft leben? \nWeißt du eigentlich\, was sich unter deinen Füßen abspielt? \nDie dünne Humusschicht des Bodens versorgt alle Menschen auf der Welt mit Lebensmitteln\, sauberem Trinkwasser und sauberer Luft. Und sie kann das Klima retten. Denn gesunde Böden sind nach den Ozeanen der größte Speicher für Treibhausgase und tragen wesentlich zur Senkung von CO2 bei. Aber um zehn Zentimeter fruchtbare Erde zu bilden\, braucht unser Planet mehr als 2.000 Jahre. Und dennoch nutzen wir unsere Böden\, als wären sie unerschöpflich. Damit ist unsere Lebensmittelquelle gefährdet – durch uns Menschen! \nWas bedeutet das für die Zukunft? \nWie muss sich die Landwirtschaft\, die Gesellschaft ändern\, damit wir unseren Kindern eine lebendige Welt mit lebendigen Böden weitergeben können? \nDer Dokumentarfilm „Unser Boden\, unser Erbe“ zeigt\, wie wichtig und zugleich extrem bedroht unsere Lebensgrundlage\, der Boden ist. Regisseur Marc Uhlig vermittelt eindringlich\, warum die kostbare Ressource unsere größte Wertschätzung verdient. Denn wir alle können zum Erhalt der Bodenfruchtbarkeit beitragen – ob als Landwirt\, Gärtner oder Konsument im Supermarkt! Experten wie TV-Köchin Sarah Wiener und Umweltwissenschaftler Ernst Ulrich von Weizsäcker geben wertvolle Denkimpulse. \nEin inspirierendes Plädoyer für eine zukunftsfähige Landwirtschaft und nachhaltige Ernährung. \nAdresse: Hübscher 1\, 88213 Ravensburg \nÖPNV: Haltestelle „Hübscher“ \nwww.solawi-ravensburg.de
URL:https://wirundjetzt.org/event/film-und-themenabend-mit-ackerfuehrung-solawi-ravensburg/
LOCATION:Solidarische Landwirtschaft Ravensburg\, Hübscher 1\, Ravensburg\, Baden-Württemberg\, 88213
GEO:47.7822215;9.5582142
X-APPLE-STRUCTURED-LOCATION;VALUE=URI;X-ADDRESS=Solidarische Landwirtschaft Ravensburg Hübscher 1 Ravensburg Baden-Württemberg 88213;X-APPLE-RADIUS=500;X-TITLE=Hübscher 1:geo:9.5582142,47.7822215
END:VEVENT
END:VCALENDAR