BEGIN:VCALENDAR
VERSION:2.0
PRODID:-//»wirundjetzt« - ECPv6.15.17.1//NONSGML v1.0//EN
CALSCALE:GREGORIAN
METHOD:PUBLISH
X-WR-CALNAME:»wirundjetzt«
X-ORIGINAL-URL:https://wirundjetzt.org
X-WR-CALDESC:Veranstaltungen für »wirundjetzt«
REFRESH-INTERVAL;VALUE=DURATION:PT1H
X-Robots-Tag:noindex
X-PUBLISHED-TTL:PT1H
BEGIN:VTIMEZONE
TZID:Europe/Berlin
BEGIN:DAYLIGHT
TZOFFSETFROM:+0100
TZOFFSETTO:+0200
TZNAME:CEST
DTSTART:20220327T010000
END:DAYLIGHT
BEGIN:STANDARD
TZOFFSETFROM:+0200
TZOFFSETTO:+0100
TZNAME:CET
DTSTART:20221030T010000
END:STANDARD
BEGIN:DAYLIGHT
TZOFFSETFROM:+0100
TZOFFSETTO:+0200
TZNAME:CEST
DTSTART:20230326T010000
END:DAYLIGHT
BEGIN:STANDARD
TZOFFSETFROM:+0200
TZOFFSETTO:+0100
TZNAME:CET
DTSTART:20231029T010000
END:STANDARD
BEGIN:DAYLIGHT
TZOFFSETFROM:+0100
TZOFFSETTO:+0200
TZNAME:CEST
DTSTART:20240331T010000
END:DAYLIGHT
BEGIN:STANDARD
TZOFFSETFROM:+0200
TZOFFSETTO:+0100
TZNAME:CET
DTSTART:20241027T010000
END:STANDARD
END:VTIMEZONE
BEGIN:VEVENT
DTSTART;TZID=Europe/Berlin:20230421T080000
DTEND;TZID=Europe/Berlin:20230421T170000
DTSTAMP:20260422T092325
CREATED:20230421T202401Z
LAST-MODIFIED:20230421T202401Z
UID:10000483-1682064000-1682096400@wirundjetzt.org
SUMMARY:TERRASSENEVENT HEGGELBACH
DESCRIPTION:CARROUSEL\n\n\n\n\nMUSIQUE ET DANSE SUR LA TERRASSE\n\n\n\n\nDie schweizerisch-französische Band „Carrousel“ spielt eine künstlerische Melange aus Pop\, Indie und Nouvelle Chanson und wird die Terrasse zum Tanzen verzaubern. \nUnsere Freunde Sophie und Leonard spielen zum dritten Mal in Heggelbach und stellen uns ihr neues Set-Up vor. \nKulinarisch verwöhnen Euch die Nardo-Brothers von Linzgau Barbecue mit Bio-Rimpi-Döner und Bio-ChääsBap\, sowie wir Heggelbacher mit regionaler Bio-Limo\, Cidre\, Bier und Wein….das muss sein. \n\n\n\n\nFreitag\, 18. August 2023\n19:00 – Ca. 23:00\nhttps://terrassenevent-heggelbach.de/produkt/event-carrousel-band/
URL:https://wirundjetzt.org/event/terrassenevent-heggelbach-3/
END:VEVENT
END:VCALENDAR