BEGIN:VCALENDAR
VERSION:2.0
PRODID:-//»wirundjetzt« - ECPv6.15.17.1//NONSGML v1.0//EN
CALSCALE:GREGORIAN
METHOD:PUBLISH
X-WR-CALNAME:»wirundjetzt«
X-ORIGINAL-URL:https://wirundjetzt.org
X-WR-CALDESC:Veranstaltungen für »wirundjetzt«
REFRESH-INTERVAL;VALUE=DURATION:PT1H
X-Robots-Tag:noindex
X-PUBLISHED-TTL:PT1H
BEGIN:VTIMEZONE
TZID:Europe/Berlin
BEGIN:DAYLIGHT
TZOFFSETFROM:+0100
TZOFFSETTO:+0200
TZNAME:CEST
DTSTART:20220327T010000
END:DAYLIGHT
BEGIN:STANDARD
TZOFFSETFROM:+0200
TZOFFSETTO:+0100
TZNAME:CET
DTSTART:20221030T010000
END:STANDARD
BEGIN:DAYLIGHT
TZOFFSETFROM:+0100
TZOFFSETTO:+0200
TZNAME:CEST
DTSTART:20230326T010000
END:DAYLIGHT
BEGIN:STANDARD
TZOFFSETFROM:+0200
TZOFFSETTO:+0100
TZNAME:CET
DTSTART:20231029T010000
END:STANDARD
BEGIN:DAYLIGHT
TZOFFSETFROM:+0100
TZOFFSETTO:+0200
TZNAME:CEST
DTSTART:20240331T010000
END:DAYLIGHT
BEGIN:STANDARD
TZOFFSETFROM:+0200
TZOFFSETTO:+0100
TZNAME:CET
DTSTART:20241027T010000
END:STANDARD
END:VTIMEZONE
BEGIN:VEVENT
DTSTART;VALUE=DATE:20230212
DTEND;VALUE=DATE:20230219
DTSTAMP:20260422T053901
CREATED:20230207T090236Z
LAST-MODIFIED:20230207T090502Z
UID:10000858-1676160000-1676764799@wirundjetzt.org
SUMMARY:Online Kongress - Anders besser leben
DESCRIPTION:Kostenloser Kongress zu den Themen Nachhaltigkeit und gelingendes Leben:\nVirtuelle Reise in 14 Lernorte für morGEN: Gemeinschaften und Dörfer des Wandels!\nPodiumsgespräche und 7 Tage spannende Live-Interviews\nOnline-Werkstatt mit 8 Workshops\n20 Referent*innen stellen ihr zukunftsorientiertes Leben vor – direkt und authentisch aus der Praxis\nVernetzung. Inspiration. Bildungsangebote. Aha-Erlebnisse!\nwertvolle Impulse für dich und dein nachhaltiges Leben\nBildungsangebote \nExklusiv und Live am 12.2. um 20 Uhr \nProf. Dr. Gerald Hüther und Susanne Socher im Gespräch:\nDie Demokratie neu lernen im Kleinen wie in der Gesellschaft \nAnmeldung hier
URL:https://wirundjetzt.org/event/online-kongress-anders-besser-leben/
LOCATION:online
END:VEVENT
BEGIN:VEVENT
DTSTART;TZID=Europe/Berlin:20230215T190000
DTEND;TZID=Europe/Berlin:20230215T203000
DTSTAMP:20260422T053901
CREATED:20211012T105707Z
LAST-MODIFIED:20241010T172512Z
UID:10001155-1676487600-1676493000@wirundjetzt.org
SUMMARY:Friedensfeuer - da wo du bist!
DESCRIPTION:Im Sommer waren wir mit Freunden am Bodensee und träumten über Orte der Begegnung und der Potentialentfaltung. \nDabei ist die Idee geboren\, immer am 15. eines jeden Monats ein Friedensfeuer zu entzünden – alleine\, mit Freunden\, mit der Familie\, mit dem Partner oder den Nachbarn… \nErster Termin war der 15.8.21  20.30 Uhr – für alle weiteren 15. eines Monats immer zum Zeitpunkt wenn es dunkel wird (die Sonnenuntergangszeit kann man im Internet jeweils nachlesen)\, ca. für eine Stunde! \nDie Rückmeldungen waren großartig und überwältigten uns. \nFreunde machten alleine ein Feuer\, mit Freunden\, mit der Familie\, oder mit wildfremden Menschen! \nEs gab die\, die mit einer Kerze im Wohnzimmer den Frieden feierten und andere\, die auf der Terrasse oder im freien unter dem Sternenhimmel ihr Friedensfeuer anzündeten und die Stille feierten. \nMenschen aus Portugal\, aus Stuttgart\, aus Karlsruhe\, am Bodensee\, am Ufer\, im Hinterland und wer weiß wo noch alles zündeten ein Feuer für den Frieden an und gingen in einen Dialog mit sich selbst\, der Natur oder ihren Liebsten. \nDafür sind wir sehr dankbar und freuen uns auf viele kleine und große Feuer. \n \nGanz egal wie und mit wem Du ein Friedensfeuer macht\, es ist wichtig einfach FRIEDEN zu SEIN. \nKein Feuer für den Frieden\, oder gegen Krieg – einfach nur Frieden sein. \nFeiert euch\, das Leben\, die Liebe\, die Erde und den Frieden. \nSingt gemeinsam Lieder\, geht in die Stille\, meditiert und betet\, lauscht der Natur\, teilt eure Gedanken und Geschichten\, genießt die Zeit allein oder gemeinsam und tragt so zum Verständnis und zum Mitgefühl der Erde bei. \nNatürlich kann es auch eine Kerze sein\, die Du in die Mitte stellst und mit Deinen Liebsten den Frieden feierst. \nEs gibt keinen Veranstalter\, keinen Verantwortlichen\, keine vorgegebenen Vorstellungen\, oder eine bestimmte religiöse oder spirituelle Richtung\, der das Friedensfeuer angehört oder der Du angehören musst\, um dieses Feuer zu machen. Es gilt es einfach nur zu tun\, wenn Du den Ruf dazu verspürst – entweder selber iniziierend oder wenn Du dazu eingeladen wirst. \nEntscheide selbst\, wo Du\, wie Du und mit wem Du ein Friedensfeuer machen willst. \nGestalte den Abend und das Feuer so\, wie Du und Dein Herz es gestalten möchten. \nMit herzlichen Grüßen \nSarina und Simon
URL:https://wirundjetzt.org/event/friedensfeuer-da-wo-du-bist/2023-02-15/
CATEGORIES:Aktionen,Bewusstsein,Dialog,gemeinschaft
END:VEVENT
END:VCALENDAR