BEGIN:VCALENDAR
VERSION:2.0
PRODID:-//»wirundjetzt« - ECPv6.15.17.1//NONSGML v1.0//EN
CALSCALE:GREGORIAN
METHOD:PUBLISH
X-WR-CALNAME:»wirundjetzt«
X-ORIGINAL-URL:https://wirundjetzt.org
X-WR-CALDESC:Veranstaltungen für »wirundjetzt«
REFRESH-INTERVAL;VALUE=DURATION:PT1H
X-Robots-Tag:noindex
X-PUBLISHED-TTL:PT1H
BEGIN:VTIMEZONE
TZID:Europe/Berlin
BEGIN:DAYLIGHT
TZOFFSETFROM:+0100
TZOFFSETTO:+0200
TZNAME:CEST
DTSTART:20210328T010000
END:DAYLIGHT
BEGIN:STANDARD
TZOFFSETFROM:+0200
TZOFFSETTO:+0100
TZNAME:CET
DTSTART:20211031T010000
END:STANDARD
BEGIN:DAYLIGHT
TZOFFSETFROM:+0100
TZOFFSETTO:+0200
TZNAME:CEST
DTSTART:20220327T010000
END:DAYLIGHT
BEGIN:STANDARD
TZOFFSETFROM:+0200
TZOFFSETTO:+0100
TZNAME:CET
DTSTART:20221030T010000
END:STANDARD
BEGIN:DAYLIGHT
TZOFFSETFROM:+0100
TZOFFSETTO:+0200
TZNAME:CEST
DTSTART:20230326T010000
END:DAYLIGHT
BEGIN:STANDARD
TZOFFSETFROM:+0200
TZOFFSETTO:+0100
TZNAME:CET
DTSTART:20231029T010000
END:STANDARD
END:VTIMEZONE
BEGIN:VEVENT
DTSTART;TZID=Europe/Berlin:20221216T200000
DTEND;TZID=Europe/Berlin:20221218T123000
DTSTAMP:20260422T040130
CREATED:20221206T185415Z
LAST-MODIFIED:20221206T185534Z
UID:10000835-1671220800-1671366600@wirundjetzt.org
SUMMARY:Ökonomie = Ökologie Ökologie = Demokratie
DESCRIPTION:Gesprächstagung\, Filmvorführung und Buchvorstellung im Rahmen der Veranstaltungsreihe „Zukunft Erde“. \n\n\nÖkonomie gleich Ökologie? \nElementar betrachtet: In der Wirtschaft bringen wir gemeinsam all das hervor\, was jeder Einzelne von uns als Konsument:in braucht. Die Natur aber – den Wald\, das Klima\, die Luft\, das Wasser\, die Tiere und den Boden – brauchen wir als unsere Lebensgrundlage noch grundsätzlicher. Ökonomie gleich Ökologie\, sonst ist es Misswirtschaft. Und die Natur braucht uns\, indem wir sie schützen und pflegen. Die Landwirtschaft – ein Thema der Tagung schließt hier unmittelbar an. Sie dient\, richtig verstanden\, nicht nur dem Hervorbringen ihrer Produkte\, sondern auch dem Aufbau der Natur. \nÖkologie gleich Demokratie? \nWenn wir uns als Gleiche unter Gleichen vereinbaren – direkt und in Verantwortung für das Ganze. Doch die Demokratie ist unvollendet. Noch herrschen aus Einzelinteressen und Macht andere Faktoren: im Geld\, in der Arbeit und im Sozialen\, im Umgang mit den Ressourcen und der Energie\, in der Frage von Krieg und Frieden. Zerstörerische Faktoren für die Lebensgrundlagen insgesamt. Ökologie gleich Demokratie\, sonst herrscht die Not. Die Begriffe aber – der Demokratie\, der Ökologie\, der Ökonomie – können uns schon leuchten für die Zukunft der Erde\, für unsere demokratische Verständigung darüber. Damit wollen wir bei unserer Tagung beginnen. \nFreitag\, 16. Dezember\, 20.00 Uhr\nMusikalische Einstimmung\nEröffnungsbeiträge von Gerhard Schuster und Johannes Stüttgen \nSamstag\, 17. Dezember\, 10.00-13.00 und 15.30-18.30 Uhr\nGespräche und weitere Impulse durch die Teilnehmer-innen\nImpuls von Walter Sorms (Hofgut Rengoldshausen / Humuszentrum) \nSamstag Abend\, 20.00 Uhr\n<90 Meter> – Filmvorführung und Gespräch zur Besetzung des Altdorfer Waldes mit dem Regisseur Claudio Brauchle sowie Samuel Bosch und Charlie Kiehne von den Aktivist:innen. \nSonntag\, 18. Dezember 2022 (4. Advent)\nAb 9.00 Uhr – Gespräche beim gemeinsamen Frühstück\n11.00-12.30 Uhr – Vorstellung des Buches «Wirtschaft ohne Macht und Gier» mit den Autoren Michael Bader und Gerhard Schuster. Das Buch erscheint Anfang November im Oekom-Verlag München. \n weitere Informationen und Anmeldung:\n \nhttps://kulturzentrum-achberg.de/oekonomie-oekologie-demokratie/ \nTagungsort: Humboldt-Haus im\nInternationalen Kulturzentrum Achberg e.V.\nPanoramastraße 30\, 88147\n+49 8380-335\nwww.kulturzentrum-achberg.de
URL:https://wirundjetzt.org/event/oekonomie-oekologie-oekologie-demokratie/
LOCATION:Internationales Kulturzentrum Achberg (INKA)\, Panoramastraße 30\, Achberg\, 88174\, Deutschland
CATEGORIES:Tagung
GEO:47.6117378;9.709511
X-APPLE-STRUCTURED-LOCATION;VALUE=URI;X-ADDRESS=Internationales Kulturzentrum Achberg (INKA) Panoramastraße 30 Achberg 88174 Deutschland;X-APPLE-RADIUS=500;X-TITLE=Panoramastraße 30:geo:9.709511,47.6117378
END:VEVENT
BEGIN:VEVENT
DTSTART;TZID=Europe/Berlin:20221217T120000
DTEND;TZID=Europe/Berlin:20221217T190000
DTSTAMP:20260422T040130
CREATED:20221122T124310Z
LAST-MODIFIED:20221122T124805Z
UID:10000458-1671278400-1671303600@wirundjetzt.org
SUMMARY:Winterzauber by MantraMarkt
DESCRIPTION:Der Weihnachtsmarkt für die ganze Familie!\nSpielecke für Kinder im Bauwagen und Kinderschminken. \nHighlights: Kakaozeremonie und Feuershow am Abend\nMantraMarkt ist ein Ort\, an dem sich Künstler jeglicher Art austauschen\, begegnen und kreativ ausleben düren. Eingebettet in der Natur\, schaffen wir für euch einen Platz um eure „EigenArten“ präsentieren zu können. \nEs erwartet euch eine weihnachtliche Atmosphäre mit Live-Musik\, wundervolle Stände mit „HandMade“ Produkten jeglicher Art\, gutes Essen\, hausgemachte warme Getränke und ein großes beheiztes „ChillOut“ (mit Feuer). \nUnser kulinarisches Angebot von ExtraOhrDinner:\nLinsen Dal – Dinnele – Waffeln – Vegane Energyballs – Glühwein – Softdrinks – Bier \nInfos für deinen Besuch\n\nHunde willkommen!\nDer Eintritt beläuft sich auf Spendenbasis ab 5€\, sodass Projekte dieser Art weiter leben und existieren können.\nParkmöglichkeiten gibt es am Lagerhäusle und Friedhof in Altheim\n\nDu bist Künstler\, Musiker\, möchtest einen Stand anbieten oder mitgestalten? Schreib an: mantramarkt@gmail.com
URL:https://wirundjetzt.org/event/winterzauber-mantramarkt/
LOCATION:Naturatelier Frickingen\, Golpenweiler Str. 1\, Frickingen\, 88699\, Deutschland
CATEGORIES:Begegnung,Fest,Spiel
ATTACH;FMTTYPE=image/jpeg:https://wirundjetzt.org/wp-content/uploads/2022/11/mantramarkt.jpeg
ORGANIZER;CN="MantraMarkt":MAILTO:mantramarkt@gmail.com
END:VEVENT
END:VCALENDAR