BEGIN:VCALENDAR
VERSION:2.0
PRODID:-//»wirundjetzt« - ECPv6.15.17.1//NONSGML v1.0//EN
CALSCALE:GREGORIAN
METHOD:PUBLISH
X-WR-CALNAME:»wirundjetzt«
X-ORIGINAL-URL:https://wirundjetzt.org
X-WR-CALDESC:Veranstaltungen für »wirundjetzt«
REFRESH-INTERVAL;VALUE=DURATION:PT1H
X-Robots-Tag:noindex
X-PUBLISHED-TTL:PT1H
BEGIN:VTIMEZONE
TZID:Europe/Berlin
BEGIN:DAYLIGHT
TZOFFSETFROM:+0100
TZOFFSETTO:+0200
TZNAME:CEST
DTSTART:20210328T010000
END:DAYLIGHT
BEGIN:STANDARD
TZOFFSETFROM:+0200
TZOFFSETTO:+0100
TZNAME:CET
DTSTART:20211031T010000
END:STANDARD
BEGIN:DAYLIGHT
TZOFFSETFROM:+0100
TZOFFSETTO:+0200
TZNAME:CEST
DTSTART:20220327T010000
END:DAYLIGHT
BEGIN:STANDARD
TZOFFSETFROM:+0200
TZOFFSETTO:+0100
TZNAME:CET
DTSTART:20221030T010000
END:STANDARD
BEGIN:DAYLIGHT
TZOFFSETFROM:+0100
TZOFFSETTO:+0200
TZNAME:CEST
DTSTART:20230326T010000
END:DAYLIGHT
BEGIN:STANDARD
TZOFFSETFROM:+0200
TZOFFSETTO:+0100
TZNAME:CET
DTSTART:20231029T010000
END:STANDARD
END:VTIMEZONE
BEGIN:VEVENT
DTSTART;TZID=Europe/Berlin:20221208T190000
DTEND;TZID=Europe/Berlin:20221208T203000
DTSTAMP:20260421T190943
CREATED:20221123T191114Z
LAST-MODIFIED:20221123T191255Z
UID:10000832-1670526000-1670531400@wirundjetzt.org
SUMMARY:Webinar: Nachhaltige Pilzzucht auf Holz und Kaffee
DESCRIPTION:Liebe Gemeinschaftsgärtner*innen\, \nihr habt Interesse an einer eigenen Pilzzucht\, ohne viel Schnickschnack? Euch beschäftigen folgende Fragen: Was macht ein gesundes Pilzsubstrat aus? Was muss ich beim Standort beachten? Austernpilze oder Limonenseitlinge – welche Sorten eignen sich für Anfänger*innen?\nIn diesem Webinar könnt ihr in die Welt der Pilze eintauchen. Es werden zwei Anzuchtvarianten betrachtet\, die Zuhause mit recycelten Substraten angelegt werden können:                                    Die schnelle Variante auf Kaffeesatz und die langfristige Variante auf Baumstämmen. Dabei wird auf den Einsatz von unnötigem Plastik verzichtet und es wird die Zucht auf das Nötigste herunter gebrochen. \nReferenten\n– Franz Lagier (B.Sc. Agrarwissenschaften) beschäftigt sich seit Jahren mit wissenschaftlichen Erkenntnissen für Landwirtschaft und Garten.\n– Nils Nettersheim (M.Sc. Psychologie & Entrepreneurship) konnte in zahlreichen Permakultur- und Gartenprojekten praktische Erfahrungen im naturnahen Gärtnern sammeln. Gemeinsam gründeten sie die Informationsplattform keep it grün\, die sich mit den Themen nachhaltiges Gärtnern\, Permakultur und Pflanzenkohle auseinandersetzt.\n \nAnmeldung und technische Voraussetzungen\nDieses Webinar findet via Zoom statt. Die Teilnahme an den Webinaren der anstiftung ist stets kostenfrei.\nAnmeldung bitte bis zum 06.12.2022 über dieses Formular. \nIhr bekommt den Link für die Teilnahme zugeschickt. Ihr benötigt eine stabile Internetverbindung\, Lautsprecher und Mikrofon und möglichst eine Webcam.\nDas Webinar wird aufgezeichnet und im Nachgang auf dem Youtube-Kanal der anstiftung veröffentlicht.
URL:https://wirundjetzt.org/event/webinar-nachhaltige-pilzzucht-auf-holz-und-kaffee/
CATEGORIES:webinar
END:VEVENT
BEGIN:VEVENT
DTSTART;TZID=Europe/Berlin:20221208T193000
DTEND;TZID=Europe/Berlin:20221208T203000
DTSTAMP:20260421T190943
CREATED:20221206T154633Z
LAST-MODIFIED:20221206T154633Z
UID:10000836-1670527800-1670531400@wirundjetzt.org
SUMMARY:Klimashow online mit den Buchautoren David Nelles und Christian Serrer
DESCRIPTION:David & Christian – die  neuen SPIEGEL-Besteller „Machste dreckig – Machste sauber: Die Klimalösung“  möchten mit Missverständnissen aufräumen\, fake news aus der Welt schaffen und aufzeigen\, wie der Klimawandel weltweit gestoppt werden kann. Die beiden Buchautoren gestalten eine große Klimashow gemeinsam mit Promis wie HANNES JAENICKE\, ECKART VON HIRSCHHAUSEN\, LOUISA DELLERT\, RALF MÖLLER\, SVEN PLÖGER UND MRWISSEN2GO\, die ihre brennendsten Klimafragen stellen.\nAm 08. und 12. Dezember wird die Show gestreamt; die Teilnahme ist kostenlos und für jeden zugänglich über die homepage www.klimawandel-buch.de/klimashow
URL:https://wirundjetzt.org/event/klimashow-online-mit-den-buchautoren-david-nelles-und-christian-serrer/2022-12-08/
CATEGORIES:online-meeting
END:VEVENT
END:VCALENDAR