BEGIN:VCALENDAR
VERSION:2.0
PRODID:-//»wirundjetzt« - ECPv6.15.17.1//NONSGML v1.0//EN
CALSCALE:GREGORIAN
METHOD:PUBLISH
X-WR-CALNAME:»wirundjetzt«
X-ORIGINAL-URL:https://wirundjetzt.org
X-WR-CALDESC:Veranstaltungen für »wirundjetzt«
REFRESH-INTERVAL;VALUE=DURATION:PT1H
X-Robots-Tag:noindex
X-PUBLISHED-TTL:PT1H
BEGIN:VTIMEZONE
TZID:Europe/Berlin
BEGIN:DAYLIGHT
TZOFFSETFROM:+0100
TZOFFSETTO:+0200
TZNAME:CEST
DTSTART:20210328T010000
END:DAYLIGHT
BEGIN:STANDARD
TZOFFSETFROM:+0200
TZOFFSETTO:+0100
TZNAME:CET
DTSTART:20211031T010000
END:STANDARD
BEGIN:DAYLIGHT
TZOFFSETFROM:+0100
TZOFFSETTO:+0200
TZNAME:CEST
DTSTART:20220327T010000
END:DAYLIGHT
BEGIN:STANDARD
TZOFFSETFROM:+0200
TZOFFSETTO:+0100
TZNAME:CET
DTSTART:20221030T010000
END:STANDARD
BEGIN:DAYLIGHT
TZOFFSETFROM:+0100
TZOFFSETTO:+0200
TZNAME:CEST
DTSTART:20230326T010000
END:DAYLIGHT
BEGIN:STANDARD
TZOFFSETFROM:+0200
TZOFFSETTO:+0100
TZNAME:CET
DTSTART:20231029T010000
END:STANDARD
END:VTIMEZONE
BEGIN:VEVENT
DTSTART;TZID=Europe/Berlin:20220926T100000
DTEND;TZID=Europe/Berlin:20221002T183000
DTSTAMP:20260421T064245
CREATED:20220831T191632Z
LAST-MODIFIED:20220831T191632Z
UID:10000827-1664186400-1664735400@wirundjetzt.org
SUMMARY:Vertiefungskurs "Dynamischer Agroforst"
DESCRIPTION:Wie soll das geh‘n\, wenn Bäume auf dem Acker steh‘n? \nBoden\, Wasser und Biodiversität sind Grundlagen unseres Lebens. Doch der Boden verliert seine Fruchtbarkeit\, das Trinkwasser ist belastet und die bestäubenden Insekten schwinden. Gleichzeitig verändert sich auch bei uns in Deutschland spürbar das Klima\, es gibt längere Dürreperioden und Starkregen.\nAgroforstwirtschaft bietet Lösungsmöglichkeiten gemäß den Prinzipien der Natur. Agroforst ist die Kombination von Kulturpflanzen mit Büschen und Bäumen auf ein und derselben Fläche. Gehölze kühlen das Klima herunter\, führen zu Taubildung und Regen und binden sowohl über als auch unter der Erde Kohlenstoff. Bäume und Sträucher auf landwirtschaftlich genutzten Flächen schützen Ackerkulturen und Boden vor Wind und Wetter und hoher Sonneneinstrahlung\, mindern Bodenabtrag\, lockern Bodenverdichtung\, verbessern die Bodenfruchtbarkeit und den Bodenwasserhaushalt. Humusreicher Boden bindet Nitrat\, das somit den Nutzpflanzen zur Verfügung steht\, statt das Grundwasser zu kontaminieren. Auch das Nutztierwohl wird durch agroforstliche Maßnahmen gefördert. Eine Vielfalt mehrjähriger Pflanzen im Produktionssystem bietet Lebensraum für Bestäuberinsekten und weitere Nützlinge. Die hohe Artenvielfalt führt zum ökologischen Gleichgewicht\, wodurch der Einsatz synthetischer Agrarhilfsmittel erheblich reduziert werden kann. Gehölzschnitt füttert im Boden die für die Bodenfruchtbarkeit wichtige Bodenorganismen. Das Holz von Bäumen und Hecken\, zu Pflanzenkohle transformiert\, über Tierfütterung oder anderweitig angereichert in den Boden eingebracht\, potenziert die Bodenfruchtbarkeit\, verhindert Nährstoffauswaschung und schützt das Klima als über tausendjährige Kohlenstoff-Senke. Holz wird als Baustoff der Zukunft gesehen. Es ist übrigens erwiesen\, dass Agroforst rentabler ist als Mono- oder Reinkultur\, nachhaltiger auf jeden Fall. Doch – wie soll das geh’n\, wenn Bäume auf dem Acker steh‘n? \nBei unserem Vertiefungskurs beschäftigen wir uns intensiver mit Agroforst-Systemen\, Pflanzschnitt\, Herstellung von Terra Preta und dem mykorizza-basierten Kompost. \nWER: Dr. Noemi Stadler-Kaulich\, Agraringenieurin\, Pädagogin und Buchautorin (Dynamischer Agroforst – Fruchtbarer Boden\, gesunde Umwelt\, reiche Ernte) hat über 20-jährige Erfahrung mit Agroforst in den Tropen\, gemäßigten Breiten\, Trockenregionen und bis auf 4.000 Höhenmeter. Sie ist sehr verbunden mit dieser naturgemäßen Landnutzungsmethode und erklärt ihre Anwendung in Landwirtschaft\, Gemüsebau und Garten (www.mollesnejta.org) \nKontakt und Anmeldung:Lernort Gemeinschaft HaslachhofKatharina Philipp: \nkatharina.philipp@wirundjetzt.org \n01731919994 \nhttps://www.gemeinschafthaslachhof.de/neues/
URL:https://wirundjetzt.org/event/vertiefungskurs-dynamischer-agroforst/
LOCATION:Gemeinschaft Haslachhof\, Haslachhof 1\, Deggenhausertal
END:VEVENT
END:VCALENDAR