BEGIN:VCALENDAR
VERSION:2.0
PRODID:-//»wirundjetzt« - ECPv6.15.17.1//NONSGML v1.0//EN
CALSCALE:GREGORIAN
METHOD:PUBLISH
X-ORIGINAL-URL:https://wirundjetzt.org
X-WR-CALDESC:Veranstaltungen für »wirundjetzt«
REFRESH-INTERVAL;VALUE=DURATION:PT1H
X-Robots-Tag:noindex
X-PUBLISHED-TTL:PT1H
BEGIN:VTIMEZONE
TZID:Europe/Berlin
BEGIN:DAYLIGHT
TZOFFSETFROM:+0100
TZOFFSETTO:+0200
TZNAME:CEST
DTSTART:20210328T010000
END:DAYLIGHT
BEGIN:STANDARD
TZOFFSETFROM:+0200
TZOFFSETTO:+0100
TZNAME:CET
DTSTART:20211031T010000
END:STANDARD
BEGIN:DAYLIGHT
TZOFFSETFROM:+0100
TZOFFSETTO:+0200
TZNAME:CEST
DTSTART:20220327T010000
END:DAYLIGHT
BEGIN:STANDARD
TZOFFSETFROM:+0200
TZOFFSETTO:+0100
TZNAME:CET
DTSTART:20221030T010000
END:STANDARD
BEGIN:DAYLIGHT
TZOFFSETFROM:+0100
TZOFFSETTO:+0200
TZNAME:CEST
DTSTART:20230326T010000
END:DAYLIGHT
BEGIN:STANDARD
TZOFFSETFROM:+0200
TZOFFSETTO:+0100
TZNAME:CET
DTSTART:20231029T010000
END:STANDARD
END:VTIMEZONE
BEGIN:VEVENT
DTSTART;VALUE=DATE:20220924
DTEND;VALUE=DATE:20220926
DTSTAMP:20260421T050751
CREATED:20220831T191147Z
LAST-MODIFIED:20220831T191304Z
UID:10000826-1663977600-1664150399@wirundjetzt.org
SUMMARY:Einführungskurs Dynamischer Agroforst - mit der Spezialistin Noemi Stadler-Kaulich aus Bolivien
DESCRIPTION:Boden\, Wasser und Biodiversität sind Grundlagen unseres Lebens. Doch der Boden verliert seine Fruchtbarkeit\, das Trinkwasser ist belastet und die bestäubenden Insekten schwinden. Gleichzeitig verändert sich auch bei uns in Deutschland spürbar das Klima\, es gibt längere Dürreperioden und Starkregen.\nAgroforstwirtschaft bietet Lösungsmöglichkeiten gemäß den Prinzipien der Natur. Agroforst ist die Kombination von Kulturpflanzen mit Büschen und Bäumen auf ein und derselben Fläche. Gehölze kühlen das Klima herunter\, führen zu Taubildung und Regen und binden sowohl über als auch unter der Erde Kohlenstoff.\nBäume und Sträucher auf landwirtschaftlich genutzten Flächen schützen Ackerkulturen und Boden vor Wind und Wetter und hoher Sonneneinstrahlung\, mindern Bodenabtrag\, lockern Bodenverdichtung\, verbessern die Bodenfruchtbarkeit und den Bodenwasserhaushalt.\nHumusreicher Boden bindet Nitrat\, das somit den Nutzpflanzen zur Verfügung steht\, statt das Grundwasser zu kontaminieren. Auch das Nutztierwohl wird durch agroforstliche Maßnahmen gefördert. Eine Vielfalt mehrjähriger Pflanzen im Produktionssystem bietet Lebensraum für Bestäuberinsekten und weitere Nützlinge. Die hohe Artenvielfalt führt zum ökologischen Gleichgewicht\, wodurch der Einsatz synthetischer Agrarhilfsmitteln erheblich reduziert werden kann. Gehölzschnitt füttert im Boden die für die Bodenfruchtbarkeit wichtige Bodenorganismen. Das Holz von Bäumen und Hecken\, zu Pflanzenkohle transformiert\, über Tierfütterung oder anderweitig angereichert in den Boden eingebracht\, potenziert die Bodenfruchtbarkeit\, verhindert Nährstoffauswaschung und schützt das Klima als über tausendjährige Kohlenstoff-Senke. Holz wird als Baustoff der Zukunft gesehen. Es ist übrigens erwiesen\, dass Agroforst rentabler ist als Mono- oder Reinkultur\, nachhaltiger auf jeden Fall.\nDoch – wie soll das geh’n\, wenn Bäume auf dem Acker steh‘n?\nBei unserem Einführungskurs lernt ihr die Grundlagen des dynamischen Agroforst als ein wichtiges permakulturelles Werkzeug kennen. Wir beschäftigen uns mit Pflanzdichte\, Humusaufbau\, Pflanzschnitt und Pflanz-Zusammensetzung. \nKontakt und Anmeldung:\nLernort Gemeinschaft Haslachhof\nKatharina Philipp:\nkatharina.philipp@wirundjetzt.org\n01731919994\nhttps://www.gemeinschafthaslachhof.de/neues/
URL:https://wirundjetzt.org/event/einfuehrungskurs-dynamischer-agroforst-mit-der-spezialistin-noemi-stadler-kaulich-aus-bolivien/
LOCATION:Gemeinschaft Haslachhof\, Haslachhof 1\, Deggenhausertal
END:VEVENT
BEGIN:VEVENT
DTSTART;TZID=Europe/Berlin:20220924T100000
DTEND;TZID=Europe/Berlin:20220924T140000
DTSTAMP:20260421T050751
CREATED:20220908T103723Z
LAST-MODIFIED:20220908T103723Z
UID:10000437-1664013600-1664028000@wirundjetzt.org
SUMMARY:Nachhaltigkeitstage in Ravensburg
DESCRIPTION:Im Rahmen der Nachhaltigkeitstage Baden-Württemberg 2022 stellen sich in der Stadtbücherei Ravensburg am 24. September regionale Nachhaltigkeitsakteurinnen und -akteure mit ihren Projekten vor. Im und um das Kornhaus laden sie an verschiedenen Stationen zum Ausprobieren\, Mitmachen und gemeinsamen Austausch ein. \nVor dem Haus: \n– Foodsharing Ravensburg/Weingarten: Infostand Fairteiler (10-14 Uhr) \n– Bürgerstiftung/Fahrradprofis: Vorstellung E-Rikscha-Projekt + Probefahrten (10-12 Uhr) \nEingangsbereich/Passage: \n– wirundjetzt\, Bürgerkarte & Gemeinwohl-Ökonomie Regionalgruppe: Infostand (10-14 Uhr) \nBooky: \n– wirundjetzt & RaumZeit: Vorstellung Nachhaltigkeitsprojekte im virtuellen Raum (13-14 Uhr) \nLesecafé (EG): \n– Ernährungszentrum Bodensee-Oberschwaben: Infostand „Kreative Resteküche“ (10-14 Uhr) \n– Bio-Musterregion Ravensburg: Infostand ökologische Landwirtschaft\, Bio-Lebensmittel und Projekte der Bio-Musterregion \n\n OG + 2. OG:\n\n– Stadtbücherei: Bücherausstellungen zum Thema Nachhaltigkeit (10-14 Uhr) \nBesprechungsraum 2. OG: \n– Franziska Moltenbrey: Animierte Kurzfilme zum Thema Insektensterben (10-14 Uhr) \n 
URL:https://wirundjetzt.org/event/nachhaltigkeitstage-in-ravensburg/
LOCATION:Stadtbücherei Ravensburg\, Marienplatz 12\, Ravensburg\, 88212
CATEGORIES:Aktionen,Ausstellung,Austausch,Begegnung
END:VEVENT
BEGIN:VEVENT
DTSTART;TZID=Europe/Berlin:20220924T100000
DTEND;TZID=Europe/Berlin:20220924T160000
DTSTAMP:20260421T050751
CREATED:20220401T094540Z
LAST-MODIFIED:20220401T094540Z
UID:10000792-1664013600-1664035200@wirundjetzt.org
SUMMARY:Einführung in die Umwelt- und Erlebnispädagogik
DESCRIPTION:In diesem Modul werden viele theoretische Tipps und praktische Übungen für den Einstieg in der Natur-\, Er-lebnis- und Umweltpädagogik vorgestellt. Hier geht es vor allem darum\, wie man beispielsweise Kinder-geburtstage\, Schulprojekte oder Umwelt-Kindergrup-pen plant\, durchführt und leitet. Geeignet für Schü-ler*innen\, Praktikant*innen und Freiwilligendienst-leistende.\nIn der Fortbildungsreihe geht es um das aktive Erproben unterschiedlicher Übungen und Spiele aus der Natur-\, Umwelt- und Erlebnispädagogik. Das Jahresthema 2022 ist „Artenvielfalt vor der Haustüre – Erkennen\, Vermitteln\, Schützen“. Zum Faltblatt:\nTermin: Sa\, 24.09.\, 10:00-16:00 Uhr\nOrt: Treffpunkt Parkplatz Freibad\nNessenreben\, Weingarten\nReferent: Ralf Langohr\nAnmeldung: BUND-Naturschutzzentrum\nLeonhardstraße 1\, 88212 Ravensburg\nmanuel.schiffer@bund.net
URL:https://wirundjetzt.org/event/einfuehrung-in-die-umwelt-und-erlebnispaedagogik/
LOCATION:Baden-Württemberg
CATEGORIES:Fortbildung
END:VEVENT
BEGIN:VEVENT
DTSTART;TZID=Europe/Berlin:20220924T103000
DTEND;TZID=Europe/Berlin:20220924T120000
DTSTAMP:20260421T050751
CREATED:20220922T122112Z
LAST-MODIFIED:20220922T122112Z
UID:10000441-1664015400-1664020800@wirundjetzt.org
SUMMARY:Öko-Aktionswochen BW - Besichtigung der Brauerei Clemens Härle
DESCRIPTION:Wollen Sie unserem Braumeister einmal über die Schulter sehen? Aber gerne. Wir zeigen Ihnen unsere Brauerei – und geben Ihnen einen Einblick in die besondere Clemens-Härle-Brauqualität und in unser nachhaltiges\, regional ausgerichtetes Unternehmenskonzept.
URL:https://wirundjetzt.org/event/oeko-aktionswochen-bw-besichtigung-der-brauerei-clemens-haerle/
LOCATION:Brauerei Härle\, Am Hopfengarten 5\, Leutkirch\, Baden-Württemberg\, 88299\, Deutschland
CATEGORIES:Betriebsbesichtigung,Bio,Führung
END:VEVENT
BEGIN:VEVENT
DTSTART;TZID=Europe/Berlin:20220924T120000
DTEND;TZID=Europe/Berlin:20220924T180000
DTSTAMP:20260421T050751
CREATED:20220702T094241Z
LAST-MODIFIED:20220702T094937Z
UID:10000805-1664020800-1664042400@wirundjetzt.org
SUMMARY:Netzwerktreffen der Allianz für Beteiligung
DESCRIPTION:Auf dem Marktplatz erwartet euch ein abwechslungsreiches Programm. Zu den Gästen zählt unter anderen Frau Ministerin Thekla Walker. Sie führt das Ministerium für Umwelt\, Klima und Energiewirtschaft in Baden-Württemberg. Zusammen mit ihr und mit Engagierten aus dem Projekt »Dialog für Klimaschutz und Klimagerechtigkeit« schauen wir auf den Verlauf der Klima-Dialoge und deren Ergebnisse. Zudem stehen Projekte aus der Landesstrategie »Quartier 2030 – Gemeinsam.Gestalten.« im Mittelpunkt. Im Gespräch mit Praktiker*innen werfen wir einen Blick auf aktuelle Erfahrungen und Ergebnisse aus der Quartiersentwicklung.\nWelche weiteren Gäste\, Gruppen und Themen sich auf unserem Marktplatz vorstellen werden\, können Sie ab sofort nachschauen unter www.allianz-fuer-beteiligung.de. Dort werden wir das Programm regelmäßig aktualisieren.\nKlicken Sie hier\, um sich jetzt anzumelden.
URL:https://wirundjetzt.org/event/netzwerktreffen-der-allianz-fuer-beteiligung/
LOCATION:Campus Stadtmitte der Universität Stuttgart
CATEGORIES:Netzwerktreffen
ATTACH;FMTTYPE=image/jpeg:https://wirundjetzt.org/wp-content/uploads/2022/07/allianz.jpg
END:VEVENT
BEGIN:VEVENT
DTSTART;TZID=Europe/Berlin:20220924T130000
DTEND;TZID=Europe/Berlin:20220924T200000
DTSTAMP:20260421T050751
CREATED:20220922T123216Z
LAST-MODIFIED:20220922T123216Z
UID:10000443-1664024400-1664049600@wirundjetzt.org
SUMMARY:Öko-Aktionswochen: Tag der offenen Tür Biohof Fleck
DESCRIPTION:Am 24. September öffnet der Biohof Fleck mit Molkerei ab 13 Uhr seine Türen. Im Rahmen der baden-württembergischen Öko-Aktionswochen findet um 14 Uhr eine Hofführung statt. Um 16 Uhr werden die Kühe und Kälber geholt und es kann beim Melken zugeschaut werden. Des weiteren kann man Apfelsaft machen\, Heuhüpfen\, den ganzen Tag Bio kulinarisch genießen\, das Stallkino besuchen und vieles mehr.
URL:https://wirundjetzt.org/event/oeko-aktionswochen-tag-der-offenen-tuer-biohof-fleck/
LOCATION:Biohof Fleck\, Eschach 7\, Aichstetten\, Baden-Württemberg\, 88317\, Deutschland
GEO:47.9006802;10.055565
X-APPLE-STRUCTURED-LOCATION;VALUE=URI;X-ADDRESS=Biohof Fleck Eschach 7 Aichstetten Baden-Württemberg 88317 Deutschland;X-APPLE-RADIUS=500;X-TITLE=Eschach 7:geo:10.055565,47.9006802
END:VEVENT
BEGIN:VEVENT
DTSTART;TZID=Europe/Berlin:20220924T160000
DTEND;TZID=Europe/Berlin:20220924T193000
DTSTAMP:20260421T050751
CREATED:20220905T095522Z
LAST-MODIFIED:20220905T095726Z
UID:10000434-1664035200-1664047800@wirundjetzt.org
SUMMARY:Indigene Antworten auf aktuelle Herausforderungen
DESCRIPTION:Besuch der Kogi: Indigenes Wissen – Inspiration für die moderne Welt \nDerzeit sind wir von großer Ratlosigkeit und massiver Verunsicherung beherrscht. Wie kann menschliches Sein zukünftig gelingen? Wie können wir friedvoller\, ganzheitlicher und bewusster leben? Wir freuen uns sehr\, an diesem besonderen Abend mit den Kogi in Dialog zu treten und ihr Weisheitswissen kennenzulernen. Dieser indigenen Kultur ist es gelungen\, nie die Anbindung an die Natur zu verlieren und das Eingebettetsein in das große Ganze zu bewahren. \nDie Veranstaltung mit den Kogi findet in Räumlichkeiten von Rapunzel in Legau statt. \nEinlass: ab 16 Uhr\nBeginn der Veranstaltung: 17:00\nAusklang mit Imbiss: 19:30 Uhr \nOrt: Großer Saal von Rapunzel\, Rapunzelstraße 1\, 87764 Legau \nDer Eintrittspreis die Veranstaltung mit den Kogi liegt bei 25 Euro pro Person (ermäßigt 15 Euro). Die elobau Stiftung übernimmt alle organisatorischen Kosten der Veranstaltung. Somit kommen die gesamten Eintrittsgelder vollständig den Kogi zugute.\nDie Kogi begreifen sich als Hüter der Erde und bestimmte Stätten gelten für sie als heilige Orte. So verwenden die Kogi die finanziellen Mittel für den Rückkauf von Land\, um Wälder\, Flüsse und Täler unter ihren ganz besonderen Schutz zu stellen. \nIm Anschluss an die Veranstaltung laden die elobau Stiftung und Rapunzel Sie zum zum Ausklang bei einem gemeinsamen Imbiss ins Restaurant des Unternehmens ein. \nweitere Informationen:\nhttps://lebendigezukunft.org/kogi-reise/ \nAnmeldung:\nhttps://lebendigezukunft.org/kogi-reise-stationen/
URL:https://wirundjetzt.org/event/indigene-antworten-auf-aktuelle-herausforderungen/
LOCATION:Rapunzel Legau\, Deutschland
END:VEVENT
END:VCALENDAR