BEGIN:VCALENDAR
VERSION:2.0
PRODID:-//»wirundjetzt« - ECPv6.15.17.1//NONSGML v1.0//EN
CALSCALE:GREGORIAN
METHOD:PUBLISH
X-ORIGINAL-URL:https://wirundjetzt.org
X-WR-CALDESC:Veranstaltungen für »wirundjetzt«
REFRESH-INTERVAL;VALUE=DURATION:PT1H
X-Robots-Tag:noindex
X-PUBLISHED-TTL:PT1H
BEGIN:VTIMEZONE
TZID:Europe/Berlin
BEGIN:DAYLIGHT
TZOFFSETFROM:+0100
TZOFFSETTO:+0200
TZNAME:CEST
DTSTART:20210328T010000
END:DAYLIGHT
BEGIN:STANDARD
TZOFFSETFROM:+0200
TZOFFSETTO:+0100
TZNAME:CET
DTSTART:20211031T010000
END:STANDARD
BEGIN:DAYLIGHT
TZOFFSETFROM:+0100
TZOFFSETTO:+0200
TZNAME:CEST
DTSTART:20220327T010000
END:DAYLIGHT
BEGIN:STANDARD
TZOFFSETFROM:+0200
TZOFFSETTO:+0100
TZNAME:CET
DTSTART:20221030T010000
END:STANDARD
BEGIN:DAYLIGHT
TZOFFSETFROM:+0100
TZOFFSETTO:+0200
TZNAME:CEST
DTSTART:20230326T010000
END:DAYLIGHT
BEGIN:STANDARD
TZOFFSETFROM:+0200
TZOFFSETTO:+0100
TZNAME:CET
DTSTART:20231029T010000
END:STANDARD
END:VTIMEZONE
BEGIN:VEVENT
DTSTART;TZID=Europe/Berlin:20220919T190000
DTEND;TZID=Europe/Berlin:20220919T210000
DTSTAMP:20260421T050750
CREATED:20220212T104142Z
LAST-MODIFIED:20220222T173014Z
UID:10000382-1663614000-1663621200@wirundjetzt.org
SUMMARY:wirundjetzt Jour fix September 2022
DESCRIPTION:Struktur Abend von wirundjetzt – Weiterentwicklung und Informationen. \nWir laden zum gemeinsamen Austausch ein. \nAgenda: \nCheck In\nRückblick und Vorschau von wir und jetzt\nAktuelles von Projekten und Initiativen\nCheck Out \nZoom-Meeting beitreten\nhttps://us02web.zoom.us/j/88201512366?pwd=aGZqTlFDVGRuL2Z1OVkxSHJzME5OZz09 \nMeeting-ID: 882 0151 2366\nKenncode: 184156\nEinwahl nach aktuellem Standort\n        +49 69 3807 9883 Deutschland\nOrtseinwahl suchen: https://us02web.zoom.us/u/kxw7A6A0D
URL:https://wirundjetzt.org/event/wirundjetzt-jour-fix-september-2022/
LOCATION:Baden-Württemberg
END:VEVENT
END:VCALENDAR