BEGIN:VCALENDAR
VERSION:2.0
PRODID:-//»wirundjetzt« - ECPv6.15.17.1//NONSGML v1.0//EN
CALSCALE:GREGORIAN
METHOD:PUBLISH
X-WR-CALNAME:»wirundjetzt«
X-ORIGINAL-URL:https://wirundjetzt.org
X-WR-CALDESC:Veranstaltungen für »wirundjetzt«
REFRESH-INTERVAL;VALUE=DURATION:PT1H
X-Robots-Tag:noindex
X-PUBLISHED-TTL:PT1H
BEGIN:VTIMEZONE
TZID:Europe/Berlin
BEGIN:DAYLIGHT
TZOFFSETFROM:+0100
TZOFFSETTO:+0200
TZNAME:CEST
DTSTART:20210328T010000
END:DAYLIGHT
BEGIN:STANDARD
TZOFFSETFROM:+0200
TZOFFSETTO:+0100
TZNAME:CET
DTSTART:20211031T010000
END:STANDARD
BEGIN:DAYLIGHT
TZOFFSETFROM:+0100
TZOFFSETTO:+0200
TZNAME:CEST
DTSTART:20220327T010000
END:DAYLIGHT
BEGIN:STANDARD
TZOFFSETFROM:+0200
TZOFFSETTO:+0100
TZNAME:CET
DTSTART:20221030T010000
END:STANDARD
BEGIN:DAYLIGHT
TZOFFSETFROM:+0100
TZOFFSETTO:+0200
TZNAME:CEST
DTSTART:20230326T010000
END:DAYLIGHT
BEGIN:STANDARD
TZOFFSETFROM:+0200
TZOFFSETTO:+0100
TZNAME:CET
DTSTART:20231029T010000
END:STANDARD
END:VTIMEZONE
BEGIN:VEVENT
DTSTART;TZID=Europe/Berlin:20220908T140000
DTEND;TZID=Europe/Berlin:20220911T140000
DTSTAMP:20260421T064246
CREATED:20220521T161948Z
LAST-MODIFIED:20220521T161948Z
UID:10000410-1662645600-1662904800@wirundjetzt.org
SUMMARY:"Authentisch verbunden (mit Mensch und Natur)"  - Spirituelle Naturverbindungsarbeit - Teil 2
DESCRIPTION:In unserem wunderschönen Seminarzentrum am Hohlenstein\, laden wir dich herzlich ein\, Dir mal Zeit zu nehmen für die wichtigen Fragen des Lebens. Lerne Dich selbst noch mal ganz neu kennen\, verlasse Deine Komfortzone und riskiere einen Blick in deine eigene Tiefe. \nTauche ein in die Essenz des einen Bewusstseins\, das Du bist\, und lerne dich über deine Ego-Fixierungen zu erheben\, um ein glückliches Leben in Frieden\, Selbstverantwortung und authentischer Liebe zu leben. \nLerne die menschliche und seelische Ebene zu versöhnen und lebe aus deiner eigenen Authentizität. \nWas immer wir aus unserem Leben gemacht haben\, macht uns zu dem\, was wir sind\, wenn wir sterben. Und alles zählt\, absolut alles.     Sogyal Rinpoche \n  \nLeben bedeutet sich zu beziehen. Zum Beispiel auf andere Menschen und die nicht-menschliche Natur. Und wie können wir unsere Beziehungen gestalten\, dass sie unserem Wesen entsprechen\, tiefes Verstehen und Nähe schaffen\, das Herz nähren und Lebendigkeit schenken? Die Praxis des ‚Authentic Relating‘ ist dafür ein kraftvoller Weg. Sie bietet Übungen\, Spiele und eine klar ausgerichtete Haltung. Sie hat das Potential\, transformativ und heilend in unseren menschlichen Beziehungen zu wirken. In die intensiven\, öffnenden Übungen weben wir immer wieder intuitiven\, achtsamen Kontakt mit der Natur ein. Wir erfahren uns als lebendige Wesen unter vielen\, gehalten und geborgen im großen Fließen des Lebens. Verbindung zu uns selbst\, anderen und der nicht-menschlichen Natur ist eine einzige Bewegung. \n  \nnähere Informationen und Anmeldung unter folgendem Link: \nhttps://www.verbindungskultur-ev.de/insherzderdingeschauen \n                          \nOliver Karolius                             Arne Drews \nSeminarleitung                            Seminarleitung
URL:https://wirundjetzt.org/event/authentisch-verbunden-mit-mensch-und-natur-spirituelle-naturverbindungsarbeit-teil-2/
LOCATION:Gemeinschaftsgarten am Hohlenstein\,\, Hohlenstein 34\, Deggenhausertal\, 88693
ORGANIZER;CN="Verbindungskultur e.V.":MAILTO:verbindungskultur.verein@posteo.de
GEO:47.8051976;9.3675506
X-APPLE-STRUCTURED-LOCATION;VALUE=URI;X-ADDRESS=Gemeinschaftsgarten am Hohlenstein Hohlenstein 34 Deggenhausertal 88693;X-APPLE-RADIUS=500;X-TITLE=Hohlenstein 34:geo:9.3675506,47.8051976
END:VEVENT
BEGIN:VEVENT
DTSTART;TZID=Europe/Berlin:20220908T171500
DTEND;TZID=Europe/Berlin:20220908T181500
DTSTAMP:20260421T064246
CREATED:20220831T161207Z
LAST-MODIFIED:20220831T161207Z
UID:10000823-1662657300-1662660900@wirundjetzt.org
SUMMARY:Mit Blick auf das Gemeinwohl – wirklich nachhaltig Handeln und Leben
DESCRIPTION:ONLINE – Infoabend (kostenlos)\nDonnerstag\, den 8. September 2022\nBeginn: 17:15 Uhr | Ende: 18.15 Uhr\nEine Workshopserie für uns als Privatpersonen und Mitmenschen\nKönnen wir angesichts der aktuellen Krisen zuschauen und einfach so weitermachen? Die Gemeinwohl-Ökonomie möchte nichts weniger als die Welt verändern und glaubt\, dass der\nSchlüssel hierzu auch im Verhalten von uns allen liegt.\nAn fünf interaktiven Abenden der Seminareihe “MeinGemeinwohl” spornen wir uns gegenseitig zu Veränderungen an und tauschen unsere Ideen und Ergebnisse aus. Mit Lust\nund Neugierde machen wir uns auf den Weg zu einem enkeltauglichen\, nachhaltigen Leben!\nUnser Motto: „Tu Du’s – wir miteinander“.\nDie Seminarreihe selbst ist ein kostenpflichtiges Angebot\nInformation und Anmeldung bei\nThomas Henne\nTelefon ++49 174 7958047 oder\nmail@thomas-henne.de\nInformationen auch unter\nwww.ecogood.org oder www.ecogood.org/bodensee-oberschwaben/
URL:https://wirundjetzt.org/event/mit-blick-auf-das-gemeinwohl-wirklich-nachhaltig-handeln-und-leben/
LOCATION:online
CATEGORIES:Infoabend
END:VEVENT
BEGIN:VEVENT
DTSTART;TZID=Europe/Berlin:20220908T183000
DTEND;TZID=Europe/Berlin:20220908T193000
DTSTAMP:20260421T064246
CREATED:20220904T085101Z
LAST-MODIFIED:20220904T085101Z
UID:10000433-1662661800-1662665400@wirundjetzt.org
SUMMARY:webinar GWÖ - Unternehmensplanspiel “Elecctrify©
DESCRIPTION:Es geht in eine neue Runde des Unternehmensplanspiels „Elecctrify“ – vom Verstehen und Erleben der betriebswirtschaftlichen Zusammenhänge in Verbindung mit einer ethischen Unternehmensführung im Sinne der Nachhaltigkeit. \nDas Webinar richtet sich an Unternehmen\, Mitarbeitende und Macher*innen\, die betriebswirtschaftliches Denken nicht im Widerspruch zu ethischem und nachhaltigem Handeln sehen wollen. Das Format bietet „Nicht-BWL’ern“ und den kaufmännischen Expert*innen unter uns die spielerische Möglichkeit sich auszuprobieren und den Erfahrungsaustausch zu suchen. \nDie geplante webinarreihe ist im November/ Dezember 2022 geplant. Am 8.9. erfahrt ihr mehr über die webinar-Serie. \nTeilnehmende: 8-20\, individuelle Begleitung durch 2 Trainer \nKosten pro Teilnehmer incl. Lizenzgebühr für das Online-Unternehmensplanspiel „Elecctrify“: € 500.- zzgl. USt\, GWÖ-Mitglieder bzw. GWÖ-Mitgliedsunternehmen / -organisationen erhalten 10% Ermäßigung \nInfos und Anmeldung über https://good-economy.eu/
URL:https://wirundjetzt.org/event/webinar-gwoe-unternehmensplanspiel-elecctrify/
LOCATION:Baden-Württemberg
CATEGORIES:webinar
END:VEVENT
END:VCALENDAR