BEGIN:VCALENDAR
VERSION:2.0
PRODID:-//»wirundjetzt« - ECPv6.15.17.1//NONSGML v1.0//EN
CALSCALE:GREGORIAN
METHOD:PUBLISH
X-ORIGINAL-URL:https://wirundjetzt.org
X-WR-CALDESC:Veranstaltungen für »wirundjetzt«
REFRESH-INTERVAL;VALUE=DURATION:PT1H
X-Robots-Tag:noindex
X-PUBLISHED-TTL:PT1H
BEGIN:VTIMEZONE
TZID:Europe/Berlin
BEGIN:DAYLIGHT
TZOFFSETFROM:+0100
TZOFFSETTO:+0200
TZNAME:CEST
DTSTART:20210328T010000
END:DAYLIGHT
BEGIN:STANDARD
TZOFFSETFROM:+0200
TZOFFSETTO:+0100
TZNAME:CET
DTSTART:20211031T010000
END:STANDARD
BEGIN:DAYLIGHT
TZOFFSETFROM:+0100
TZOFFSETTO:+0200
TZNAME:CEST
DTSTART:20220327T010000
END:DAYLIGHT
BEGIN:STANDARD
TZOFFSETFROM:+0200
TZOFFSETTO:+0100
TZNAME:CET
DTSTART:20221030T010000
END:STANDARD
BEGIN:DAYLIGHT
TZOFFSETFROM:+0100
TZOFFSETTO:+0200
TZNAME:CEST
DTSTART:20230326T010000
END:DAYLIGHT
BEGIN:STANDARD
TZOFFSETFROM:+0200
TZOFFSETTO:+0100
TZNAME:CET
DTSTART:20231029T010000
END:STANDARD
END:VTIMEZONE
BEGIN:VEVENT
DTSTART;TZID=Europe/Berlin:20220905T190000
DTEND;TZID=Europe/Berlin:20220905T203000
DTSTAMP:20260421T050752
CREATED:20220831T161735Z
LAST-MODIFIED:20220831T161735Z
UID:10000825-1662404400-1662409800@wirundjetzt.org
SUMMARY:Mit Blick auf das Gemeinwohl – wirklich nachhaltig Handeln und Leben
DESCRIPTION:Infoabend – kostenlos\nMontag\, den 5.September 2022\nBeginn: 19:00 Uhr | Ende: 20.30 Uhr\nAnlaufstelle für Bürgerengagement der Stadt Tettnang\,\nMontfortstr. 2\, 88069 Tettnang\nEine Workshopserie für uns als Privatpersonen und Mitmenschen\nKönnen wir angesichts der aktuellen Krisen zuschauen und einfach so weitermachen? Die Gemeinwohl-Ökonomie möchte nichts weniger als die Welt verändern und glaubt\, dass der\nSchlüssel hierzu auch im Verhalten von uns allen liegt.\nAn fünf interaktiven Abenden der Seminareihe “MeinGemeinwohl” spornen wir uns gegenseitig zu Veränderungen an und tauschen unsere Ideen und Ergebnisse aus. Mit Lust\nund Neugierde machen wir uns auf den Weg zu einem enkeltauglichen\, nachhaltigen Leben!\nAus vorhergehenden Kursen hat sich die Gemeinwohl-WerkstaTT gebildet mit spannenden Initiativen nach dem Motto: „Tu Du’s – wir miteinander“.\nDie Seminarreihe selbst ist ein kostenpflichtiges von der Stadt Tettnang gefördertes Angebot\nAnmeldung erwünscht bei Melanie Friedrich von der Anlaufstelle für Bürgerengagement\nder Stadt Tettnang. Telefon 07542/510-107 oder melanie.friedrich@tettnang.de.\nInformationen auch unter www.ecogood.org oder\nwww.ecogood.org/bodensee-oberschwaben/
URL:https://wirundjetzt.org/event/mit-blick-auf-das-gemeinwohl-wirklich-nachhaltig-handeln-und-leben-2/
LOCATION:Anlaufstelle für Bürgerengagment\, Montfortstr. 2\, Tettnang\, 88069
CATEGORIES:Infoabend
END:VEVENT
END:VCALENDAR