BEGIN:VCALENDAR
VERSION:2.0
PRODID:-//»wirundjetzt« - ECPv6.15.17.1//NONSGML v1.0//EN
CALSCALE:GREGORIAN
METHOD:PUBLISH
X-WR-CALNAME:»wirundjetzt«
X-ORIGINAL-URL:https://wirundjetzt.org
X-WR-CALDESC:Veranstaltungen für »wirundjetzt«
REFRESH-INTERVAL;VALUE=DURATION:PT1H
X-Robots-Tag:noindex
X-PUBLISHED-TTL:PT1H
BEGIN:VTIMEZONE
TZID:Europe/Berlin
BEGIN:DAYLIGHT
TZOFFSETFROM:+0100
TZOFFSETTO:+0200
TZNAME:CEST
DTSTART:20210328T010000
END:DAYLIGHT
BEGIN:STANDARD
TZOFFSETFROM:+0200
TZOFFSETTO:+0100
TZNAME:CET
DTSTART:20211031T010000
END:STANDARD
BEGIN:DAYLIGHT
TZOFFSETFROM:+0100
TZOFFSETTO:+0200
TZNAME:CEST
DTSTART:20220327T010000
END:DAYLIGHT
BEGIN:STANDARD
TZOFFSETFROM:+0200
TZOFFSETTO:+0100
TZNAME:CET
DTSTART:20221030T010000
END:STANDARD
BEGIN:DAYLIGHT
TZOFFSETFROM:+0100
TZOFFSETTO:+0200
TZNAME:CEST
DTSTART:20230326T010000
END:DAYLIGHT
BEGIN:STANDARD
TZOFFSETFROM:+0200
TZOFFSETTO:+0100
TZNAME:CET
DTSTART:20231029T010000
END:STANDARD
END:VTIMEZONE
BEGIN:VEVENT
DTSTART;VALUE=DATE:20220901
DTEND;VALUE=DATE:20220905
DTSTAMP:20260421T064249
CREATED:20220708T145200Z
LAST-MODIFIED:20220708T145200Z
UID:10000800-1661990400-1662335999@wirundjetzt.org
SUMMARY:Haslachhof-Spätsommercamp
DESCRIPTION:1.-4. September 2022\nWir tauchen ein in eine tiefe Zeit an unserem wunderschönen Ort – Zeit zum Kennenlernen\, gemeinsam Werkeln\, Kochen überm Feuer\, mit den Kindern spielen\, schnitzen (…) – und schaffen gemeinsam Räume um in Verbindung zu gehen mit der Erde\, miteinander und mit uns selbst.\nWir freuen uns\, einige unserer Gemeinschaftsbildungswerkzeuge mit euch zu teilen und zu erleben\, lange Abende mit Musik und Tanz am Feuer zu verbringen\, gemeinsam das Leben zu feiern und zugleich Kraft zu schöpfen um in den Herbst und Winter zu gehen.\nEs wird auch Raum für kleine spontane Auszeiten in der Natur\, lebendige Rituale und Kreisgespräche geben. Mit Martina und Katharina und der Gemeinschaft Haslachhof\nÜbernachtung im eigenen Zelt. U/VP pro Tag 25€\, Campbeitrag gegen Spende.\nAnmeldung und Infos: katharina.philipp@wirundjetzt.org
URL:https://wirundjetzt.org/event/haslachhof-spaetsommercamp/
LOCATION:Baden-Württemberg
CATEGORIES:gemeinschaft,Sommercamp
END:VEVENT
END:VCALENDAR