BEGIN:VCALENDAR
VERSION:2.0
PRODID:-//»wirundjetzt« - ECPv6.15.17.1//NONSGML v1.0//EN
CALSCALE:GREGORIAN
METHOD:PUBLISH
X-ORIGINAL-URL:https://wirundjetzt.org
X-WR-CALDESC:Veranstaltungen für »wirundjetzt«
REFRESH-INTERVAL;VALUE=DURATION:PT1H
X-Robots-Tag:noindex
X-PUBLISHED-TTL:PT1H
BEGIN:VTIMEZONE
TZID:Europe/Berlin
BEGIN:DAYLIGHT
TZOFFSETFROM:+0100
TZOFFSETTO:+0200
TZNAME:CEST
DTSTART:20210328T010000
END:DAYLIGHT
BEGIN:STANDARD
TZOFFSETFROM:+0200
TZOFFSETTO:+0100
TZNAME:CET
DTSTART:20211031T010000
END:STANDARD
BEGIN:DAYLIGHT
TZOFFSETFROM:+0100
TZOFFSETTO:+0200
TZNAME:CEST
DTSTART:20220327T010000
END:DAYLIGHT
BEGIN:STANDARD
TZOFFSETFROM:+0200
TZOFFSETTO:+0100
TZNAME:CET
DTSTART:20221030T010000
END:STANDARD
BEGIN:DAYLIGHT
TZOFFSETFROM:+0100
TZOFFSETTO:+0200
TZNAME:CEST
DTSTART:20230326T010000
END:DAYLIGHT
BEGIN:STANDARD
TZOFFSETFROM:+0200
TZOFFSETTO:+0100
TZNAME:CET
DTSTART:20231029T010000
END:STANDARD
END:VTIMEZONE
BEGIN:VEVENT
DTSTART;TZID=Europe/Berlin:20220724T100000
DTEND;TZID=Europe/Berlin:20220724T170000
DTSTAMP:20260420T080350
CREATED:20220708T094900Z
LAST-MODIFIED:20220708T094900Z
UID:10000812-1658656800-1658682000@wirundjetzt.org
SUMMARY:Typisch Liebe! Sich selbst\, Partnerschaft und Intimität mit dem Enneagramm besser verstehen
DESCRIPTION:Workshop-Einladung \n \nDer Partner ist eben so\, wie er ist. Ich selbst hinterfrage mich nicht\, natürlich bin ich im Recht und die anderen müssen sich verändern. Das Enneagramm als Brille und Werkzeug ermöglicht\, Selbstverständlichkeiten und blinde Flecken aufzulösen und neue Perspektiven auf sich und andere zu gewinnen. \nDas Enneagramm ist eine Weisheitslehre der Muster von Persönlichkeitsanteilen des Menschen. Neun Grundtypen der Persönlichkeit werden im Workshop vorgestellt und erlebt. Was ist der zentrale Wert in meinem Liebesleben? Wie erleben andere Menschen mit den gleichen Mustern ihren Beziehungsalltag – was hilft ihnen bei ihrer Entwicklung? Wie reagiert mein Typus auf Eifersucht und bestimmte Beziehungsmodelle? Ist es nicht allein schon Sache von bestimmten Menschentypen\, ihr Liebesleben verstehen und ergründen zu wollen? Wie kann meine Liebe mein Gegenüber erreichen?\nDas Enneagramm ist dabei keine Schablone\, in die die Vielfalt der Menschen gepresst wird\, sondern ein offenes Geschenk\, das undogmatisch\, ohne Bewertung eine Hilfe anbietet\, mit sich selbst und den anderen tiefer in Kontakt zu kommen. \nDazu möchten wir euch zu einem Vertrauensraum einladen\, in dem wir mehr über einander erfahren können und eine erfüllte Zeit miteinander erleben können. Es ist kein Vorwissen über das Enneagramm erforderlich. \nWorkshop am Sonntag\, 24.07.2022 Jurte Verbindungskultur Lellwangen: https://www.verbindungskultur-ev.de/ Hohlenstein 34\, 88693 Deggenhausertal \nDer Workshop wird von 10-17 Uhr gehen. Block I von 10-13 Uhr\, dann gemeinsames Mitbring-Buffet-Mittagessen\, 14-17 Uhr Block II\, danach gemütlicher Ausklang. \nKosten: 20€ pro Person\, Paare 30€ insgesamt\, Anmeldung erbeten bis zum 17.07. bei alexander.capistran@posteo.de \n               \nLeitung: Alexander Capistran & Timm Cebulla \n\n\nSie sehen gerade einen Platzhalterinhalt von Standard. Um auf den eigentlichen Inhalt zuzugreifen\, klicken Sie auf den Button unten. Bitte beachten Sie\, dass dabei Daten an Drittanbieter weitergegeben werden. \n Inhalt entsperren Erforderlichen Service akzeptieren und Inhalte entsperren \n Weitere Informationen \n\nhttps://www.alexander-capistran.de/
URL:https://wirundjetzt.org/event/typisch-liebe-sich-selbst-partnerschaft-und-intimitaet-mit-dem-enneagramm-besser-verstehen/
LOCATION:Gemeinschaftsgarten am Hohlenstein\,\, Hohlenstein 34\, Deggenhausertal\, 88693
CATEGORIES:Begegnung,Bewusstsein,Fortbildung
ORGANIZER;CN="Verbindungskultur e.V.":MAILTO:verbindungskultur.verein@posteo.de
GEO:47.8051976;9.3675506
X-APPLE-STRUCTURED-LOCATION;VALUE=URI;X-ADDRESS=Gemeinschaftsgarten am Hohlenstein Hohlenstein 34 Deggenhausertal 88693;X-APPLE-RADIUS=500;X-TITLE=Hohlenstein 34:geo:9.3675506,47.8051976
END:VEVENT
BEGIN:VEVENT
DTSTART;TZID=Europe/Berlin:20220724T160000
DTEND;TZID=Europe/Berlin:20220724T180000
DTSTAMP:20260420T080350
CREATED:20220723T104825Z
LAST-MODIFIED:20220723T104825Z
UID:10000815-1658678400-1658685600@wirundjetzt.org
SUMMARY:Ohne Boden nix los! Lasst uns den Boden feiern... auf dem Weltacker!
DESCRIPTION:Liebe Weltacker-Freund:innen und alle neu Dazugekommenen! \nAm Sonntag vor den Sommerferien findet auf dem Überlinger Weltacker bei Andelshofen ein bunter Markt rund um das wichtige und spannende Thema Boden statt. Freut euch auf einen Nachmittag voller Erlebnis und Genuss!\nWir eröffnen das Feld der Möglichkeiten für einen nachhaltigen Umgang mit der Grundlage allen Lebens\, dem Boden. Wie der Boden\, so das\, was aus ihm wird: T-Shirt\, Waschmittel oder Mittagessen – all das hat seinen Ursprung in den Böden der Erde! Unternehmen und Initiativen zeigen uns\, wie wir zu ökologischen\, nachhaltigen und hochwertigen Produkten kommen. \n– Wie schmeckt Boden?\n– Kann ich durch meine Ernährung zum Klimaschutz beitragen?\n– Wem gehört der Boden?\n– Ist saubere Wäsche mit Humusaufbau zu verbinden?\n– Wie bunt ist ein Bodenbild?\n– Was lebt und wächst auf „meinen“ 2000m² Boden?\n– Was hat Bodenschutz mit Genuss zu tun? \nDiese und andere Fragen beantwortet der Überlinger Weltacker an diesem ereignisreichen Nachmittag: An Marktständen und in kleinen Workshops kann erlebt werden welchen Einfluss der Boden auf Produkte unseres Alltags hat und wie sich wiederum deren Herstellung auf den Boden auswirkt. \nZeitgleich zur Eröffnung aller Stände findet um 16.00 Uhr eine Führung über den Weltacker statt. \nEin Workshop der besonderen Art zum Thema „Gemüse-Fermentation“ findet um 17.00 Uhr statt (mit Anmeldung unter\ninfo@ueberlinger-weltacker.de \nNeben den kulinarischen und informativen Ständen gibt es ein durchlaufendes Mitmachangebot für Jung und Alt:\nMeine Hände und der Boden\, eine Acker-Rallye zur weltweiten Landwirtschaft und Mein globaler Handabdruck. \nZum Abschluss um 18.00 Uhr wird der Weltacker mit allen Besucher:innen in einem gemeinsamen Gespräch voller  infallsreichtum\, Inspiration und Freude Handlungsoptionen sammeln: „Wie kann ich in meinem Alltag zu gesunden Böden für alle in der Welt beitragen?“ \nFür das kulinarische Angebot mit Pizza\, Crêpes\, Kaffee und Getränken ist gesorgt. \nLasst uns den Boden feiern! \nWeitere Infos hier: www.ueberlinger-weltacker.de
URL:https://wirundjetzt.org/event/ohne-boden-nix-los-lasst-uns-den-boden-feiern-auf-dem-weltacker/
LOCATION:Überlinger Weltacker\, Zum Brandbühl\, Überlingen-Andelshofen\, 88662
GEO:47.7790533;9.1852731
X-APPLE-STRUCTURED-LOCATION;VALUE=URI;X-ADDRESS=Überlinger Weltacker Zum Brandbühl Überlingen-Andelshofen 88662;X-APPLE-RADIUS=500;X-TITLE=Zum Brandbühl:geo:9.1852731,47.7790533
END:VEVENT
END:VCALENDAR