BEGIN:VCALENDAR
VERSION:2.0
PRODID:-//»wirundjetzt« - ECPv6.15.17.1//NONSGML v1.0//EN
CALSCALE:GREGORIAN
METHOD:PUBLISH
X-ORIGINAL-URL:https://wirundjetzt.org
X-WR-CALDESC:Veranstaltungen für »wirundjetzt«
REFRESH-INTERVAL;VALUE=DURATION:PT1H
X-Robots-Tag:noindex
X-PUBLISHED-TTL:PT1H
BEGIN:VTIMEZONE
TZID:Europe/Berlin
BEGIN:DAYLIGHT
TZOFFSETFROM:+0100
TZOFFSETTO:+0200
TZNAME:CEST
DTSTART:20210328T010000
END:DAYLIGHT
BEGIN:STANDARD
TZOFFSETFROM:+0200
TZOFFSETTO:+0100
TZNAME:CET
DTSTART:20211031T010000
END:STANDARD
BEGIN:DAYLIGHT
TZOFFSETFROM:+0100
TZOFFSETTO:+0200
TZNAME:CEST
DTSTART:20220327T010000
END:DAYLIGHT
BEGIN:STANDARD
TZOFFSETFROM:+0200
TZOFFSETTO:+0100
TZNAME:CET
DTSTART:20221030T010000
END:STANDARD
BEGIN:DAYLIGHT
TZOFFSETFROM:+0100
TZOFFSETTO:+0200
TZNAME:CEST
DTSTART:20230326T010000
END:DAYLIGHT
BEGIN:STANDARD
TZOFFSETFROM:+0200
TZOFFSETTO:+0100
TZNAME:CET
DTSTART:20231029T010000
END:STANDARD
END:VTIMEZONE
BEGIN:VEVENT
DTSTART;TZID=Europe/Berlin:20220721T160000
DTEND;TZID=Europe/Berlin:20220721T190000
DTSTAMP:20260420T164933
CREATED:20220706T202546Z
LAST-MODIFIED:20220706T202546Z
UID:10000811-1658419200-1658430000@wirundjetzt.org
SUMMARY:Workshop - Tomatenpflege im Folientunnel
DESCRIPTION:Kulturpflege bei Tomaten – Anfängerkurs\n \n  \nIn unserem Folientunnel im Paradiesgarten in Lellwangen\, steht immer wieder auch die Tomatenpflege an. \nGemeinsam möchten wir mit euch schauen\, worauf es ankommt\, welche Technik ihr anwenden könnt und was Sinn macht in der Kulturpflege. \nDer Workshop wird euch Grundlagen geben und ihr könnt direkt mit einem Gärtner praktische Erfahrungen sammeln und euch austauschen. \nWir freuen uns auf euch und eure Anmeldung. \nAnmeldung bitte per Mail bei Simon Neitzel: \nsimon.neitzel@wirundjetzt.org \nDer Workshop ist Teil einer Veranstaltungsreihe\, wo wir das Wissen und Erfahrungen weiter geben möchten an Interessierte Gärtner*innen und Menschen\, die sich über das Thema austauschen möchten. \nWorkshopleitung: Valentin Wolkowa \nDer Workshop findet im Rahmen der Ökomodellregion Deggenhausertal statt\, ein Projekt von wirundjetzt e.V. und Verbindungskultur e.V. \nDas Ministerium ländlicher Raum (MLR) hat mit dem Förderprogramm Gemeinsam Schaffen das Projekt unterstützt. \nMehr Informationen zum Projekt hier:
URL:https://wirundjetzt.org/event/workshop-tomatenpflege-im-folientunnel/
LOCATION:Baden-Württemberg
CATEGORIES:Workshop,»wirundjetzt«-Veranstaltung
END:VEVENT
END:VCALENDAR