BEGIN:VCALENDAR
VERSION:2.0
PRODID:-//»wirundjetzt« - ECPv6.15.17.1//NONSGML v1.0//EN
CALSCALE:GREGORIAN
METHOD:PUBLISH
X-ORIGINAL-URL:https://wirundjetzt.org
X-WR-CALDESC:Veranstaltungen für »wirundjetzt«
REFRESH-INTERVAL;VALUE=DURATION:PT1H
X-Robots-Tag:noindex
X-PUBLISHED-TTL:PT1H
BEGIN:VTIMEZONE
TZID:Europe/Berlin
BEGIN:DAYLIGHT
TZOFFSETFROM:+0100
TZOFFSETTO:+0200
TZNAME:CEST
DTSTART:20210328T010000
END:DAYLIGHT
BEGIN:STANDARD
TZOFFSETFROM:+0200
TZOFFSETTO:+0100
TZNAME:CET
DTSTART:20211031T010000
END:STANDARD
BEGIN:DAYLIGHT
TZOFFSETFROM:+0100
TZOFFSETTO:+0200
TZNAME:CEST
DTSTART:20220327T010000
END:DAYLIGHT
BEGIN:STANDARD
TZOFFSETFROM:+0200
TZOFFSETTO:+0100
TZNAME:CET
DTSTART:20221030T010000
END:STANDARD
BEGIN:DAYLIGHT
TZOFFSETFROM:+0100
TZOFFSETTO:+0200
TZNAME:CEST
DTSTART:20230326T010000
END:DAYLIGHT
BEGIN:STANDARD
TZOFFSETFROM:+0200
TZOFFSETTO:+0100
TZNAME:CET
DTSTART:20231029T010000
END:STANDARD
END:VTIMEZONE
BEGIN:VEVENT
DTSTART;TZID=Europe/Berlin:20220719T130000
DTEND;TZID=Europe/Berlin:20220719T140000
DTSTAMP:20260420T080343
CREATED:20220708T143948Z
LAST-MODIFIED:20220708T144045Z
UID:10000798-1658235600-1658239200@wirundjetzt.org
SUMMARY:Hallo Quartier! Hallo Mengen und Scheer!
DESCRIPTION:„Hallo Quartier!“ ist ein Veranstaltungsformat im Rahmen des Förderprogramms „Quartiersimpulse“ der Allianz für Beteiligung und der Landesstrategie „Quartier 2030 – Gemeinsam.Gestalten.“ des Ministeriums für Soziales\, Gesundheit und Integration. Es geht darum\, einen Einblick in die geförderte Projekte zu erhalten\, sich auszutauschen und sich zu vernetzen. Eingeladen sind alle Personen aus dem Programm „Quartiersimpulse“ und Personen\, die sich für das Thema Quartier und Quartiersentwicklung interessieren. \nAm 19. Juli werfen wir einen Blick nach Mengen und Scheer: \nWorum geht’s? \nVier Teilgemeinden von Mengen sowie die Stadt Scheer mit ihrer Teilgemeinde Heudorf knüpfen an die Quartiersentwicklung im Mengener Teilort Blochingen an. In engem Zusammenwirken von Verwaltung\, Politik\, Zivilgesellschaft und Wirtschaft werden die Impulse aus Blochingen auf ihre Übertragbarkeit hin überprüft und auf die Bedarfe des jeweiligen Quartiers angepasst. Pro Quartier entstehen eigene Begegnungstreffs\, die am Ende zu einem interkommunalen Mehrgenerationenhaus zusammengefasst werden. Auf diese Weise werden für jedes Quartier passgenaue Lösungen entwickelt. Langfristiges Ziel ist die Anstellung einer interkommunal beauftragten MGH-Koordination\, die die unterschiedlichen Quartiere fachlich unterstützt und miteinander vernetzt.
URL:https://wirundjetzt.org/event/hallo-quartier-hallo-mengen-und-scheer/
LOCATION:online
CATEGORIES:Quartier
END:VEVENT
BEGIN:VEVENT
DTSTART;TZID=Europe/Berlin:20220719T173000
DTEND;TZID=Europe/Berlin:20220719T200000
DTSTAMP:20260420T080343
CREATED:20220507T103451Z
LAST-MODIFIED:20220507T103813Z
UID:10000797-1658251800-1658260800@wirundjetzt.org
SUMMARY:Jugend im Ländlichen Raum: Wir packen`s an!
DESCRIPTION:Jetzt reden wir! Die Online-Veranstaltungsreihe “Jugend im Ländlichen Raum” lädt zum Austausch ein \nIn der Veranstaltungsreihe “Jugend im Ländlichen Raum: Aufwachsen – Mitgestalten – Leben” werden die Ergebnisse der Studie Land sowie verschiedene konkrete Praxisbeispiele vorgestellt. Zudem besteht Raum zum Austausch. Gerade auch junge Leute haben hier die Möglichkeit\, ihre Stimme einzubringen.\nDie erste Veranstaltung mit Podiumsdiskussion am 28. April wurde von Minister Hauk eröffnet. Weitere Online-Termin am 24.05.2022\, 22.06.2022 und am 19.07.2022 behandeln die Schwerpunktthemen Lebensqualität\, Mobilität und Engagement.\nProgramm und Anmeldung zur Veranstaltungsreihe “Jugend im Ländlichen Raum: Aufwachsen – Mitgestalten – Leben”: https://alr-bw.de/pb/\,Lde/Startseite/Themen+und+Projekte/22_Jugendstudie
URL:https://wirundjetzt.org/event/jugend-im-laendlichen-raum-wir-packens-an/
LOCATION:online
CATEGORIES:online-meeting
ORGANIZER;CN="akademie l%C3%A4ndlicher raum":MAILTO:alr@lel.bwl.de
END:VEVENT
END:VCALENDAR