BEGIN:VCALENDAR
VERSION:2.0
PRODID:-//»wirundjetzt« - ECPv6.15.17.1//NONSGML v1.0//EN
CALSCALE:GREGORIAN
METHOD:PUBLISH
X-ORIGINAL-URL:https://wirundjetzt.org
X-WR-CALDESC:Veranstaltungen für »wirundjetzt«
REFRESH-INTERVAL;VALUE=DURATION:PT1H
X-Robots-Tag:noindex
X-PUBLISHED-TTL:PT1H
BEGIN:VTIMEZONE
TZID:Europe/Berlin
BEGIN:DAYLIGHT
TZOFFSETFROM:+0100
TZOFFSETTO:+0200
TZNAME:CEST
DTSTART:20210328T010000
END:DAYLIGHT
BEGIN:STANDARD
TZOFFSETFROM:+0200
TZOFFSETTO:+0100
TZNAME:CET
DTSTART:20211031T010000
END:STANDARD
BEGIN:DAYLIGHT
TZOFFSETFROM:+0100
TZOFFSETTO:+0200
TZNAME:CEST
DTSTART:20220327T010000
END:DAYLIGHT
BEGIN:STANDARD
TZOFFSETFROM:+0200
TZOFFSETTO:+0100
TZNAME:CET
DTSTART:20221030T010000
END:STANDARD
BEGIN:DAYLIGHT
TZOFFSETFROM:+0100
TZOFFSETTO:+0200
TZNAME:CEST
DTSTART:20230326T010000
END:DAYLIGHT
BEGIN:STANDARD
TZOFFSETFROM:+0200
TZOFFSETTO:+0100
TZNAME:CET
DTSTART:20231029T010000
END:STANDARD
END:VTIMEZONE
BEGIN:VEVENT
DTSTART;VALUE=DATE:20220708
DTEND;VALUE=DATE:20220716
DTSTAMP:20260420T094039
CREATED:20220320T195111Z
LAST-MODIFIED:20220711T123514Z
UID:10000771-1657238400-1657929599@wirundjetzt.org
SUMMARY:Gemeinschaftszeit- und Bauworkshop „Mandalabau“ auf dem Haslachhof
DESCRIPTION:Zusammen wird ein lebendiges Rundhaus mit freitragendem Dach hauptsächlich aus Rundhölzern gebaut. Micha Mai begleitet und leitet den Prozeß an und hat schon viele solcher Rundräuser in verschiedenen Gemeinschaften und Lern-Orten gebaut. Lernen\, Wirken\, Sein wird Raum bekommen in der Zeit der Gemeinschaft.\nNeben dem gemeinsamen Bauen kann Gemeinschaft gelebt werden\, es soll geteilt werden von Herzen; feiern\, tanzen\, trauern\, singen\, sitzen und kochen am Feuer wird stattfinden; den Tieren und dem Land wird begegnet.\nDie Kosten von ca. 490 € beinhalten Unterkunft und Vollpension – je nach TeilnehmerInnenzahl. Meldet euch wenn das ein Problem für euch ist\, es findet sich eine gemeinsame Lösung. \nAnmeldung und Infos: Katharina.philipp@wirundjetzt.org
URL:https://wirundjetzt.org/event/gemeinschaftszeit-und-bauworkshop-mandalabau-auf-dem-haslachhof/
LOCATION:Gemeinschaft Haslachhof\, Haslachhof 1\, Deggenhausertal
CATEGORIES:Workshop
END:VEVENT
BEGIN:VEVENT
DTSTART;TZID=Europe/Berlin:20220714T140000
DTEND;TZID=Europe/Berlin:20220717T140000
DTSTAMP:20260420T094039
CREATED:20220521T161155Z
LAST-MODIFIED:20220521T161155Z
UID:10000407-1657807200-1658066400@wirundjetzt.org
SUMMARY:Ins Herz der Dinge schauen - Spirituelle Naturverbindungsarbeit
DESCRIPTION:Seminarreihe in zwei Teilen\n​ \nIn unserem wunderschönen Seminarzentrum am Hohlenstein\, laden wir dich herzlich ein\, Dir mal Zeit zu nehmen für die wichtigen Fragen des Lebens. Lerne Dich selbst noch mal ganz neu kennen\, verlasse Deine Komfortzone und riskiere einen Blick in deine eigene Tiefe. \nTauche ein in die Essenz des einen Bewusstseins\, das Du bist\, und lerne dich über deine Ego-Fixierungen zu erheben\, um ein glückliches Leben in Frieden\, Selbstverantwortung und authentischer Liebe zu leben. \nLerne die menschliche und seelische Ebene zu versöhnen und lebe aus deiner eigenen Authentizität. \n  \nSeminar 1: \n\n\nSelbsterforschung nach Advaita-Vedanta und Zen\, der Erforschung der Non-Dualität des Seins \n\n\nErforschung der eigenen Ego-Fixierung nach dem spirituellen Enneagramm \n\n\nPraktische Wege zur Auflösung der selbstgeschaffenen Illusion \n\n\nKörpertherapeutische Arbeit \n\n\nBioenergetische Arbeit \n\n\nPraktische Wege im Alltag\, um Selbstverantwortung zu erlernen \n\n\nIntensive rituelle Erfahrungen \n\n\nNaturverbindung \n\n\nZurückholen und Heilen von verlorenen Seelenanteilen \n\n\nuvm. \n\n\n  \nSeminar 2: \nLeben bedeutet sich zu beziehen. Zum Beispiel auf andere Menschen und die nicht-menschliche Natur. Und wie können wir unsere Beziehungen gestalten\, dass sie unserem Wesen entsprechen\, tiefes Verstehen und Nähe schaffen\, das Herz nähren und Lebendigkeit schenken? Die Praxis des ‚Authentic Relating‘ ist dafür ein kraftvoller Weg. Sie bietet Übungen\, Spiele und eine klar ausgerichtete Haltung. Sie hat das Potential\, transformativ und heilend in unseren menschlichen Beziehungen zu wirken. In die intensiven\, öffnenden Übungen weben wir immer wieder intuitiven\, achtsamen Kontakt mit der Natur ein. Wir erfahren uns als lebendige Wesen unter vielen\, gehalten und geborgen im großen Fließen des Lebens. Verbindung zu uns selbst\, anderen und der nicht-menschlichen Natur ist eine einzige Bewegung. \n  \nDer Aufwand glücklich zu sein ist so groß\, wie der Aufwand unglücklich zu sein. Wofür entscheidest du dich? \n  \nnähere Informationen und Anmeldung unter folgendem Link: \nhttps://www.verbindungskultur-ev.de/insherzderdingeschauen \n                          \nOliver Karolius                             Arne Drews \nSeminarleitung                            Seminarleitung \n 
URL:https://wirundjetzt.org/event/ins-herz-der-dinge-schauen-spirituelle-naturverbindungsarbeit/
LOCATION:Gemeinschaftsgarten am Hohlenstein\,\, Hohlenstein 34\, Deggenhausertal\, 88693
CATEGORIES:Begegnung,Seminar,Wandel
ORGANIZER;CN="Verbindungskultur e.V.":MAILTO:verbindungskultur.verein@posteo.de
GEO:47.8051976;9.3675506
X-APPLE-STRUCTURED-LOCATION;VALUE=URI;X-ADDRESS=Gemeinschaftsgarten am Hohlenstein Hohlenstein 34 Deggenhausertal 88693;X-APPLE-RADIUS=500;X-TITLE=Hohlenstein 34:geo:9.3675506,47.8051976
END:VEVENT
BEGIN:VEVENT
DTSTART;TZID=Europe/Berlin:20220715T173000
DTEND;TZID=Europe/Berlin:20220715T213000
DTSTAMP:20260420T094039
CREATED:20220626T184025Z
LAST-MODIFIED:20220626T184025Z
UID:10000429-1657906200-1657920600@wirundjetzt.org
SUMMARY:WIR.Netzwerk: Exkursion mit Landmenü
DESCRIPTION:Seit 2016 geben Bio-Betriebe und -anbauer*innen bei den Exkursionen des WIR. Netzwerks immer wieder spannende Einblicke ins Hofleben\, ihre Arbeitsweise und saisonale Themen – von Apfelblüte bis Zucchiniernte. So erfahren WIR. aus erster Hand was alles hinter den regionalen Feldfrüchten und Erzeugnissen steckt. \nGemeinsam mit dem Slow Food Convivium Bodensee lädt die WIR.Exkursion zum zweiten Mal zur „Exkursion mit Landmenü“ ein\, bei der Begegnungen und Einblicke auf den Höfen genussvoll ergänzt werden durch ein anschließendes Landmenü – passend zum Exkursions-Thema. Dieses Jahr stellen sich der Hof Höllwangen und das Hofgut Brachenreuthe\, Überlingen vor. \nDer Menü-Preis beträgt 30 Euro/Person zuzügl. Weinbegleitung/Getränken\, Exkursion inklusive. Eine verbindliche Anmeldung ist erforderlich\, denn alles wird frisch zubereitet und die Teilnehmerzahl ist begrenzt. Anmeldungen gelten für die Exkursion samt Landmenü und werden in der Reihenfolge ihres Eingangs berücksichtigt. Anmeldeschluss ist Donnerstag\, der 7. Juli 2022.\nWeitere Informationen zu Programm und Anmeldung unter: \nExkursion mit Landmenü Bodensee Weiderind | WIR. Bio Power Bodensee\nund unter folgendem link: \nwww.wir-bodensee.bio/events/landmenue-weiderind/
URL:https://wirundjetzt.org/event/wir-netzwerk-exkursion-mit-landmenue/
LOCATION:Baden-Württemberg
CATEGORIES:Exkursion
END:VEVENT
BEGIN:VEVENT
DTSTART;TZID=Europe/Berlin:20220715T190000
DTEND;TZID=Europe/Berlin:20220715T203000
DTSTAMP:20260420T094039
CREATED:20211012T105707Z
LAST-MODIFIED:20241010T172512Z
UID:10001149-1657911600-1657917000@wirundjetzt.org
SUMMARY:Friedensfeuer - da wo du bist!
DESCRIPTION:Im Sommer waren wir mit Freunden am Bodensee und träumten über Orte der Begegnung und der Potentialentfaltung. \nDabei ist die Idee geboren\, immer am 15. eines jeden Monats ein Friedensfeuer zu entzünden – alleine\, mit Freunden\, mit der Familie\, mit dem Partner oder den Nachbarn… \nErster Termin war der 15.8.21  20.30 Uhr – für alle weiteren 15. eines Monats immer zum Zeitpunkt wenn es dunkel wird (die Sonnenuntergangszeit kann man im Internet jeweils nachlesen)\, ca. für eine Stunde! \nDie Rückmeldungen waren großartig und überwältigten uns. \nFreunde machten alleine ein Feuer\, mit Freunden\, mit der Familie\, oder mit wildfremden Menschen! \nEs gab die\, die mit einer Kerze im Wohnzimmer den Frieden feierten und andere\, die auf der Terrasse oder im freien unter dem Sternenhimmel ihr Friedensfeuer anzündeten und die Stille feierten. \nMenschen aus Portugal\, aus Stuttgart\, aus Karlsruhe\, am Bodensee\, am Ufer\, im Hinterland und wer weiß wo noch alles zündeten ein Feuer für den Frieden an und gingen in einen Dialog mit sich selbst\, der Natur oder ihren Liebsten. \nDafür sind wir sehr dankbar und freuen uns auf viele kleine und große Feuer. \n \nGanz egal wie und mit wem Du ein Friedensfeuer macht\, es ist wichtig einfach FRIEDEN zu SEIN. \nKein Feuer für den Frieden\, oder gegen Krieg – einfach nur Frieden sein. \nFeiert euch\, das Leben\, die Liebe\, die Erde und den Frieden. \nSingt gemeinsam Lieder\, geht in die Stille\, meditiert und betet\, lauscht der Natur\, teilt eure Gedanken und Geschichten\, genießt die Zeit allein oder gemeinsam und tragt so zum Verständnis und zum Mitgefühl der Erde bei. \nNatürlich kann es auch eine Kerze sein\, die Du in die Mitte stellst und mit Deinen Liebsten den Frieden feierst. \nEs gibt keinen Veranstalter\, keinen Verantwortlichen\, keine vorgegebenen Vorstellungen\, oder eine bestimmte religiöse oder spirituelle Richtung\, der das Friedensfeuer angehört oder der Du angehören musst\, um dieses Feuer zu machen. Es gilt es einfach nur zu tun\, wenn Du den Ruf dazu verspürst – entweder selber iniziierend oder wenn Du dazu eingeladen wirst. \nEntscheide selbst\, wo Du\, wie Du und mit wem Du ein Friedensfeuer machen willst. \nGestalte den Abend und das Feuer so\, wie Du und Dein Herz es gestalten möchten. \nMit herzlichen Grüßen \nSarina und Simon
URL:https://wirundjetzt.org/event/friedensfeuer-da-wo-du-bist/2022-07-15/
LOCATION:Baden-Württemberg
CATEGORIES:Aktionen,Bewusstsein,Dialog,gemeinschaft
END:VEVENT
END:VCALENDAR