BEGIN:VCALENDAR
VERSION:2.0
PRODID:-//»wirundjetzt« - ECPv6.15.17.1//NONSGML v1.0//EN
CALSCALE:GREGORIAN
METHOD:PUBLISH
X-ORIGINAL-URL:https://wirundjetzt.org
X-WR-CALDESC:Veranstaltungen für »wirundjetzt«
REFRESH-INTERVAL;VALUE=DURATION:PT1H
X-Robots-Tag:noindex
X-PUBLISHED-TTL:PT1H
BEGIN:VTIMEZONE
TZID:Europe/Berlin
BEGIN:DAYLIGHT
TZOFFSETFROM:+0100
TZOFFSETTO:+0200
TZNAME:CEST
DTSTART:20210328T010000
END:DAYLIGHT
BEGIN:STANDARD
TZOFFSETFROM:+0200
TZOFFSETTO:+0100
TZNAME:CET
DTSTART:20211031T010000
END:STANDARD
BEGIN:DAYLIGHT
TZOFFSETFROM:+0100
TZOFFSETTO:+0200
TZNAME:CEST
DTSTART:20220327T010000
END:DAYLIGHT
BEGIN:STANDARD
TZOFFSETFROM:+0200
TZOFFSETTO:+0100
TZNAME:CET
DTSTART:20221030T010000
END:STANDARD
BEGIN:DAYLIGHT
TZOFFSETFROM:+0100
TZOFFSETTO:+0200
TZNAME:CEST
DTSTART:20230326T010000
END:DAYLIGHT
BEGIN:STANDARD
TZOFFSETFROM:+0200
TZOFFSETTO:+0100
TZNAME:CET
DTSTART:20231029T010000
END:STANDARD
END:VTIMEZONE
BEGIN:VEVENT
DTSTART;TZID=Europe/Berlin:20220706T130000
DTEND;TZID=Europe/Berlin:20220706T170000
DTSTAMP:20260420T080404
CREATED:20220702T100503Z
LAST-MODIFIED:20220702T100604Z
UID:10000806-1657112400-1657126800@wirundjetzt.org
SUMMARY:Hochschultag für nachhaltige Entwicklung 2022
DESCRIPTION:Unter dem Titel „Hochschultag für nachhaltige Entwicklung“ (ehemals Entwicklungspolitischer Hochschultag) versammeln sich die Hochschulen des Landes Baden-Württemberg\, um in einen interdisziplinären Austausch über die internationale Entwicklungspolitik zu treten. \nDie Universität Hohenheim freut sich\, Sie zu dieser Präsenzveranstaltung in das Schloss Hohenheim einzuladen. Als führende Universität in den Agrarwissenschaften legen wir dabei einen besonderen Schwerpunkt auf das SDG 2: Ernährungssicherheit und nachhaltige Landwirtschaft mit Bezug auf Afrika.\nImpulsvorträge zur nachhaltigen Entwicklung sollen die akademischen Perspektiven innerhalb Baden-Württembergs im aktuell anschwellenden Diskurs um Ernährungssicherheit und nachhaltige Landwirtschaft unterstreichen. Darüber hinaus werden die Potenziale für nachhaltige Entwicklung in den verschiedenen Bereichen der Hochschulen interaktiv beleuchtet.\nDiese Zusammenkunft verschiedenster Akteur_innen der internationalen Zusammenarbeit bietet eine einmalige Möglichkeit zur interdisziplinären Vernetzung.\n\nEine Anmeldung ist notwendig. \nWeitere Informationen zur Veranstaltung und Anmeldung finden Sie hier. \nVeranstaltungsort:\nUniversität Hohenheim\, Schloss Hohenheim 1\, 70599 Stuttgart \nVeranstaltende Einrichtung:\nHohenheim Research Center for Global Food Security and Ecosystems / Hans Ruthenberg Institute \n06.07.2022\, 13:00 – 17:00 Uhr
URL:https://wirundjetzt.org/event/hochschultag-fuer-nachhaltige-entwicklung-2022/
LOCATION:Universität Hohenheim\, Schloss Hohenheim 1\, Stuttgart\, 70599
CATEGORIES:Austausch
END:VEVENT
END:VCALENDAR