BEGIN:VCALENDAR
VERSION:2.0
PRODID:-//»wirundjetzt« - ECPv6.15.17.1//NONSGML v1.0//EN
CALSCALE:GREGORIAN
METHOD:PUBLISH
X-ORIGINAL-URL:https://wirundjetzt.org
X-WR-CALDESC:Veranstaltungen für »wirundjetzt«
REFRESH-INTERVAL;VALUE=DURATION:PT1H
X-Robots-Tag:noindex
X-PUBLISHED-TTL:PT1H
BEGIN:VTIMEZONE
TZID:Europe/Berlin
BEGIN:DAYLIGHT
TZOFFSETFROM:+0100
TZOFFSETTO:+0200
TZNAME:CEST
DTSTART:20210328T010000
END:DAYLIGHT
BEGIN:STANDARD
TZOFFSETFROM:+0200
TZOFFSETTO:+0100
TZNAME:CET
DTSTART:20211031T010000
END:STANDARD
BEGIN:DAYLIGHT
TZOFFSETFROM:+0100
TZOFFSETTO:+0200
TZNAME:CEST
DTSTART:20220327T010000
END:DAYLIGHT
BEGIN:STANDARD
TZOFFSETFROM:+0200
TZOFFSETTO:+0100
TZNAME:CET
DTSTART:20221030T010000
END:STANDARD
BEGIN:DAYLIGHT
TZOFFSETFROM:+0100
TZOFFSETTO:+0200
TZNAME:CEST
DTSTART:20230326T010000
END:DAYLIGHT
BEGIN:STANDARD
TZOFFSETFROM:+0200
TZOFFSETTO:+0100
TZNAME:CET
DTSTART:20231029T010000
END:STANDARD
END:VTIMEZONE
BEGIN:VEVENT
DTSTART;TZID=Europe/Berlin:20220620T190000
DTEND;TZID=Europe/Berlin:20220620T210000
DTSTAMP:20260420T094126
CREATED:20220212T103917Z
LAST-MODIFIED:20220222T173209Z
UID:10000379-1655751600-1655758800@wirundjetzt.org
SUMMARY:wirundjetzt Jour fix Juni 2022
DESCRIPTION:Struktur Abend von wirundjetzt – Weiterentwicklung und Informationen. \nWir laden zum gemeinsamen Austausch ein. \nAgenda: \nCheck In\nRückblick und Vorschau von wir und jetzt\nAktuelles von Projekten und Initiativen\nCheck Out \nZoom-Meeting beitreten\nhttps://us02web.zoom.us/j/81060978329?pwd=eVdEcmpEWG5naHZybUlUcVpuNnZuUT09 \nMeeting-ID: 810 6097 8329\nKenncode: 006615\nEinwahl nach aktuellem Standort\n        +49 69 3807 9884 Deutschland\nOrtseinwahl suchen: https://us02web.zoom.us/u/kcwktK1MuX
URL:https://wirundjetzt.org/event/wirundjetzt-jour-fix-juni-2022/
LOCATION:Baden-Württemberg
END:VEVENT
END:VCALENDAR