BEGIN:VCALENDAR
VERSION:2.0
PRODID:-//»wirundjetzt« - ECPv6.15.17.1//NONSGML v1.0//EN
CALSCALE:GREGORIAN
METHOD:PUBLISH
X-WR-CALNAME:»wirundjetzt«
X-ORIGINAL-URL:https://wirundjetzt.org
X-WR-CALDESC:Veranstaltungen für »wirundjetzt«
REFRESH-INTERVAL;VALUE=DURATION:PT1H
X-Robots-Tag:noindex
X-PUBLISHED-TTL:PT1H
BEGIN:VTIMEZONE
TZID:Europe/Berlin
BEGIN:DAYLIGHT
TZOFFSETFROM:+0100
TZOFFSETTO:+0200
TZNAME:CEST
DTSTART:20210328T010000
END:DAYLIGHT
BEGIN:STANDARD
TZOFFSETFROM:+0200
TZOFFSETTO:+0100
TZNAME:CET
DTSTART:20211031T010000
END:STANDARD
BEGIN:DAYLIGHT
TZOFFSETFROM:+0100
TZOFFSETTO:+0200
TZNAME:CEST
DTSTART:20220327T010000
END:DAYLIGHT
BEGIN:STANDARD
TZOFFSETFROM:+0200
TZOFFSETTO:+0100
TZNAME:CET
DTSTART:20221030T010000
END:STANDARD
BEGIN:DAYLIGHT
TZOFFSETFROM:+0100
TZOFFSETTO:+0200
TZNAME:CEST
DTSTART:20230326T010000
END:DAYLIGHT
BEGIN:STANDARD
TZOFFSETFROM:+0200
TZOFFSETTO:+0100
TZNAME:CET
DTSTART:20231029T010000
END:STANDARD
END:VTIMEZONE
BEGIN:VEVENT
DTSTART;VALUE=DATE:20220428
DTEND;VALUE=DATE:20220519
DTSTAMP:20260420T062455
CREATED:20220310T213401Z
LAST-MODIFIED:20220310T213401Z
UID:10000773-1651104000-1652918399@wirundjetzt.org
SUMMARY:Kollektives Trauma und Demokratie
DESCRIPTION:Ein dreitägier Workshop mit Thomas Hübl um Polarisierung in Krisen zu überwinden.\n\n\n\nIn einer Online-Kooperationsveranstaltung mit dem Pocket Projekt\, an der bis zu 500 Menschen teilnehmen können\, soll versucht werden\, Traumata\, die kollektiv wirken\, zu erkennen und zu bearbeiten. Der Prozess wird wissenschaftlich vom Institut für transformative Nachhaltigkeitsforschung (IASS) und dem Institut für integrale Studien (IFIS) begleitet und ausgewertet. \nJeder von uns reagiert anders in Krisen\, je nachdem welche Erfahrungen wir in der Vergangenheit gemacht haben\, was unsere Vorfahren erlebten oder welche Geschichte auf unserem Land liegt. Wir reagieren abhängig davon\, wie sehr uns diese Erfahrungen überfordert oder gar überwältigt haben. Niemand ist frei von solchen Erlebnissen und sie beeinflussen letztlich auch unser politisches Denken und Handeln.\nVermutlich spielen Traumata in der Politik eine größere Rolle als uns bewusst ist. Der ehemalige deutsche Botschafter Rüdiger von Fritsch\, der viele Jahre in Russland gelebt hat\, weist sogar auf die Einflüsse von Traumata ganzer Nationen hin.\n(Ab Minute 28:33 Uhr: https://www.zdf.de/phoenix/phoenix-persoenlich/phoenix-phoenix-persoenlich-mit-ruediger-von-fritsch-100.html) \nWie erkennen wir Einflüsse von Traumata? Wie wirken Traumata in uns? Und gibt es gar so etwas wie kollektive traumatische Strukturen? Wenn ja\, wie können wir mit ihnen umgehen? Wie sehr beeinflussen sie uns und politisches Handeln? \nDiese Forschungsfragen verfolgt auch Mehr Demokratie. Herauszufinden gilt\, welche Faktoren die Demokratie stabilisieren und wie wir die ganze Vielfalt der Gesellschaft konstruktiv integrieren können. \n\n\nMehr Informationen und Anmeldung unter \nhttps://pocketproject.org/collective-trauma-democracy/ \n\n\nEine kostenlose Auftaktveranstaltung zu dem Workshop findet mit einem Gespräch zwischen Claudine Nierth & Thomas Hübl am 11. April 2022 von 20:00 Uhr bis 21:30 Uhr statt. \n\n\n\n\n 
URL:https://wirundjetzt.org/event/kollektives-trauma-und-demokratie/
LOCATION:Baden-Württemberg
CATEGORIES:Workshop
END:VEVENT
BEGIN:VEVENT
DTSTART;TZID=Europe/Berlin:20220507T100000
DTEND;TZID=Europe/Berlin:20220507T140000
DTSTAMP:20260420T062455
CREATED:20220224T181933Z
LAST-MODIFIED:20220224T190504Z
UID:10000770-1651917600-1651932000@wirundjetzt.org
SUMMARY:Friedensmarkt in Weingarten
DESCRIPTION:Frieden ist eine der großen globalen wie lokal-nationalen Herausforderungen der kommenden Jahre.  \nDaher stellen wir uns in einer dreitägigen Fachtagung der Frage „Wie geht Frieden?“\, dabei wollen wir nicht nur in theoretischen Perspektiven und Diskussionen verharren\, sondern in einen großen Markt der Möglichkeiten münden\, um praktische Ansätze als Antwort aufzuzeigen.  \nSo geht Frieden!\nHier gehts zur Einladung EINLADUNG FRIEDENSMARKT\n \nInitiativen sollen Raum bekommen\, sich und ihre Arbeit mit einem Stand oder Workshop zu präsentieren\, mit AkteurInnen der Region zu vernetzen\, gemeinsam an Handlungsansätzen zu arbeiten und in gelöster Stimmung das Zusammenkommen und gute Gespräche zu genießen.  \nDaher laden wir herzlich ein zum großen\, öffentlichen Friedensmarkt mit Rahmenprogramm am 07. Mai 2022 von 10-14 Uhr in der Akademie Weingarten.  \nAnmeldung für Initiativen unter folgendem Link: https://survey.lamapoll.de/Anmeldung_Friedensmarkt \nWir bitten um eine kurze Beschreibung des Standes und/ oder der Workshopidee. Dies dient lediglich zur ersten Einordnung der Beiträge und muss kein ausgearbeitetes\, endgültiges Konzept sein. Die Infos zur dreitägigen Fachtagung finden Sie hier. (Diese werden noch aktualisiert) \nWir freuen uns auf Ihre Teilnahme und bedanken uns für die Weiterleitung innerhalb Ihrer Netzwerke.
URL:https://wirundjetzt.org/event/friedensmarkt-in-weingarten/
LOCATION:Akademie Weingarten\, Kirchplatz 7\, Weingarten\, 88250
CATEGORIES:Vernetzungstreffen,Vortrag
ATTACH;FMTTYPE=image/png:https://wirundjetzt.org/wp-content/uploads/2022/02/friedensmarkt.png
GEO:47.8091959;9.6446303
X-APPLE-STRUCTURED-LOCATION;VALUE=URI;X-ADDRESS=Akademie Weingarten Kirchplatz 7 Weingarten 88250;X-APPLE-RADIUS=500;X-TITLE=Kirchplatz 7:geo:9.6446303,47.8091959
END:VEVENT
BEGIN:VEVENT
DTSTART;TZID=Europe/Berlin:20220507T100000
DTEND;TZID=Europe/Berlin:20220507T140000
DTSTAMP:20260420T062455
CREATED:20220404T070701Z
LAST-MODIFIED:20220404T070701Z
UID:10000793-1651917600-1651932000@wirundjetzt.org
SUMMARY:Pflänzle-Tausch auf dem Schlemmermarkt in FN
DESCRIPTION:Ob Schreber- oder Hausgarten\, ob Balkon oder Terrasse – gärtnernde Menschen kennen das Phänomen: Im Frühjahr hat man zu viele Salatpflanzen gezogen\, während die Mangoldsamen nicht aufgegangen sind\, im Herbst sammelt man jede Menge Stockrosensamen\, während die Ringelblumen nichts hergeben. Daher organisiert die Solawi Bodensee e.V. am 7. Mai 2022 wieder einen Pflanzentausch zwischen 10:00 und 14:00 auf dem Schlemmermarkt \nGetauscht werden kann alles an Setzlingen und Saatgut\, was an diesem Tag vorbeigebracht wird. Wer nichts mitbringt\, kann gegen eine kleine Spende dennoch das Töpfchen der Begierde mitnehmen. Zudem kann man sich über die Solidarische Landwirtschaft informieren sowie Saatgut für bienenfreundliche Pflanzen erhalten.
URL:https://wirundjetzt.org/event/pflaenzle-tausch-auf-dem-schlemmermarkt-in-fn/
LOCATION:Baden-Württemberg
CATEGORIES:Ökologie,Permakultur,Tauschtreffen
ORGANIZER;CN="Solawi Bodensee e.V.":MAILTO:klimagespraech@solawi-bodensee.de
END:VEVENT
BEGIN:VEVENT
DTSTART;TZID=Europe/Berlin:20220507T100000
DTEND;TZID=Europe/Berlin:20220507T160000
DTSTAMP:20260420T062455
CREATED:20220401T092831Z
LAST-MODIFIED:20220401T092831Z
UID:10000789-1651917600-1651939200@wirundjetzt.org
SUMMARY:Natur rund ums Haus
DESCRIPTION:Wir Menschen beanspruchen viel Raum in unserer Umwelt. Wie kann es gelingen\, Pflanzen und Tieren im Siedlungsbereich einen Lebensraum zu schaffen? Einige Praxisbeispiele vor Ort werden besprochen und zum Schluss ein Kompost eingerichtet. Bitte ein Rucksackvesper mitbringen.\nIn der Fortbildungsreihe geht es um das aktive Erpro-ben unterschiedlicher Übungen und Spiele aus der Natur-\, Umwelt- und Erlebnispädagogik. Das Jahres-thema 2022 ist „Artenvielfalt vor der Haustüre – Erkennen\, Vermitteln\, Schützen“. Zum Faltblatt:\nTermin: Sa\, 07.05.\, 10:00-16:00 Uhr\nOrt: Naturschutzzentrum Wilhelmsdorf\nReferentin: Margit Ackermann\nAnmeldung: BUND-Naturschutzzentrum\nLeonhardstraße 1\, 88212 Ravensburg\nmanuel.schiffer@bund.net
URL:https://wirundjetzt.org/event/natur-rund-ums-haus/
LOCATION:Naturschutzzentrum Wilhelmsdorf\, Riedweg 3\, Wilhelmsdorf\, Baden-Württemberg\, 88271\, Deutschland
CATEGORIES:Fortbildung
GEO:47.8721955;9.4258988
X-APPLE-STRUCTURED-LOCATION;VALUE=URI;X-ADDRESS=Naturschutzzentrum Wilhelmsdorf Riedweg 3 Wilhelmsdorf Baden-Württemberg 88271 Deutschland;X-APPLE-RADIUS=500;X-TITLE=Riedweg 3:geo:9.4258988,47.8721955
END:VEVENT
END:VCALENDAR