BEGIN:VCALENDAR
VERSION:2.0
PRODID:-//»wirundjetzt« - ECPv6.15.17.1//NONSGML v1.0//EN
CALSCALE:GREGORIAN
METHOD:PUBLISH
X-ORIGINAL-URL:https://wirundjetzt.org
X-WR-CALDESC:Veranstaltungen für »wirundjetzt«
REFRESH-INTERVAL;VALUE=DURATION:PT1H
X-Robots-Tag:noindex
X-PUBLISHED-TTL:PT1H
BEGIN:VTIMEZONE
TZID:Europe/Berlin
BEGIN:DAYLIGHT
TZOFFSETFROM:+0100
TZOFFSETTO:+0200
TZNAME:CEST
DTSTART:20180325T010000
END:DAYLIGHT
BEGIN:STANDARD
TZOFFSETFROM:+0200
TZOFFSETTO:+0100
TZNAME:CET
DTSTART:20181028T010000
END:STANDARD
BEGIN:DAYLIGHT
TZOFFSETFROM:+0100
TZOFFSETTO:+0200
TZNAME:CEST
DTSTART:20190331T010000
END:DAYLIGHT
BEGIN:STANDARD
TZOFFSETFROM:+0200
TZOFFSETTO:+0100
TZNAME:CET
DTSTART:20191027T010000
END:STANDARD
BEGIN:DAYLIGHT
TZOFFSETFROM:+0100
TZOFFSETTO:+0200
TZNAME:CEST
DTSTART:20200329T010000
END:DAYLIGHT
BEGIN:STANDARD
TZOFFSETFROM:+0200
TZOFFSETTO:+0100
TZNAME:CET
DTSTART:20201025T010000
END:STANDARD
END:VTIMEZONE
BEGIN:VEVENT
DTSTART;VALUE=DATE:20190513
DTEND;VALUE=DATE:20190520
DTSTAMP:20260419T153610
CREATED:20190221T220130Z
LAST-MODIFIED:20190221T220130Z
UID:10000436-1557705600-1558310399@wirundjetzt.org
SUMMARY:1. Sulzbrunner Symposium "Rebell*innen des Friedens" - Sulzberg/Allgäu
DESCRIPTION:
URL:https://wirundjetzt.org/event/1-sulzbrunner-symposium-rebellinnen-des-friedens-sulzberg-allgaeu/
LOCATION:Baden-Württemberg
END:VEVENT
BEGIN:VEVENT
DTSTART;TZID=Europe/Berlin:20190515T190000
DTEND;TZID=Europe/Berlin:20190515T200000
DTSTAMP:20260419T153610
CREATED:20190310T142928Z
LAST-MODIFIED:20190310T142928Z
UID:10000111-1557946800-1557950400@wirundjetzt.org
SUMMARY:Tauschen am Bodensee - Regionaltreffen Bambergen
DESCRIPTION:Der Tauschring bietet Ihnen eine Plattform zum Austausch von Dienstleistungen und Waren.\nDer Tausch wird ohne gesetzliche Zahlungsmittel durchgeführt\, jedoch auf entsprechenden Konten transparent dokumentiert.\nDie Verrechnungseinheit ist ein Talent.\nMitglieder sind Menschen aller Altersklassen und Gesellschaftsschichten.\nDer Tauschring Tauschen am See basiert auf:\n \n\ngelebter Menschlichkeit\, Freundschafts- und Nachbarschaftshilfe\nUnterstützung im Alltag\, Ausbildung\, Gemeinschaft\, Gesundheit\, Erziehung\, bei Umzügen\, Renovierungen und vielem mehr\neiner Gemeinschaft von Menschen\, Organisationen\, Institutionen und Unternehmen\, dielokale Nachbarschaftshilfe fördern.   
URL:https://wirundjetzt.org/event/tauschen-am-bodensee-regionaltreffen-tettnang-2-2-2/
LOCATION:Baden-Württemberg
END:VEVENT
END:VCALENDAR