BEGIN:VCALENDAR
VERSION:2.0
PRODID:-//»wirundjetzt« - ECPv6.15.17.1//NONSGML v1.0//EN
CALSCALE:GREGORIAN
METHOD:PUBLISH
X-WR-CALNAME:»wirundjetzt«
X-ORIGINAL-URL:https://wirundjetzt.org
X-WR-CALDESC:Veranstaltungen für »wirundjetzt«
REFRESH-INTERVAL;VALUE=DURATION:PT1H
X-Robots-Tag:noindex
X-PUBLISHED-TTL:PT1H
BEGIN:VTIMEZONE
TZID:Europe/Berlin
BEGIN:DAYLIGHT
TZOFFSETFROM:+0100
TZOFFSETTO:+0200
TZNAME:CEST
DTSTART:20180325T010000
END:DAYLIGHT
BEGIN:STANDARD
TZOFFSETFROM:+0200
TZOFFSETTO:+0100
TZNAME:CET
DTSTART:20181028T010000
END:STANDARD
BEGIN:DAYLIGHT
TZOFFSETFROM:+0100
TZOFFSETTO:+0200
TZNAME:CEST
DTSTART:20190331T010000
END:DAYLIGHT
BEGIN:STANDARD
TZOFFSETFROM:+0200
TZOFFSETTO:+0100
TZNAME:CET
DTSTART:20191027T010000
END:STANDARD
BEGIN:DAYLIGHT
TZOFFSETFROM:+0100
TZOFFSETTO:+0200
TZNAME:CEST
DTSTART:20200329T010000
END:DAYLIGHT
BEGIN:STANDARD
TZOFFSETFROM:+0200
TZOFFSETTO:+0100
TZNAME:CET
DTSTART:20201025T010000
END:STANDARD
END:VTIMEZONE
BEGIN:VEVENT
DTSTART;TZID=Europe/Berlin:20190204T170000
DTEND;TZID=Europe/Berlin:20190204T210000
DTSTAMP:20260420T225824
CREATED:20190127T161621Z
LAST-MODIFIED:20190127T161839Z
UID:10000430-1549299600-1549314000@wirundjetzt.org
SUMMARY:wirundjetzt - erreichBar
DESCRIPTION:Von 19.00 Uhr bis 21.00 Uhr wollen wir mit euch zusammen planen\, Ideen schmieden und Projekte umsetzen. Wir wollen regelmäßig zusammen sein und konkret an den Projekten und Ideen Arbeiten und uns austauschen. Dazu laden wir euch herzlich ein.
URL:https://wirundjetzt.org/event/wirundjetzt-erreichbar/
LOCATION:Sedat\, Rathausplatz 3\, Bermatingen\, Deutschland
GEO:47.7295086;9.3495026
X-APPLE-STRUCTURED-LOCATION;VALUE=URI;X-ADDRESS=Sedat Rathausplatz 3 Bermatingen Deutschland;X-APPLE-RADIUS=500;X-TITLE=Rathausplatz 3:geo:9.3495026,47.7295086
END:VEVENT
END:VCALENDAR