BEGIN:VCALENDAR
VERSION:2.0
PRODID:-//»wirundjetzt« - ECPv6.15.17.1//NONSGML v1.0//EN
CALSCALE:GREGORIAN
METHOD:PUBLISH
X-WR-CALNAME:»wirundjetzt«
X-ORIGINAL-URL:https://wirundjetzt.org
X-WR-CALDESC:Veranstaltungen für »wirundjetzt«
REFRESH-INTERVAL;VALUE=DURATION:PT1H
X-Robots-Tag:noindex
X-PUBLISHED-TTL:PT1H
BEGIN:VTIMEZONE
TZID:Europe/Berlin
BEGIN:DAYLIGHT
TZOFFSETFROM:+0100
TZOFFSETTO:+0200
TZNAME:CEST
DTSTART:20180325T010000
END:DAYLIGHT
BEGIN:STANDARD
TZOFFSETFROM:+0200
TZOFFSETTO:+0100
TZNAME:CET
DTSTART:20181028T010000
END:STANDARD
BEGIN:DAYLIGHT
TZOFFSETFROM:+0100
TZOFFSETTO:+0200
TZNAME:CEST
DTSTART:20190331T010000
END:DAYLIGHT
BEGIN:STANDARD
TZOFFSETFROM:+0200
TZOFFSETTO:+0100
TZNAME:CET
DTSTART:20191027T010000
END:STANDARD
BEGIN:DAYLIGHT
TZOFFSETFROM:+0100
TZOFFSETTO:+0200
TZNAME:CEST
DTSTART:20200329T010000
END:DAYLIGHT
BEGIN:STANDARD
TZOFFSETFROM:+0200
TZOFFSETTO:+0100
TZNAME:CET
DTSTART:20201025T010000
END:STANDARD
END:VTIMEZONE
BEGIN:VEVENT
DTSTART;TZID=Europe/Berlin:20190105T123000
DTEND;TZID=Europe/Berlin:20190105T133000
DTSTAMP:20260420T225818
CREATED:20181223T134225Z
LAST-MODIFIED:20181223T134225Z
UID:10000091-1546691400-1546695000@wirundjetzt.org
SUMMARY:Vernetzungstreffen Bildung für nachhaltige Entwicklung
DESCRIPTION:Dir sind die SDG´s ein Begriff\, und sie sind Dir wichtig? Du hast mit Bildung zu tun\, d.h. Du vermittelst Werte oder Bildungsinhalte an Kinder oder Jugendliche? Dann bist Du hier richtig! \nSie arbeiten im Bildungsbereich\, im Naturschutz oder mit erneuerbaren Energien\, aber ebenso mit kleinen oder größeren Schützlingen\, denen Sie etwas zeigen oder nahe bringen? Sie finden nachhaltige Bildung und insbesondere zukunftsfähige Bildung wichtig und vermissen Sie häufig im schulischen Kontext? Dann sind Sie hier richtig! \nSie arbeiten bspw. interkulturell oder inklusiv oder beides\, Sie berücksichtigen Minderheiten und menschliche Besonderheiten\, und sind dennoch der Meinung\, auch hier Teilhabe möglich und notwendig. Dann sind Sie hier richtig! \nWir möchten mit diesem kurzen Treffen anregen\, dass sich die Bildungsträger im Natur- und Umweltbereich besser vernetzen\, Strukturen aufbauen und letztlich Qualitätsstandards festlegen\, die Bildung für nachhaltige Entwicklung ausmachen. Als Beispiel mag dafür das Münchner Ökoprojekt MobilSpiel e.V. gelten. Wir wagen uns hier mal für Baden-Württemberg voraus und machen den ersten Schritt! \nDie Naturschule Region Bodensee bildet seit 13 Jahren Naturpädagogen aus\, seit 5 Jahren mit einer Einheit BNE im Ausbildungskanon\, weil sie zunehmend an Bedeutung gewinnt. Wir sind gut vernetzt mit den Umweltorganisationen Bund und Nabu vor Ort (Konstanz – Radolfzell). Die Naturschule hat einen Stand im Foyer während der Naturschutztage.
URL:https://wirundjetzt.org/event/vernetzungstreffen-bildung-fuer-nachhaltige-entwicklung/
LOCATION:Baden-Württemberg
END:VEVENT
END:VCALENDAR