BEGIN:VCALENDAR
VERSION:2.0
PRODID:-//»wirundjetzt« - ECPv6.15.17.1//NONSGML v1.0//EN
CALSCALE:GREGORIAN
METHOD:PUBLISH
X-WR-CALNAME:»wirundjetzt«
X-ORIGINAL-URL:https://wirundjetzt.org
X-WR-CALDESC:Veranstaltungen für »wirundjetzt«
REFRESH-INTERVAL;VALUE=DURATION:PT1H
X-Robots-Tag:noindex
X-PUBLISHED-TTL:PT1H
BEGIN:VTIMEZONE
TZID:Europe/Berlin
BEGIN:DAYLIGHT
TZOFFSETFROM:+0100
TZOFFSETTO:+0200
TZNAME:CEST
DTSTART:20170326T010000
END:DAYLIGHT
BEGIN:STANDARD
TZOFFSETFROM:+0200
TZOFFSETTO:+0100
TZNAME:CET
DTSTART:20171029T010000
END:STANDARD
BEGIN:DAYLIGHT
TZOFFSETFROM:+0100
TZOFFSETTO:+0200
TZNAME:CEST
DTSTART:20180325T010000
END:DAYLIGHT
BEGIN:STANDARD
TZOFFSETFROM:+0200
TZOFFSETTO:+0100
TZNAME:CET
DTSTART:20181028T010000
END:STANDARD
BEGIN:DAYLIGHT
TZOFFSETFROM:+0100
TZOFFSETTO:+0200
TZNAME:CEST
DTSTART:20190331T010000
END:DAYLIGHT
BEGIN:STANDARD
TZOFFSETFROM:+0200
TZOFFSETTO:+0100
TZNAME:CET
DTSTART:20191027T010000
END:STANDARD
END:VTIMEZONE
BEGIN:VEVENT
DTSTART;VALUE=DATE:20181122
DTEND;VALUE=DATE:20181124
DTSTAMP:20260421T191005
CREATED:20180910T163702Z
LAST-MODIFIED:20180910T163702Z
UID:10000537-1542844800-1543017599@wirundjetzt.org
SUMMARY:Werte schaffen – Regionen stärken
DESCRIPTION:Konferenz der gentechnikfreien Regionen am Bodensee\n\n\n\n\nund 23. November 2018 im Bildungshaus St. Arbogast in 6840 Götzis/Vbg\n\nWERTE SCHAFFEN – REGIONEN STÄRKEN  \n\n Konferenz der gentechnikfreien Regionen am Bodensee\n\nDa das Thema Neue Gentechnik bereits im Vorfeld intensiv bearbeitet wird (Workshops der IG Saatgut und Gentechnik-Forum der Fa. Rapunzel) wollen wir die diesjährige Konferenz ganz auf folgende Leitfragen ausrichten: \nWie kommen wir zu einem neuen Miteinander von Landwirtschaft und Gesellschaft? Zu einem Miteinander\, das langfristig die Existenzgrundlage der bäuerlichen Landwirtschaft sicherstellt\, regional nachhaltige Wertschöpfungsprozesse initiiert\, die Gesundheit der Menschen fördert und die Ökosysteme stabilisiert. Wie kommen wir zu mehr Wertschätzung? Wie kommen wir zum gerechten Preis? Wie lässt sich Nachhaltigkeit messen? Wie lässt sich das umsetzen? Auf welchen Erfahrungen können wir dabei aufbauen? \nSiehe dazu auch das kurze Video von Martin Ott auf: https://svizra-agricultura.ch//    \nHochkarätige ReferentInnen\, excellente Praxisbeispiele sowie die breite Zusammensetzung der TeilnehmerInnen und Mitwirkenden garantieren wieder eine spannende und fruchtbringende Konferenz.Wir freuen uns auf Ihr Kommen und Ihre Mitwirkung!  \nProgramme für Konferenz + Thementage unter www.bodenseeakademie.at \nDazu kommen wiederum die der Konferenz vorgelagerten  \nThementage „Bildung\, Beratung\, Wissenstransfer“  \nBestehend aus: \n1.) am Mi 21.11.2018 von 8:30 bis ca. 19:30 UhrExkursion zur biol.-dyn. Landwirtschaftsschule mit Martin Ott und Betrieben der Stiftung Fintan – beide in Rheinau (bei Schaffhausen in der Schweiz) \nEine Top-Exkursion für multiplizierende Zielgruppen\, wie Lehrer- u. DirektorInnen von Landwirtschafts- und Berufsschulen\, Funktionäre und BeraterInnen von Interessensverbänden und Genossenschaften\, vermittelnde Bauern und Bäuerinnen\, Kammern\, JournalistInnen\, … \nsowie \n2.) am Do 22.11. von 8:30 bis 12:00 Uhr im Bildungshaus St. Arbogast Workshop zu ausgewählten Themen aus dem Bildungs- und Beratungsbereich  \nIn Zusammenarbeit mit: Hochschule für Agrar- und Umweltpädagogik Wien\, der österreichischen Expertenkonferenz des landwirtschaftlichen Bildungswesens und weiteren Partnern
URL:https://wirundjetzt.org/event/werte-schaffen-regionen-staerken/
CATEGORIES:Bio,Konferenz,Nachhaltigkeit,Ökologie,Vernetzungstreffen
ATTACH;FMTTYPE=image/jpeg:https://wirundjetzt.org/wp-content/uploads/2018/09/rosegros_h_gespiegelt.jpg
END:VEVENT
END:VCALENDAR