BEGIN:VCALENDAR
VERSION:2.0
PRODID:-//»wirundjetzt« - ECPv6.15.17.1//NONSGML v1.0//EN
CALSCALE:GREGORIAN
METHOD:PUBLISH
X-WR-CALNAME:»wirundjetzt«
X-ORIGINAL-URL:https://wirundjetzt.org
X-WR-CALDESC:Veranstaltungen für »wirundjetzt«
REFRESH-INTERVAL;VALUE=DURATION:PT1H
X-Robots-Tag:noindex
X-PUBLISHED-TTL:PT1H
BEGIN:VTIMEZONE
TZID:Europe/Berlin
BEGIN:DAYLIGHT
TZOFFSETFROM:+0100
TZOFFSETTO:+0200
TZNAME:CEST
DTSTART:20170326T010000
END:DAYLIGHT
BEGIN:STANDARD
TZOFFSETFROM:+0200
TZOFFSETTO:+0100
TZNAME:CET
DTSTART:20171029T010000
END:STANDARD
BEGIN:DAYLIGHT
TZOFFSETFROM:+0100
TZOFFSETTO:+0200
TZNAME:CEST
DTSTART:20180325T010000
END:DAYLIGHT
BEGIN:STANDARD
TZOFFSETFROM:+0200
TZOFFSETTO:+0100
TZNAME:CET
DTSTART:20181028T010000
END:STANDARD
BEGIN:DAYLIGHT
TZOFFSETFROM:+0100
TZOFFSETTO:+0200
TZNAME:CEST
DTSTART:20190331T010000
END:DAYLIGHT
BEGIN:STANDARD
TZOFFSETFROM:+0200
TZOFFSETTO:+0100
TZNAME:CET
DTSTART:20191027T010000
END:STANDARD
END:VTIMEZONE
BEGIN:VEVENT
DTSTART;TZID=Europe/Berlin:20180927T193000
DTEND;TZID=Europe/Berlin:20180927T230000
DTSTAMP:20260422T040131
CREATED:20180914T135639Z
LAST-MODIFIED:20180914T151154Z
UID:10000372-1538076600-1538089200@wirundjetzt.org
SUMMARY:Freies Barfuß-Tanzen für jung und alt
DESCRIPTION:„Happy Feet“ –\n\nEin Abend für und mit Tanz\, Lebensfreude und netten Menschen. DJ Djoala stellt euch wieder eine abwechslungsreiche\, musikalische Reise durch verschiedene Kulturen und Stilrichtungen zusammen. Die stimmungsvolle Mischung aus Rhythmus und Melodie lädt ein zum freien Bewegen abseits von Zwängen und Alltag. \nEine Veranstaltung von wirundjetzt e.V. in Zusammenarbeit mit DJ Djoala\nEintritt: 8 bis 12 € (nach eigenem Ermessen)\nKulturverein Wilhelmsdorf\, Zußdorfer Straße 47\,88271 Wilhelmsdorf \nhttp://www.kv-wilhelmsdorf.de/ \nTermine: 27.9.\, 18.10.\, 15.11. und 20.12. (jeden 3. Donnerstag im Monat)\nUhrzeit: 19:30 – 23:00 Uhr\n\n\n\n\n\n\n\n\n\n\n 
URL:https://wirundjetzt.org/event/freies-barfuss-tanzen-fuer-jung-und-alt/
LOCATION:Kulturverein Wilhelmsdorf\, Zußdorfer Straße 47\, 88271 Wilhelmsdorf
CATEGORIES:Fest,Tanzen,»wirundjetzt«-Veranstaltung
ATTACH;FMTTYPE=image/jpeg:https://wirundjetzt.org/wp-content/uploads/2018/09/Tanzen.jpg
GEO:47.8626694;9.4240694
X-APPLE-STRUCTURED-LOCATION;VALUE=URI;X-ADDRESS=Kulturverein Wilhelmsdorf Zußdorfer Straße 47 88271 Wilhelmsdorf;X-APPLE-RADIUS=500;X-TITLE=Zußdorfer Straße 47:geo:9.4240694,47.8626694
END:VEVENT
BEGIN:VEVENT
DTSTART;TZID=Europe/Berlin:20180927T200000
DTEND;TZID=Europe/Berlin:20180927T210000
DTSTAMP:20260422T040131
CREATED:20180914T143641Z
LAST-MODIFIED:20180914T143759Z
UID:10000384-1538078400-1538082000@wirundjetzt.org
SUMMARY:rework-abend mit Simon Neitzel
DESCRIPTION:„Wir sind die Menschen\, auf die wir gewartet haben.“ – Hopi Sprichwort \nAnlässlich der erfolgreichen Crowdunding-Aktion für ihren Dokumentarfilm „Unser Erbe“ stellt Simon Neitzel\, 1. Vorsitzender von wirundjetzt\, die Arbeit der Initiative und ihre nächsten Schritten im Rahmen der nun folgenden Kampagnenarbeit vor. \nWirundjetzt ist eine zivilgesellschaftliche Initiative\, die sich für eine zukunftsfähige Lebensweise einsetzt. Von regionalen Permakultur-\, Solawi- und Foodsharingprojekten\, bis hin zu in Eigenregie produzierten Dokumentarfilmen und Diskussionsabenden mit Vordenkern einer neuen Marktwirtschaft\, wie z.B. Christian Felber (Gemeinwohlökonomie) von der globalisierungskritischen NGO „Attac“\, findet sich eine breite Vielfalt von Projekten und Veranstaltungen in ihrem Portfolio wieder. \n\nWer schon immer mal über den Blasenrand der ZU in die Region hineinschauen wollte oder sich einfach für den Diskurs rund um das Thema Nachhaltigkeit interessiert ist herzlich eingeladen.\nWeiterhin sind besonders alle eingeladen\, die sich gerade nach Möglichkeiten umsehen\, durch ihr Engagement schon während der Studienzeit ihren Fußabdruck in der Gesellschaft von Morgen zu hinterlassen und Lust haben\, umfassende Eindrücke in die Kampagnenarbeit einer zivilgesellschaftlichen Initiative zu gewinnen und diese aktiv mitzugestalten. \nWeitere Infos findet ihr hier:\nhttps://www.startnext.com/unser-erbe\nhttps://wirundjetzt.org/
URL:https://wirundjetzt.org/event/erreichbar-oktober-2018-2/
CATEGORIES:Gesprächsrunde,Infoabend,Vernetzungstreffen,Vortrag
ATTACH;FMTTYPE=image/jpeg:https://wirundjetzt.org/wp-content/uploads/2018/09/rework.jpg
END:VEVENT
END:VCALENDAR