BEGIN:VCALENDAR
VERSION:2.0
PRODID:-//»wirundjetzt« - ECPv6.15.17.1//NONSGML v1.0//EN
CALSCALE:GREGORIAN
METHOD:PUBLISH
X-WR-CALNAME:»wirundjetzt«
X-ORIGINAL-URL:https://wirundjetzt.org
X-WR-CALDESC:Veranstaltungen für »wirundjetzt«
REFRESH-INTERVAL;VALUE=DURATION:PT1H
X-Robots-Tag:noindex
X-PUBLISHED-TTL:PT1H
BEGIN:VTIMEZONE
TZID:Europe/Berlin
BEGIN:DAYLIGHT
TZOFFSETFROM:+0100
TZOFFSETTO:+0200
TZNAME:CEST
DTSTART:20170326T010000
END:DAYLIGHT
BEGIN:STANDARD
TZOFFSETFROM:+0200
TZOFFSETTO:+0100
TZNAME:CET
DTSTART:20171029T010000
END:STANDARD
BEGIN:DAYLIGHT
TZOFFSETFROM:+0100
TZOFFSETTO:+0200
TZNAME:CEST
DTSTART:20180325T010000
END:DAYLIGHT
BEGIN:STANDARD
TZOFFSETFROM:+0200
TZOFFSETTO:+0100
TZNAME:CET
DTSTART:20181028T010000
END:STANDARD
BEGIN:DAYLIGHT
TZOFFSETFROM:+0100
TZOFFSETTO:+0200
TZNAME:CEST
DTSTART:20190331T010000
END:DAYLIGHT
BEGIN:STANDARD
TZOFFSETFROM:+0200
TZOFFSETTO:+0100
TZNAME:CET
DTSTART:20191027T010000
END:STANDARD
END:VTIMEZONE
BEGIN:VEVENT
DTSTART;VALUE=DATE:20180921
DTEND;VALUE=DATE:20180922
DTSTAMP:20260422T092326
CREATED:20180708T100324Z
LAST-MODIFIED:20180708T100720Z
UID:10000077-1537488000-1537574399@wirundjetzt.org
SUMMARY:Filme für die Erde Festival 2018
DESCRIPTION:Filme für die Erde Festival 2018\n\n\n\nFilme für die Erde Festival 2018\nFreitag\, 21. September : 1 Tag – 7 Filme – in 20 Städten\n\n\nin Konstanz\n\n Reise mit uns um die Welt. Tomaten fliegen um die Welt\, mutige Fotografen hinterher\, Vögel singen werden aber nicht mehr gehört und Flüsse fliessen\, finden aber nur noch selten den Weg ins Meer. Entdecke am achten Filme für die Erde Festival an einer der 20 Austragungen vor Ort\, was rund um die Welt passiert. Wir laden Dich ein zu sieben Filmen\, zu lokalen Ausstellungen\, damit Du anknüpften kannst und schenken Dir Filme\, sodass Du auch Freunde auf die Reise mitnehmen kannst.\nhttps://old.filmsfortheearth.org/events/filme-fuer-die-erde-festival-2018
URL:https://wirundjetzt.org/event/filme-fuer-die-erde-festival-2018/
CATEGORIES:Festival,Film,Kultur,Nachhaltigkeit,Ökologie
ATTACH;FMTTYPE=image/png:https://wirundjetzt.org/wp-content/uploads/2018/07/filme-für-die-erde.png
END:VEVENT
END:VCALENDAR