BEGIN:VCALENDAR
VERSION:2.0
PRODID:-//»wirundjetzt« - ECPv6.15.17.1//NONSGML v1.0//EN
CALSCALE:GREGORIAN
METHOD:PUBLISH
X-WR-CALNAME:»wirundjetzt«
X-ORIGINAL-URL:https://wirundjetzt.org
X-WR-CALDESC:Veranstaltungen für »wirundjetzt«
REFRESH-INTERVAL;VALUE=DURATION:PT1H
X-Robots-Tag:noindex
X-PUBLISHED-TTL:PT1H
BEGIN:VTIMEZONE
TZID:Europe/Berlin
BEGIN:DAYLIGHT
TZOFFSETFROM:+0100
TZOFFSETTO:+0200
TZNAME:CEST
DTSTART:20170326T010000
END:DAYLIGHT
BEGIN:STANDARD
TZOFFSETFROM:+0200
TZOFFSETTO:+0100
TZNAME:CET
DTSTART:20171029T010000
END:STANDARD
BEGIN:DAYLIGHT
TZOFFSETFROM:+0100
TZOFFSETTO:+0200
TZNAME:CEST
DTSTART:20180325T010000
END:DAYLIGHT
BEGIN:STANDARD
TZOFFSETFROM:+0200
TZOFFSETTO:+0100
TZNAME:CET
DTSTART:20181028T010000
END:STANDARD
BEGIN:DAYLIGHT
TZOFFSETFROM:+0100
TZOFFSETTO:+0200
TZNAME:CEST
DTSTART:20190331T010000
END:DAYLIGHT
BEGIN:STANDARD
TZOFFSETFROM:+0200
TZOFFSETTO:+0100
TZNAME:CET
DTSTART:20191027T010000
END:STANDARD
END:VTIMEZONE
BEGIN:VEVENT
DTSTART;TZID=Europe/Berlin:20180604T090000
DTEND;TZID=Europe/Berlin:20180608T170000
DTSTAMP:20260423T081007
CREATED:20180603T094556Z
LAST-MODIFIED:20180612T075218Z
UID:10000296-1528102800-1528477200@wirundjetzt.org
SUMMARY:Summer School für Energiewendegestalter*innen
DESCRIPTION:Summer School für Energiewendegestalter*innen\n\n\nSummer School für Energiewendegestalter*innen in der Bodenseeregion statt.Die Summer School ist eine Einladung an Promovierende\, Studierende\, Aktivist*innen\, zivilgesellschaftliche Akteure und Vertreter*innen aus Verwaltung und Politik einen gemeinsamen Lernraum zu gestalten.Lokales Erfahrungswissen aus der Praxis wird mit sozialwissenschaftlichen\, technischen und ökonomischen Wissensbeständen ausgetauscht und zu neuem Wissen verwoben. Die daraus entstehenden Perspektiven sollen direkt in der Praxis angewandt werden.Damit leistet die Summer School lokal einen Beitrag zu einer der drängendsten Herausforderung des 21. Jahrhunderts: Der Transformation von Energiekulturen in Richtung größerer Nachhaltigkeit.\n\n 
URL:https://wirundjetzt.org/event/summer-school-fuer-energiewendegestalterinnen/
CATEGORIES:Aktionen,Arbeitstreffen,Vernetzungstreffen
ATTACH;FMTTYPE=image/jpeg:https://wirundjetzt.org/wp-content/uploads/2018/06/energiewende-sommerschool.jpg
END:VEVENT
BEGIN:VEVENT
DTSTART;TZID=Europe/Berlin:20180608T143000
DTEND;TZID=Europe/Berlin:20180608T173000
DTSTAMP:20260423T081007
CREATED:20180603T093443Z
LAST-MODIFIED:20180603T093444Z
UID:10000290-1528468200-1528479000@wirundjetzt.org
SUMMARY:Energie.Wende.Punkt - Netzwerkveranstaltung
DESCRIPTION:Energie.Wende.Punkt | Netzwerkveranstaltung\n\nBitte wenden! Unter diesem Motto treffen am Freitagnachmittag nicht nur Pioniere aus der Bodenseeregion aufeinander\, die eines gemeinsam haben: die Energiewende voran bringen | Jetzt | Nicht Morgen. Energieverantwortung & Integration\, Ernährung & Landwirtschaft\, Energieautonomie & Bauen\, Digitalisierung\, dies sind nur einige Beispiele der drängenden Herausforderungen\, vor die uns die Energiewende stellt. Im Rahmen von Kurzvorträgen\, kleinen Diskussions- und Arbeitsgruppen soll ein gemeinsamer Aktionsraum geschaffen werden\, in dem viel Zeit für individuellen Austausch und Vernetzung bleibt. Die Netzwerkveranstaltung bildet den Abschluss der einwöchigen „Energie.Wende.Punkt. Summer School“\, die einen kontinuierlichen Dialog zu Themen der Energiewende in der Bodenseeregion anstoßen möchte. Interesse? Wir bieten unterschiedliche Teilnahmeformate\, für die Sie sich anmelden können: | „Ich möchte mein Energiewendeprojekt vor allen Teilnehmer|nnen kurz vorstellen“ First comes\, first serves hier haben wir nur eine begrenzte Anzahl von Plätzen.| „Ich möchte mich mit einem Stand o.ä. im Foyer vorstellen!“ hier gibt es schon mehr Möglichkeiten\, aber auch diese sind begrenzt.Bitte melden Sie sich hierfür unter sarah.glueck@zu.de an. | „Ich habe einfach Interesse und möchte mir das mal anschauen!“ Los geht´s einfach unter https://www.zu.de/veranstaltungen/2018/summer_school_vortrag2.php anmelden. Die Teilnehmerzahl ist begrenzt! \n  \n  \n  \n 
URL:https://wirundjetzt.org/event/tag-der-offenen-tuer-am-haslachhof-2/
CATEGORIES:Aktionen,Arbeitstreffen,Vernetzungstreffen
ATTACH;FMTTYPE=image/jpeg:https://wirundjetzt.org/wp-content/uploads/2018/06/bitte-wenden.jpg
END:VEVENT
BEGIN:VEVENT
DTSTART;TZID=Europe/Berlin:20180608T180000
DTEND;TZID=Europe/Berlin:20180610T180000
DTSTAMP:20260423T081007
CREATED:20180120T111540Z
LAST-MODIFIED:20180120T111618Z
UID:10000044-1528480800-1528653600@wirundjetzt.org
SUMMARY:Paranamadoula-Ausbildungswochenende
DESCRIPTION:Paranamadoula-Ausbildungswochenende \nMit Michel Odent\, geb. 1930\, weltweit bekannter Autor und langjähriger Geburtsmediziner\, engagiert sich seit Jahrzehnten für eine natürliche sanfte Geburt\, und Liliana Lammers\, langjährige Doula. \nEine Doula ist eine Geburtsbegleiterin\, die vor\, während und nach der Geburt eines Kindes eine mütterliche Rolle übernimmt und für die gebährende Frau ganz da ist. In diesem Ausbildungsworkshop geht es um die Umgebung\, die für gebährende Frauen vorteilhaft ist\, erste Hilfe\, Rolle des Vaters und Einsatzmöglichkeiten einer Doula. \nFür alle Frauen\, die sich zum Thema Geburt hingezogen fühlen und die diese elementare Erfahrung für Baby und Mutter unterstützen wollen. \nTermin: 8.-10. Juni 2018 \nKosten: 380€ plus U/VP \nwww.paranamadoula.com \nHaslachhof 1\, 88693 Deggenhausertalwww.gemeinschaft-haslachhof.deInfos und Anmeldung: katharina.philipp@wirundjetzt.org \n  \n  \n 
URL:https://wirundjetzt.org/event/paranamadoula-ausbildungswochenende/
LOCATION:Haslachhof\, Haslachhof 1\, Deggenhausertal\, Baden-Württemberg\, 88693\, Deutschland
CATEGORIES:Seminar
ATTACH;FMTTYPE=image/jpeg:https://wirundjetzt.org/wp-content/uploads/2017/06/20141017_Vogelschwarm-am-Weiher_001.jpg
ORGANIZER;CN="Haslachhof":MAILTO: joachim.lang@gmx.de
GEO:47.7779168;9.4083337
X-APPLE-STRUCTURED-LOCATION;VALUE=URI;X-ADDRESS=Haslachhof Haslachhof 1 Deggenhausertal Baden-Württemberg 88693 Deutschland;X-APPLE-RADIUS=500;X-TITLE=Haslachhof 1:geo:9.4083337,47.7779168
END:VEVENT
END:VCALENDAR