BEGIN:VCALENDAR
VERSION:2.0
PRODID:-//»wirundjetzt« - ECPv6.15.17.1//NONSGML v1.0//EN
CALSCALE:GREGORIAN
METHOD:PUBLISH
X-ORIGINAL-URL:https://wirundjetzt.org
X-WR-CALDESC:Veranstaltungen für »wirundjetzt«
REFRESH-INTERVAL;VALUE=DURATION:PT1H
X-Robots-Tag:noindex
X-PUBLISHED-TTL:PT1H
BEGIN:VTIMEZONE
TZID:Europe/Berlin
BEGIN:DAYLIGHT
TZOFFSETFROM:+0100
TZOFFSETTO:+0200
TZNAME:CEST
DTSTART:20170326T010000
END:DAYLIGHT
BEGIN:STANDARD
TZOFFSETFROM:+0200
TZOFFSETTO:+0100
TZNAME:CET
DTSTART:20171029T010000
END:STANDARD
BEGIN:DAYLIGHT
TZOFFSETFROM:+0100
TZOFFSETTO:+0200
TZNAME:CEST
DTSTART:20180325T010000
END:DAYLIGHT
BEGIN:STANDARD
TZOFFSETFROM:+0200
TZOFFSETTO:+0100
TZNAME:CET
DTSTART:20181028T010000
END:STANDARD
BEGIN:DAYLIGHT
TZOFFSETFROM:+0100
TZOFFSETTO:+0200
TZNAME:CEST
DTSTART:20190331T010000
END:DAYLIGHT
BEGIN:STANDARD
TZOFFSETFROM:+0200
TZOFFSETTO:+0100
TZNAME:CET
DTSTART:20191027T010000
END:STANDARD
END:VTIMEZONE
BEGIN:VEVENT
DTSTART;TZID=Europe/Berlin:20180503T193000
DTEND;TZID=Europe/Berlin:20180503T193000
DTSTAMP:20260423T092702
CREATED:20180502T132005Z
LAST-MODIFIED:20180502T182224Z
UID:10000272-1525375800-1525375800@wirundjetzt.org
SUMMARY:Die Gemeinwohl- Ökonomie & wie wir partizipieren können
DESCRIPTION:Die Gemeinwohl- Ökonomie & wie wir partizipieren können\n\nEin Vortrag mit Simon Neitzel (1. Vorstand und Initiator von wirundjetzt e.V.; Jahrgang 1978) \nWir leben in einer komplexen Welt\, die immer schneller und undurchdringlicher wird. Kaum einer versteht das Finanzsystem geschweige denn die globalen Finanzblasen\, Wirtschaftskreisläufe oder gar die weltweiten Zusammenhänge! Was aber können wir tun? Was ist unsere Verantwortung und unser Beitrag? Was für Möglichkeiten haben wir und wie und mit wem können wir diese Ideen teilen? Wohin führt das wenn wir so weiter machen wie bisher?Und wem ist das Gefühl von Ohnmacht nicht ganz unbekannt? Da kann ich doch alleine eh nichts ändern? Das war schon immer so und da wird sich auch nichts dran ändern! Und außerdem habe ich dafür doch gar keine Zeit? Das kann ich mir doch gar nicht leisten! Diese Gedanken und Situationen sind nicht ganz unbekannt. Natürlich hat hier jeder Mensch seine eigenen Erfahrungen und Vorstellungen und auch Bedürfnisse zu erfüllen und anzuschauen. Mit diesen Ressourcen kann sich jedeR in die Gesellschaft einbringen. \nSimon Neitzel wird diese Fragen stellen und anhand von wirundjetzt e.V. zeigen wie das Gemeinwohl und die Ökonomie zueinander passen und sich gegenseitig bedingen. Dieser scheinbare Konflikt geht uns alle an und wir alle können dazu beitragen\, indem wir wieder in Kooperation zusammen arbeiten und gemeinsam an Lösungen interessiert sind\, die allen dienen.Im Besonderen wird Simon Neitzel auf die Bewegung der Gemeinwohl-Ökonomie eingehen und aufzeigen\, wie der Weg der Kooperation auch im Wirtschaftsleben möglich ist. \nEintritt: 5\,-€ \nMehr Infos jetzt im Veranstaltungsflyer ansehen \n  \n  \n 
URL:https://wirundjetzt.org/event/die-gemeinwohl-oekonomie-wie-wir-partizipieren-koennen/
CATEGORIES:Nachhaltigkeit,Vortrag
ATTACH;FMTTYPE=image/png:https://wirundjetzt.org/wp-content/uploads/2018/05/jkjp-e1525284324588.png
END:VEVENT
END:VCALENDAR