BEGIN:VCALENDAR
VERSION:2.0
PRODID:-//»wirundjetzt« - ECPv6.15.17.1//NONSGML v1.0//EN
CALSCALE:GREGORIAN
METHOD:PUBLISH
X-ORIGINAL-URL:https://wirundjetzt.org
X-WR-CALDESC:Veranstaltungen für »wirundjetzt«
REFRESH-INTERVAL;VALUE=DURATION:PT1H
X-Robots-Tag:noindex
X-PUBLISHED-TTL:PT1H
BEGIN:VTIMEZONE
TZID:Europe/Berlin
BEGIN:DAYLIGHT
TZOFFSETFROM:+0100
TZOFFSETTO:+0200
TZNAME:CEST
DTSTART:20170326T010000
END:DAYLIGHT
BEGIN:STANDARD
TZOFFSETFROM:+0200
TZOFFSETTO:+0100
TZNAME:CET
DTSTART:20171029T010000
END:STANDARD
BEGIN:DAYLIGHT
TZOFFSETFROM:+0100
TZOFFSETTO:+0200
TZNAME:CEST
DTSTART:20180325T010000
END:DAYLIGHT
BEGIN:STANDARD
TZOFFSETFROM:+0200
TZOFFSETTO:+0100
TZNAME:CET
DTSTART:20181028T010000
END:STANDARD
BEGIN:DAYLIGHT
TZOFFSETFROM:+0100
TZOFFSETTO:+0200
TZNAME:CEST
DTSTART:20190331T010000
END:DAYLIGHT
BEGIN:STANDARD
TZOFFSETFROM:+0200
TZOFFSETTO:+0100
TZNAME:CET
DTSTART:20191027T010000
END:STANDARD
END:VTIMEZONE
BEGIN:VEVENT
DTSTART;TZID=Europe/Berlin:20180323T140000
DTEND;TZID=Europe/Berlin:20180325T140000
DTSTAMP:20260424T014927
CREATED:20180120T152047Z
LAST-MODIFIED:20180120T152047Z
UID:10000050-1521813600-1521986400@wirundjetzt.org
SUMMARY:Landbau-Partie am Haslachhof
DESCRIPTION:Landbau-Parties: Gemeinsam werkeln\, feiern\, musizieren\, Pizza essen und Gemeinschaft auf Zeit leben. \nWir arbeiten in unserem Selbstversorgergarten\, tauschen uns aus und lernen uns kennen. \nTermine: 23.-25. März 2018 \n13.-14. Oktober 2018 \nHaslachhof 1\, 88693 Deggenhausertalwww.gemeinschaft-haslachhof.deInfos: katharina.philipp@wirundjetzt.org \n  \n  \n 
URL:https://wirundjetzt.org/event/landbau-partie/
LOCATION:Haslachhof\, Haslachhof 1\, Deggenhausertal\, Baden-Württemberg\, 88693\, Deutschland
CATEGORIES:Aktionen,gemeinschaft,Ökologie
ATTACH;FMTTYPE=image/jpeg:https://wirundjetzt.org/wp-content/uploads/2017/06/20141017_Vogelschwarm-am-Weiher_001.jpg
ORGANIZER;CN="Haslachhof":MAILTO: joachim.lang@gmx.de
GEO:47.7779168;9.4083337
X-APPLE-STRUCTURED-LOCATION;VALUE=URI;X-ADDRESS=Haslachhof Haslachhof 1 Deggenhausertal Baden-Württemberg 88693 Deutschland;X-APPLE-RADIUS=500;X-TITLE=Haslachhof 1:geo:9.4083337,47.7779168
END:VEVENT
BEGIN:VEVENT
DTSTART;TZID=Europe/Berlin:20180323T193000
DTEND;TZID=Europe/Berlin:20180323T193000
DTSTAMP:20260424T014927
CREATED:20180309T195613Z
LAST-MODIFIED:20180310T122810Z
UID:10000534-1521833400-1521833400@wirundjetzt.org
SUMMARY:Satt und gewickelt – warum weint mein Baby immer noch?
DESCRIPTION:Osteopathie bei Säuglingen und Kleinkindern – Die Körpersprache des Säuglings erforschen.\n\nWer kennt sie nicht\, die quälende Ratlosigkeit angesichts des geliebten Babys\, das einfach keine Ruhe findet? Alles ist getan\, die Eltern sind am Rand der Erschöpfung\, die allgemeine Anspannung in der Familie steigt und keine Lösung ist in Sicht… \nAls Ärztin und Osteopathin arbeitet Sabine Hofmann seit vielen Jahren mit jungen Familien. Die strukturelle Korrektur von Fehlstellungen\, Spannungen oder Fehlfunktionen ist Bestandteil der Behandlung von Säuglingen. Gleichzeitig schwingt auch immer die Erinnerung an die Geburt mit – und da gibt es so oft noch etwas zu beweinen. \nIn ihrem Vortrag erläutert sie Möglichkeiten\, gemeinsam das Erleben der Geburt zu verstehen und die Ratlosigkeit in liebevolle Unterstützung zu verwandeln. \nEinladung \nDie Teilnahme ist Kostenlos. \nAus organisatorischen Gründen bitten wir um Anmeldung \n  \n 
URL:https://wirundjetzt.org/event/satt-und-gewickelt-warum-weint-mein-baby-immer-noch/
CATEGORIES:Gesprächsrunde,Vortrag
END:VEVENT
END:VCALENDAR