BEGIN:VCALENDAR
VERSION:2.0
PRODID:-//»wirundjetzt« - ECPv6.15.17.1//NONSGML v1.0//EN
CALSCALE:GREGORIAN
METHOD:PUBLISH
X-ORIGINAL-URL:https://wirundjetzt.org
X-WR-CALDESC:Veranstaltungen für »wirundjetzt«
REFRESH-INTERVAL;VALUE=DURATION:PT1H
X-Robots-Tag:noindex
X-PUBLISHED-TTL:PT1H
BEGIN:VTIMEZONE
TZID:Europe/Berlin
BEGIN:DAYLIGHT
TZOFFSETFROM:+0100
TZOFFSETTO:+0200
TZNAME:CEST
DTSTART:20170326T010000
END:DAYLIGHT
BEGIN:STANDARD
TZOFFSETFROM:+0200
TZOFFSETTO:+0100
TZNAME:CET
DTSTART:20171029T010000
END:STANDARD
BEGIN:DAYLIGHT
TZOFFSETFROM:+0100
TZOFFSETTO:+0200
TZNAME:CEST
DTSTART:20180325T010000
END:DAYLIGHT
BEGIN:STANDARD
TZOFFSETFROM:+0200
TZOFFSETTO:+0100
TZNAME:CET
DTSTART:20181028T010000
END:STANDARD
BEGIN:DAYLIGHT
TZOFFSETFROM:+0100
TZOFFSETTO:+0200
TZNAME:CEST
DTSTART:20190331T010000
END:DAYLIGHT
BEGIN:STANDARD
TZOFFSETFROM:+0200
TZOFFSETTO:+0100
TZNAME:CET
DTSTART:20191027T010000
END:STANDARD
END:VTIMEZONE
BEGIN:VEVENT
DTSTART;TZID=Europe/Berlin:20180319T103000
DTEND;TZID=Europe/Berlin:20180319T183000
DTSTAMP:20260424T014927
CREATED:20180211T133012Z
LAST-MODIFIED:20180311T084329Z
UID:10000238-1521455400-1521484200@wirundjetzt.org
SUMMARY:Fachtagung Transition Town Initiativen auf Kurzen Wegen zum Klimaschutz  - Frankfurt
DESCRIPTION:Transition Town Initiativen auf Kurzen Wegen zum Klimaschutz\n\nIn unseren Städten veranlassen überhastetes Leben\, überlastete Straßen und feinverstaubte Luft zu einem engagierten Handeln. Doch die wohl kommende GroKo hat ihren ersten Konsens darin gesehen\, die Klimaschutzziele aufzuweichen. Wie können trotzdem Konsum und Verkehr reduziert und gleichzeitig die Lebensqualität erhöht werden? Es sind die Kommunen\, in denen neue Masterpläne mit Suffizienzstrategien entstehen und in denen engagierte Bürgerinnen und Bürger in Transition Town Initiativen deutschlandweit wegbereitende Projekte entwickeln. Hier werden neue Wege zur nachhaltigen Entwicklung aufgezeigt! \nEingeladen sind Vertreterinnen und Vertreter kommunaler Verwaltungen und Transition Town Initiativen aus ganz Deutschland. Die Veranstaltung richtet sich besonders an Transition Initiativen (und deren Kommunen)\, die bereits einen Förderantrag im Rahmen der Förderinitiative „Kurze Wege für den Klimaschutz“ gestellt haben oder im Mai/Juni 2018 einen Antrag einreichen möchten. \nInhalte und Ziele:Was bedeutet kommunale Suffizienz? Welche Erfahrungen wurden bisher mit dem Förderprogramm „Kurze Wege für den Klimaschutz“ gemacht? Welche Konzepte wurden entwickelt\, welche Kooperationen geschlossen und welche Schwierigkeiten überwunden? Welche Lehren können aus den bereits bewilligten oder abgelehnten Förderanträgen gezogen werden?Können wir ein lernendes Netzwerk etablieren? Sie haben Gelegenheit\, sich zu informieren\, von guten Beispielen zu lernen und sich auszutauschen und zu vernetzen.Die Teilnahme an der Veranstaltung ist kostenfrei. Wir bitten Sie jedoch für das Mittagessen im Familienrestaurant des Mehrgenerationenhauses selbst aufzukommen. Damit wir besser planen können und da die Teilnehmerzahl begrenzt ist\, ist eine schriftliche Anmeldung bis 02.03.2018 erwünscht. \nProgramm10.30 Uhr BEGRÜSSUNGSKAFFEE UND AKKREDITIERUNG11.00 Uhr BEGRÜSSUNGImke Eichelberg (Transition Town Frankfurt)\, Dr. Thomas Köhler (Transition Netzwerk)Jessica Wiegand (Mehrgenerationenhaus KIZ Gallus)Rosemarie Heilig (Stadt Frankfurt am Main)11.20 Uhr KEY NOTE– Kommunale Suffizienstrategien für einen Klimaschutz der Kurzen WegeMatthias Wanner (Wuppertal Institut)\, Dr. Thomas Köhler (Transition Netzwerk)\,Imke Eichelberg (Heddernheim im Wandel)12:00 Uhr WORLD CAFÉ KOMMUNALE SUFFIZIENZ– Vision des guten Lebens: Was ist urbane Suffizienz?– Kommunale Suffizienz: Welche Good-Practice Projekte gibt es?– Kooperation zwischen Transition Town Initiativen und Kommunen: Welche Formengibt es?– Finanzierung von Vorhaben: Welche Fördermittel gibt es?13:00 UhrMITTAGSPAUSE– Mittagessen im Familienrestaurant des Mehrgenerationenhauses– Führung durch den Gallus Garten14:30 Uhr OPEN SPACE WORKSHOPS I– Vertiefung inhaltlicher\, organisatorischer und administrativer Fragenzu gelingenden Kooperationen für kommunale Suffzizienzstrategien– Bearbeitung konkreter Anliegen aus der TeilnehmerInnengruppe15:30 Uhr KAFFEEPAUSE16:00 Uhr OPEN SPACE WORKSHOPS II– Fortsetzung und Vorstellung der Ergebnisse17:30 Uhr KOMMUNALE SUFFIZIENZSTRATEGIEN – WIE GEHT ES WEITER?18:00 Uhr ENDE DER FACHTAGUNGAuf Wunsch gemeinsames Abendessen in einem lokalen Restaurant
URL:https://wirundjetzt.org/event/fachtagung-transition-town-initiativen-auf-kurzen-wegen-zum-klimaschutz/
CATEGORIES:Arbeitstreffen,Gesprächsrunde,Nachhaltigkeit,Tagung,Transition,Vernetzungstreffen,Vortrag,Workshop
ATTACH;FMTTYPE=image/jpeg:https://wirundjetzt.org/wp-content/uploads/2018/02/27540411_1679679545421735_8640565716312055029_n.jpg
END:VEVENT
BEGIN:VEVENT
DTSTART;TZID=Europe/Berlin:20180319T190000
DTEND;TZID=Europe/Berlin:20180319T190000
DTSTAMP:20260424T014927
CREATED:20180221T212235Z
LAST-MODIFIED:20180221T212235Z
UID:10000064-1521486000-1521486000@wirundjetzt.org
SUMMARY:Themenabend Stadtbegrünung
DESCRIPTION:Themenabend Stadtbegrünung\n\nVerstädterung und Natur \nAuch wenn wir hier im süddeutschen Raum denken\, daß wir „ländlich“ wohnen\, hat sich das in den letzten 50 Jahren dramatisch verändert. Wo einst Streuobstwiesen und Sonnenblumenfeldern waren\, schießen immer mehr Gewerbe- und Wohngebiete aus dem Boden. Diese Präsentation befaßt sich mit den Auswirkungen der Verstädterung für Mensch und Natur. Außerdem werden Maßnahmen gezeigt wie man der zunehmenden Flächenversiegelung entgegentreten kann um unser aller Lebensraum nicht vollständig zu zerstören. \nAstrid Hammwww.stadtverzweigungen.de \n  \n 
URL:https://wirundjetzt.org/event/themenabend-stadtbegruenung/
CATEGORIES:Festival,Kultur,Nachhaltigkeit,Ökologie,Vortrag
ATTACH;FMTTYPE=image/jpeg:https://wirundjetzt.org/wp-content/uploads/2018/02/kinderferien-1200x423.jpg
END:VEVENT
END:VCALENDAR