BEGIN:VCALENDAR
VERSION:2.0
PRODID:-//»wirundjetzt« - ECPv6.15.17.1//NONSGML v1.0//EN
CALSCALE:GREGORIAN
METHOD:PUBLISH
X-WR-CALNAME:»wirundjetzt«
X-ORIGINAL-URL:https://wirundjetzt.org
X-WR-CALDESC:Veranstaltungen für »wirundjetzt«
REFRESH-INTERVAL;VALUE=DURATION:PT1H
X-Robots-Tag:noindex
X-PUBLISHED-TTL:PT1H
BEGIN:VTIMEZONE
TZID:Europe/Berlin
BEGIN:DAYLIGHT
TZOFFSETFROM:+0100
TZOFFSETTO:+0200
TZNAME:CEST
DTSTART:20170326T010000
END:DAYLIGHT
BEGIN:STANDARD
TZOFFSETFROM:+0200
TZOFFSETTO:+0100
TZNAME:CET
DTSTART:20171029T010000
END:STANDARD
BEGIN:DAYLIGHT
TZOFFSETFROM:+0100
TZOFFSETTO:+0200
TZNAME:CEST
DTSTART:20180325T010000
END:DAYLIGHT
BEGIN:STANDARD
TZOFFSETFROM:+0200
TZOFFSETTO:+0100
TZNAME:CET
DTSTART:20181028T010000
END:STANDARD
BEGIN:DAYLIGHT
TZOFFSETFROM:+0100
TZOFFSETTO:+0200
TZNAME:CEST
DTSTART:20190331T010000
END:DAYLIGHT
BEGIN:STANDARD
TZOFFSETFROM:+0200
TZOFFSETTO:+0100
TZNAME:CET
DTSTART:20191027T010000
END:STANDARD
END:VTIMEZONE
BEGIN:VEVENT
DTSTART;TZID=Europe/Berlin:20180313T180000
DTEND;TZID=Europe/Berlin:20180313T180000
DTSTAMP:20260424T014938
CREATED:20180306T091543Z
LAST-MODIFIED:20180311T082557Z
UID:10000067-1520964000-1520964000@wirundjetzt.org
SUMMARY:Free Lunch Society - Film schauen und diskutieren-  Stadthalle Balingen
DESCRIPTION:Das bedingungslose Grundeinkommen  –  Grüne im Kreis zeigen den neuen Film „FREE LUNCH SOCIETY“\n\nWas würden Sie tun\, wenn für Ihren Lebensunterhalt gesorgt wäre? Das Bedingungslose Grundeinkommen galt vor wenigen Jahren noch als Hirngespinst. Heute ist diese Utopie denkbarer denn je – intensiv diskutiert in allen politischen und wissenschaftlichen Lagern. \nBÜNDNIS 90/DIE GRÜNEN zeigt am Dienstag\, den 13. März um 18 Uhr in der Stadthalle Balingen den Film „Free Lunch Society“. Anschließend kann ab etwa 20 Uhr mit dem Ökonom Stefan Mekiffer\, der mit seinem Buch „Warum eigentlich genug Geld für alle da ist“ für einiges Aufsehen gesorgt hat\, über die Thematik diskutiert werden. \nIn der am 1. Februar in den Kinos gestarteten Dokumentation „Free Lunch Society“ beschäftigt sich Filmemacher Christian Tod mit den Möglichkeiten und Hintergründen des Bedingungslosen Grundeinkommens. Christian Tod spricht mit Vertretern aus Politik\, Wissenschaft und Wirtschaft über die Gründe für das Zerbrechen der Mittelschicht und mögliche Lösungsansätze – eben auch das Grundeinkommen\, dessen Idee er rund um den Globus nachspürt. \nMit diesem Film und der Diskussion dazu möchte der Kreisverband von BÜNDNIS 90/DIE GRÜNEN visionäre Zukunftsthemen in die öffentliche Diskussion rücken und stellt dabei die Grundfrage an unsere Gesellschaft\, wie soll unser Zusammenleben zukünftig aussehen. \nDie Veranstaltung findet im Konferenzraum 3 der Balinger Stadthalle statt\, ist kostenlos und öffentlich. Alle interessierten Bürgerinnen und Bürger sind herzlich eingeladen. \n\n\n\nhttps://www.youtube.com/watch?v=dG_TjlEs4us\n\n\n\nDer Film:\nWas würdest Du tun\, wenn für Deinen Lebensunterhalt gesorgt wäre? Das Bedingungslose Grundeinkommen galt vor wenigen Jahren noch als Hirngespinst. Heute ist diese Utopie denkbarer denn je – intensiv diskutiert in allen politischen und wissenschaftlichen Lagern. FREE LUNCH SOCIETY vermittelt Hintergrundwissen zu dieser Idee und sucht nach Erklärungen\, Möglichkeiten und Erfahrungen zu ihrer Umsetzung. Der Film nimmt uns mit auf eine große Reise\, und zeigt uns\, was das selbstfahrende Auto mit den Ideen eines deutschen Milliardärs und einer Schweizer Volksinitiative zu tun hat. FREE LUNCH SOCIETY\, als weltweit erster Kinofilm über das Grundeinkommen\, widmet sich einer der entscheidendsten Fragen unserer Zeit. +info: http://www.freelunchsociety.net/ \n 
URL:https://wirundjetzt.org/event/free-lunch-society-film-schauen-und-diskutieren/
CATEGORIES:Aktionen,Film,Gesprächsrunde,Kultur
ATTACH;FMTTYPE=image/jpeg:https://wirundjetzt.org/wp-content/uploads/2018/01/25552413_1781027268638559_5604626680812907475_n-e1516738537480.jpg
END:VEVENT
END:VCALENDAR